Workbook

Sheet Summary
A1: Self Storage Unit Size Change Tracker Summary
A2: ="Calculated from Requests as of "&TEXT(TODAY(),"mm/dd/yyyy")
A4: Total requests | B4: =COUNTIF(Requests!$A$4:$A$123,"<>") | D4: Open requests | E4: =COUNTIFS(Requests!$A$4:$A$123,"<>",Requests!$N$4:$N$123,"<>Completed",Requests!$N$4:$N$123,"<>Canceled") | G4: Completed requests | H4: =COUNTIF(Requests!$N$4:$N$123,"Completed")
A6: Upgrade requests | B6: =COUNTIF(Requests!$H$4:$H$123,"Upgrade") | D6: Downgrade requests | E6: =COUNTIF(Requests!$H$4:$H$123,"Downgrade") | G6: Past-due active requests | H6: =COUNTIFS(Requests!$A$4:$A$123,"<>",Requests!$O$4:$O$123,"<>",Requests!$O$4:$O$123,"<"&TODAY(),Requests!$N$4:$N$123,"<>Completed",Requests!$N$4:$N$123,"<>Canceled")
A8: Average completed wait | B8: =IFERROR(AVERAGEIF(Requests!$N$4:$N$123,"Completed",Requests!$Q$4:$Q$123),"") | D8: Completed monthly revenue change | E8: =IF(COUNTIF(Requests!$N$4:$N$123,"Completed")=0,"",SUMIF(Requests!$N$4:$N$123,"Completed",Requests!$K$4:$K$123)) | G8: Completed within target | H8: =IF(Assumptions!$B$4="","",IFERROR(COUNTIFS(Requests!$N$4:$N$123,"Completed",Requests!$Q$4:$Q$123,"<="&Assumptions!$B$4)/COUNTIF(Requests!$N$4:$N$123,"Completed"),""))
A10: Active requested revenue change | B10: =IF(E4=0,"",SUMIFS(Requests!$K$4:$K$123,Requests!$A$4:$A$123,"<>",Requests!$N$4:$N$123,"<>Completed",Requests!$N$4:$N$123,"<>Canceled")) | D10: Due in upcoming window | E10: =IF(Assumptions!$B$6="","",COUNTIFS(Requests!$A$4:$A$123,"<>",Requests!$O$4:$O$123,">="&TODAY(),Requests!$O$4:$O$123,"<="&TODAY()+Assumptions!$B$6,Requests!$N$4:$N$123,"<>Completed",Requests!$N$4:$N$123,"<>Canceled")) | G10: No-size-change reviews | H10: =COUNTIF(Requests!$H$4:$H$123,"No size change")
A13: Original Size | B13: Requests | C13: Completed | D13: Completed Revenue Change | F13: Reason | G13: Requests | H13: Average Wait | I13: Revenue Change
A14: =IF(Assumptions!H4="","",Assumptions!H4) | B14: =IF($A14="","",COUNTIFS(Requests!$A$4:$A$123,"<>",Requests!$F$4:$F$123,$A14)) | C14: =IF($A14="","",COUNTIFS(Requests!$F$4:$F$123,$A14,Requests!$N$4:$N$123,"Completed")) | D14: =IF($A14="","",IF($C14=0,"",SUMIFS(Requests!$K$4:$K$123,Requests!$F$4:$F$123,$A14,Requests!$N$4:$N$123,"Completed"))) | F14: =IF(Assumptions!F4="","",Assumptions!F4) | G14: =IF($F14="","",COUNTIFS(Requests!$A$4:$A$123,"<>",Requests!$L$4:$L$123,$F14)) | H14: =IF($F14="","",IFERROR(AVERAGEIF(Requests!$L$4:$L$123,$F14,Requests!$Q$4:$Q$123),"")) | I14: =IF($F14="","",IF($G14=0,"",SUMIF(Requests!$L$4:$L$123,$F14,Requests!$K$4:$K$123)))
A15: =IF(Assumptions!H5="","",Assumptions!H5) | B15: =IF($A15="","",COUNTIFS(Requests!$A$4:$A$123,"<>",Requests!$F$4:$F$123,$A15)) | C15: =IF($A15="","",COUNTIFS(Requests!$F$4:$F$123,$A15,Requests!$N$4:$N$123,"Completed")) | D15: =IF($A15="","",IF($C15=0,"",SUMIFS(Requests!$K$4:$K$123,Requests!$F$4:$F$123,$A15,Requests!$N$4:$N$123,"Completed"))) | F15: =IF(Assumptions!F5="","",Assumptions!F5) | G15: =IF($F15="","",COUNTIFS(Requests!$A$4:$A$123,"<>",Requests!$L$4:$L$123,$F15)) | H15: =IF($F15="","",IFERROR(AVERAGEIF(Requests!$L$4:$L$123,$F15,Requests!$Q$4:$Q$123),"")) | I15: =IF($F15="","",IF($G15=0,"",SUMIF(Requests!$L$4:$L$123,$F15,Requests!$K$4:$K$123)))
A16: =IF(Assumptions!H6="","",Assumptions!H6) | B16: =IF($A16="","",COUNTIFS(Requests!$A$4:$A$123,"<>",Requests!$F$4:$F$123,$A16)) | C16: =IF($A16="","",COUNTIFS(Requests!$F$4:$F$123,$A16,Requests!$N$4:$N$123,"Completed")) | D16: =IF($A16="","",IF($C16=0,"",SUMIFS(Requests!$K$4:$K$123,Requests!$F$4:$F$123,$A16,Requests!$N$4:$N$123,"Completed"))) | F16: =IF(Assumptions!F6="","",Assumptions!F6) | G16: =IF($F16="","",COUNTIFS(Requests!$A$4:$A$123,"<>",Requests!$L$4:$L$123,$F16)) | H16: =IF($F16="","",IFERROR(AVERAGEIF(Requests!$L$4:$L$123,$F16,Requests!$Q$4:$Q$123),"")) | I16: =IF($F16="","",IF($G16=0,"",SUMIF(Requests!$L$4:$L$123,$F16,Requests!$K$4:$K$123)))
A17: =IF(Assumptions!H7="","",Assumptions!H7) | B17: =IF($A17="","",COUNTIFS(Requests!$A$4:$A$123,"<>",Requests!$F$4:$F$123,$A17)) | C17: =IF($A17="","",COUNTIFS(Requests!$F$4:$F$123,$A17,Requests!$N$4:$N$123,"Completed")) | D17: =IF($A17="","",IF($C17=0,"",SUMIFS(Requests!$K$4:$K$123,Requests!$F$4:$F$123,$A17,Requests!$N$4:$N$123,"Completed"))) | F17: =IF(Assumptions!F7="","",Assumptions!F7) | G17: =IF($F17="","",COUNTIFS(Requests!$A$4:$A$123,"<>",Requests!$L$4:$L$123,$F17)) | H17: =IF($F17="","",IFERROR(AVERAGEIF(Requests!$L$4:$L$123,$F17,Requests!$Q$4:$Q$123),"")) | I17: =IF($F17="","",IF($G17=0,"",SUMIF(Requests!$L$4:$L$123,$F17,Requests!$K$4:$K$123)))
A18: =IF(Assumptions!H8="","",Assumptions!H8) | B18: =IF($A18="","",COUNTIFS(Requests!$A$4:$A$123,"<>",Requests!$F$4:$F$123,$A18)) | C18: =IF($A18="","",COUNTIFS(Requests!$F$4:$F$123,$A18,Requests!$N$4:$N$123,"Completed")) | D18: =IF($A18="","",IF($C18=0,"",SUMIFS(Requests!$K$4:$K$123,Requests!$F$4:$F$123,$A18,Requests!$N$4:$N$123,"Completed"))) | F18: =IF(Assumptions!F8="","",Assumptions!F8) | G18: =IF($F18="","",COUNTIFS(Requests!$A$4:$A$123,"<>",Requests!$L$4:$L$123,$F18)) | H18: =IF($F18="","",IFERROR(AVERAGEIF(Requests!$L$4:$L$123,$F18,Requests!$Q$4:$Q$123),"")) | I18: =IF($F18="","",IF($G18=0,"",SUMIF(Requests!$L$4:$L$123,$F18,Requests!$K$4:$K$123)))
A19: =IF(Assumptions!H9="","",Assumptions!H9) | B19: =IF($A19="","",COUNTIFS(Requests!$A$4:$A$123,"<>",Requests!$F$4:$F$123,$A19)) | C19: =IF($A19="","",COUNTIFS(Requests!$F$4:$F$123,$A19,Requests!$N$4:$N$123,"Completed")) | D19: =IF($A19="","",IF($C19=0,"",SUMIFS(Requests!$K$4:$K$123,Requests!$F$4:$F$123,$A19,Requests!$N$4:$N$123,"Completed"))) | F19: =IF(Assumptions!F9="","",Assumptions!F9) | G19: =IF($F19="","",COUNTIFS(Requests!$A$4:$A$123,"<>",Requests!$L$4:$L$123,$F19)) | H19: =IF($F19="","",IFERROR(AVERAGEIF(Requests!$L$4:$L$123,$F19,Requests!$Q$4:$Q$123),"")) | I19: =IF($F19="","",IF($G19=0,"",SUMIF(Requests!$L$4:$L$123,$F19,Requests!$K$4:$K$123)))
A20: =IF(Assumptions!H10="","",Assumptions!H10) | B20: =IF($A20="","",COUNTIFS(Requests!$A$4:$A$123,"<>",Requests!$F$4:$F$123,$A20)) | C20: =IF($A20="","",COUNTIFS(Requests!$F$4:$F$123,$A20,Requests!$N$4:$N$123,"Completed")) | D20: =IF($A20="","",IF($C20=0,"",SUMIFS(Requests!$K$4:$K$123,Requests!$F$4:$F$123,$A20,Requests!$N$4:$N$123,"Completed"))) | F20: =IF(Assumptions!F10="","",Assumptions!F10) | G20: =IF($F20="","",COUNTIFS(Requests!$A$4:$A$123,"<>",Requests!$L$4:$L$123,$F20)) | H20: =IF($F20="","",IFERROR(AVERAGEIF(Requests!$L$4:$L$123,$F20,Requests!$Q$4:$Q$123),"")) | I20: =IF($F20="","",IF($G20=0,"",SUMIF(Requests!$L$4:$L$123,$F20,Requests!$K$4:$K$123)))
A21: =IF(Assumptions!H11="","",Assumptions!H11) | B21: =IF($A21="","",COUNTIFS(Requests!$A$4:$A$123,"<>",Requests!$F$4:$F$123,$A21)) | C21: =IF($A21="","",COUNTIFS(Requests!$F$4:$F$123,$A21,Requests!$N$4:$N$123,"Completed")) | D21: =IF($A21="","",IF($C21=0,"",SUMIFS(Requests!$K$4:$K$123,Requests!$F$4:$F$123,$A21,Requests!$N$4:$N$123,"Completed"))) | F21: =IF(Assumptions!F11="","",Assumptions!F11) | G21: =IF($F21="","",COUNTIFS(Requests!$A$4:$A$123,"<>",Requests!$L$4:$L$123,$F21)) | H21: =IF($F21="","",IFERROR(AVERAGEIF(Requests!$L$4:$L$123,$F21,Requests!$Q$4:$Q$123),"")) | I21: =IF($F21="","",IF($G21=0,"",SUMIF(Requests!$L$4:$L$123,$F21,Requests!$K$4:$K$123)))
A24: New Size | B24: Requests | C24: Completed | D24: Completed Revenue Change | F24: Change Type | G24: Requests
A25: =IF(Assumptions!H4="","",Assumptions!H4) | B25: =IF($A25="","",COUNTIFS(Requests!$A$4:$A$123,"<>",Requests!$G$4:$G$123,$A25)) | C25: =IF($A25="","",COUNTIFS(Requests!$G$4:$G$123,$A25,Requests!$N$4:$N$123,"Completed")) | D25: =IF($A25="","",IF($C25=0,"",SUMIFS(Requests!$K$4:$K$123,Requests!$G$4:$G$123,$A25,Requests!$N$4:$N$123,"Completed"))) | F25: Upgrade | G25: =COUNTIF(Requests!$H$4:$H$123,F25)
A26: =IF(Assumptions!H5="","",Assumptions!H5) | B26: =IF($A26="","",COUNTIFS(Requests!$A$4:$A$123,"<>",Requests!$G$4:$G$123,$A26)) | C26: =IF($A26="","",COUNTIFS(Requests!$G$4:$G$123,$A26,Requests!$N$4:$N$123,"Completed")) | D26: =IF($A26="","",IF($C26=0,"",SUMIFS(Requests!$K$4:$K$123,Requests!$G$4:$G$123,$A26,Requests!$N$4:$N$123,"Completed"))) | F26: Downgrade | G26: =COUNTIF(Requests!$H$4:$H$123,F26)
A27: =IF(Assumptions!H6="","",Assumptions!H6) | B27: =IF($A27="","",COUNTIFS(Requests!$A$4:$A$123,"<>",Requests!$G$4:$G$123,$A27)) | C27: =IF($A27="","",COUNTIFS(Requests!$G$4:$G$123,$A27,Requests!$N$4:$N$123,"Completed")) | D27: =IF($A27="","",IF($C27=0,"",SUMIFS(Requests!$K$4:$K$123,Requests!$G$4:$G$123,$A27,Requests!$N$4:$N$123,"Completed"))) | F27: No size change | G27: =COUNTIF(Requests!$H$4:$H$123,F27)
A28: =IF(Assumptions!H7="","",Assumptions!H7) | B28: =IF($A28="","",COUNTIFS(Requests!$A$4:$A$123,"<>",Requests!$G$4:$G$123,$A28)) | C28: =IF($A28="","",COUNTIFS(Requests!$G$4:$G$123,$A28,Requests!$N$4:$N$123,"Completed")) | D28: =IF($A28="","",IF($C28=0,"",SUMIFS(Requests!$K$4:$K$123,Requests!$G$4:$G$123,$A28,Requests!$N$4:$N$123,"Completed")))
A29: =IF(Assumptions!H8="","",Assumptions!H8) | B29: =IF($A29="","",COUNTIFS(Requests!$A$4:$A$123,"<>",Requests!$G$4:$G$123,$A29)) | C29: =IF($A29="","",COUNTIFS(Requests!$G$4:$G$123,$A29,Requests!$N$4:$N$123,"Completed")) | D29: =IF($A29="","",IF($C29=0,"",SUMIFS(Requests!$K$4:$K$123,Requests!$G$4:$G$123,$A29,Requests!$N$4:$N$123,"Completed")))
A30: =IF(Assumptions!H9="","",Assumptions!H9) | B30: =IF($A30="","",COUNTIFS(Requests!$A$4:$A$123,"<>",Requests!$G$4:$G$123,$A30)) | C30: =IF($A30="","",COUNTIFS(Requests!$G$4:$G$123,$A30,Requests!$N$4:$N$123,"Completed")) | D30: =IF($A30="","",IF($C30=0,"",SUMIFS(Requests!$K$4:$K$123,Requests!$G$4:$G$123,$A30,Requests!$N$4:$N$123,"Completed")))
A31: =IF(Assumptions!H10="","",Assumptions!H10) | B31: =IF($A31="","",COUNTIFS(Requests!$A$4:$A$123,"<>",Requests!$G$4:$G$123,$A31)) | C31: =IF($A31="","",COUNTIFS(Requests!$G$4:$G$123,$A31,Requests!$N$4:$N$123,"Completed")) | D31: =IF($A31="","",IF($C31=0,"",SUMIFS(Requests!$K$4:$K$123,Requests!$G$4:$G$123,$A31,Requests!$N$4:$N$123,"Completed")))
A32: =IF(Assumptions!H11="","",Assumptions!H11) | B32: =IF($A32="","",COUNTIFS(Requests!$A$4:$A$123,"<>",Requests!$G$4:$G$123,$A32)) | C32: =IF($A32="","",COUNTIFS(Requests!$G$4:$G$123,$A32,Requests!$N$4:$N$123,"Completed")) | D32: =IF($A32="","",IF($C32=0,"",SUMIFS(Requests!$K$4:$K$123,Requests!$G$4:$G$123,$A32,Requests!$N$4:$N$123,"Completed")))

Sheet Requests
A1: Self Storage Unit Size Change Requests
A2: Enter one internal request per row. Yellow cells are editable; warnings request human review only. All sample records are fictional.
A3: Request ID | B3: Facility | C3: Unit | D3: Request Date | E3: Period | F3: Original Size | G3: New Size | H3: Change Type | I3: Original Monthly Rent | J3: New Monthly Rent | K3: Monthly Revenue Change | L3: Reason | M3: Owner | N3: Status | O3: Due Date | P3: Completed Date | Q3: Wait Days | R3: Review Warning | S3: Notes | T3: Facility List | U3: Status List | V3: Reason List | W3: Owner List | X3: Size List
A4: SCR-0001 | B4: Fictional Bluebird Storage - North | C4: FIC-N101 | D4: 46254 | E4: =IF(D4="","",TEXT(D4,"mm/yyyy")) | F4: 50 | G4: 100 | H4: =IF(OR(F4="",G4=""),"",IFERROR(IF(G4>F4,"Upgrade",IF(G4<F4,"Downgrade","No size change")),"")) | I4: 79 | J4: 129 | K4: =IF(OR(I4="",J4=""),"",IFERROR(J4-I4,"")) | L4: More household space | M4: Fictional Alex Rivera | N4: Completed | O4: 46264 | P4: 46262 | Q4: =IF(D4="","",IF(P4<>"",IFERROR(MAX(0,P4-D4),""),IF(OR(N4="Canceled",N4="Completed",N4=""),"",IFERROR(MAX(0,TODAY()-D4),"")))) | R4: =IF(A4="","",IF(OR(B4="",C4="",D4="",F4="",G4="",N4=""),"Missing details - review",IF(H4="No size change","No size change - review",IF(AND(P4<>"",P4<D4),"Date order - review",IF(AND(N4<>"Completed",N4<>"Canceled",O4<>"",O4<TODAY()),"Past due - review",IF(AND(ISNUMBER(Assumptions!$B$5),K4<>"",K4<=-Assumptions!$B$5),"Revenue loss - review",IF(AND(ISNUMBER(Assumptions!$B$4),Q4<>"",Q4>Assumptions!$B$4),"Wait time - review",""))))))) | S4: Fictional example: preferred a wider interior unit. | T4: =IF(Assumptions!D4="","",Assumptions!D4) | U4: =IF(Assumptions!E4="","",Assumptions!E4) | V4: =IF(Assumptions!F4="","",Assumptions!F4) | W4: =IF(Assumptions!G4="","",Assumptions!G4) | X4: =IF(Assumptions!H4="","",Assumptions!H4)
A5: SCR-0002 | B5: Fictional Bluebird Storage - South | C5: FIC-S204 | D5: 46259 | E5: =IF(D5="","",TEXT(D5,"mm/yyyy")) | F5: 150 | G5: 100 | H5: =IF(OR(F5="",G5=""),"",IFERROR(IF(G5>F5,"Upgrade",IF(G5<F5,"Downgrade","No size change")),"")) | I5: 169 | J5: 124 | K5: =IF(OR(I5="",J5=""),"",IFERROR(J5-I5,"")) | L5: Less space needed | M5: Fictional Jordan Lee | N5: Completed | O5: 46273 | P5: 46273 | Q5: =IF(D5="","",IF(P5<>"",IFERROR(MAX(0,P5-D5),""),IF(OR(N5="Canceled",N5="Completed",N5=""),"",IFERROR(MAX(0,TODAY()-D5),"")))) | R5: =IF(A5="","",IF(OR(B5="",C5="",D5="",F5="",G5="",N5=""),"Missing details - review",IF(H5="No size change","No size change - review",IF(AND(P5<>"",P5<D5),"Date order - review",IF(AND(N5<>"Completed",N5<>"Canceled",O5<>"",O5<TODAY()),"Past due - review",IF(AND(ISNUMBER(Assumptions!$B$5),K5<>"",K5<=-Assumptions!$B$5),"Revenue loss - review",IF(AND(ISNUMBER(Assumptions!$B$4),Q5<>"",Q5>Assumptions!$B$4),"Wait time - review",""))))))) | S5: Fictional example: request completed at the 14-day target. | T5: =IF(Assumptions!D5="","",Assumptions!D5) | U5: =IF(Assumptions!E5="","",Assumptions!E5) | V5: =IF(Assumptions!F5="","",Assumptions!F5) | W5: =IF(Assumptions!G5="","",Assumptions!G5) | X5: =IF(Assumptions!H5="","",Assumptions!H5)
A6: SCR-0003 | B6: Fictional Bluebird Storage - North | C6: FIC-N118 | D6: 46266 | E6: =IF(D6="","",TEXT(D6,"mm/yyyy")) | F6: 100 | G6: 150 | H6: =IF(OR(F6="",G6=""),"",IFERROR(IF(G6>F6,"Upgrade",IF(G6<F6,"Downgrade","No size change")),"")) | I6: 119 | J6: 159 | K6: =IF(OR(I6="",J6=""),"",IFERROR(J6-I6,"")) | L6: Business inventory change | M6: Fictional Casey Morgan | N6: Requested | O6: 46275 | Q6: =IF(D6="","",IF(P6<>"",IFERROR(MAX(0,P6-D6),""),IF(OR(N6="Canceled",N6="Completed",N6=""),"",IFERROR(MAX(0,TODAY()-D6),"")))) | R6: =IF(A6="","",IF(OR(B6="",C6="",D6="",F6="",G6="",N6=""),"Missing details - review",IF(H6="No size change","No size change - review",IF(AND(P6<>"",P6<D6),"Date order - review",IF(AND(N6<>"Completed",N6<>"Canceled",O6<>"",O6<TODAY()),"Past due - review",IF(AND(ISNUMBER(Assumptions!$B$5),K6<>"",K6<=-Assumptions!$B$5),"Revenue loss - review",IF(AND(ISNUMBER(Assumptions!$B$4),Q6<>"",Q6>Assumptions!$B$4),"Wait time - review",""))))))) | S6: Fictional example: past-due request awaiting human review. | T6: =IF(Assumptions!D6="","",Assumptions!D6) | U6: =IF(Assumptions!E6="","",Assumptions!E6) | V6: =IF(Assumptions!F6="","",Assumptions!F6) | W6: =IF(Assumptions!G6="","",Assumptions!G6) | X6: =IF(Assumptions!H6="","",Assumptions!H6)
A7: SCR-0004 | B7: Fictional Cedar Key Storage | C7: FIC-C305 | D7: 46268 | E7: =IF(D7="","",TEXT(D7,"mm/yyyy")) | F7: 75 | G7: 100 | H7: =IF(OR(F7="",G7=""),"",IFERROR(IF(G7>F7,"Upgrade",IF(G7<F7,"Downgrade","No size change")),"")) | I7: 94 | J7: 121 | K7: =IF(OR(I7="",J7=""),"",IFERROR(J7-I7,"")) | L7: More household space | M7: Fictional Taylor Brooks | N7: Waitlisted | O7: 46282 | Q7: =IF(D7="","",IF(P7<>"",IFERROR(MAX(0,P7-D7),""),IF(OR(N7="Canceled",N7="Completed",N7=""),"",IFERROR(MAX(0,TODAY()-D7),"")))) | R7: =IF(A7="","",IF(OR(B7="",C7="",D7="",F7="",G7="",N7=""),"Missing details - review",IF(H7="No size change","No size change - review",IF(AND(P7<>"",P7<D7),"Date order - review",IF(AND(N7<>"Completed",N7<>"Canceled",O7<>"",O7<TODAY()),"Past due - review",IF(AND(ISNUMBER(Assumptions!$B$5),K7<>"",K7<=-Assumptions!$B$5),"Revenue loss - review",IF(AND(ISNUMBER(Assumptions!$B$4),Q7<>"",Q7>Assumptions!$B$4),"Wait time - review",""))))))) | S7: Fictional example: preferred size is not currently selected. | T7: =IF(Assumptions!D7="","",Assumptions!D7) | U7: =IF(Assumptions!E7="","",Assumptions!E7) | V7: =IF(Assumptions!F7="","",Assumptions!F7) | W7: =IF(Assumptions!G7="","",Assumptions!G7) | X7: =IF(Assumptions!H7="","",Assumptions!H7)
A8: SCR-0005 | B8: Fictional Bluebird Storage - South | C8: FIC-S122 | D8: 46270 | E8: =IF(D8="","",TEXT(D8,"mm/yyyy")) | F8: 200 | G8: 250 | H8: =IF(OR(F8="",G8=""),"",IFERROR(IF(G8>F8,"Upgrade",IF(G8<F8,"Downgrade","No size change")),"")) | I8: 224 | J8: 269 | K8: =IF(OR(I8="",J8=""),"",IFERROR(J8-I8,"")) | L8: Business inventory change | M8: Fictional Alex Rivera | N8: Approved | O8: 46279 | Q8: =IF(D8="","",IF(P8<>"",IFERROR(MAX(0,P8-D8),""),IF(OR(N8="Canceled",N8="Completed",N8=""),"",IFERROR(MAX(0,TODAY()-D8),"")))) | R8: =IF(A8="","",IF(OR(B8="",C8="",D8="",F8="",G8="",N8=""),"Missing details - review",IF(H8="No size change","No size change - review",IF(AND(P8<>"",P8<D8),"Date order - review",IF(AND(N8<>"Completed",N8<>"Canceled",O8<>"",O8<TODAY()),"Past due - review",IF(AND(ISNUMBER(Assumptions!$B$5),K8<>"",K8<=-Assumptions!$B$5),"Revenue loss - review",IF(AND(ISNUMBER(Assumptions!$B$4),Q8<>"",Q8>Assumptions!$B$4),"Wait time - review",""))))))) | S8: Fictional example: internal move timing is being coordinated. | T8: =IF(Assumptions!D8="","",Assumptions!D8) | U8: =IF(Assumptions!E8="","",Assumptions!E8) | V8: =IF(Assumptions!F8="","",Assumptions!F8) | W8: =IF(Assumptions!G8="","",Assumptions!G8) | X8: =IF(Assumptions!H8="","",Assumptions!H8)
A9: SCR-0006 | B9: Fictional Cedar Key Storage | C9: FIC-C111 | D9: 46267 | E9: =IF(D9="","",TEXT(D9,"mm/yyyy")) | F9: 100 | G9: 50 | H9: =IF(OR(F9="",G9=""),"",IFERROR(IF(G9>F9,"Upgrade",IF(G9<F9,"Downgrade","No size change")),"")) | I9: 118 | J9: 73 | K9: =IF(OR(I9="",J9=""),"",IFERROR(J9-I9,"")) | L9: Budget preference | M9: Fictional Jordan Lee | N9: Canceled | O9: 46274 | Q9: =IF(D9="","",IF(P9<>"",IFERROR(MAX(0,P9-D9),""),IF(OR(N9="Canceled",N9="Completed",N9=""),"",IFERROR(MAX(0,TODAY()-D9),"")))) | R9: =IF(A9="","",IF(OR(B9="",C9="",D9="",F9="",G9="",N9=""),"Missing details - review",IF(H9="No size change","No size change - review",IF(AND(P9<>"",P9<D9),"Date order - review",IF(AND(N9<>"Completed",N9<>"Canceled",O9<>"",O9<TODAY()),"Past due - review",IF(AND(ISNUMBER(Assumptions!$B$5),K9<>"",K9<=-Assumptions!$B$5),"Revenue loss - review",IF(AND(ISNUMBER(Assumptions!$B$4),Q9<>"",Q9>Assumptions!$B$4),"Wait time - review",""))))))) | S9: Fictional example: request was withdrawn before a move. | T9: =IF(Assumptions!D9="","",Assumptions!D9) | U9: =IF(Assumptions!E9="","",Assumptions!E9) | V9: =IF(Assumptions!F9="","",Assumptions!F9) | W9: =IF(Assumptions!G9="","",Assumptions!G9) | X9: =IF(Assumptions!H9="","",Assumptions!H9)
A10: SCR-0007 | B10: Fictional Bluebird Storage - North | C10: FIC-N240 | D10: 46244 | E10: =IF(D10="","",TEXT(D10,"mm/yyyy")) | F10: 200 | G10: 100 | H10: =IF(OR(F10="",G10=""),"",IFERROR(IF(G10>F10,"Upgrade",IF(G10<F10,"Downgrade","No size change")),"")) | I10: 229 | J10: 154 | K10: =IF(OR(I10="",J10=""),"",IFERROR(J10-I10,"")) | L10: Less space needed | M10: Fictional Casey Morgan | N10: Completed | O10: 46258 | P10: 46266 | Q10: =IF(D10="","",IF(P10<>"",IFERROR(MAX(0,P10-D10),""),IF(OR(N10="Canceled",N10="Completed",N10=""),"",IFERROR(MAX(0,TODAY()-D10),"")))) | R10: =IF(A10="","",IF(OR(B10="",C10="",D10="",F10="",G10="",N10=""),"Missing details - review",IF(H10="No size change","No size change - review",IF(AND(P10<>"",P10<D10),"Date order - review",IF(AND(N10<>"Completed",N10<>"Canceled",O10<>"",O10<TODAY()),"Past due - review",IF(AND(ISNUMBER(Assumptions!$B$5),K10<>"",K10<=-Assumptions!$B$5),"Revenue loss - review",IF(AND(ISNUMBER(Assumptions!$B$4),Q10<>"",Q10>Assumptions!$B$4),"Wait time - review",""))))))) | S10: Fictional example: exact revenue-loss review boundary. | T10: =IF(Assumptions!D10="","",Assumptions!D10) | U10: =IF(Assumptions!E10="","",Assumptions!E10) | V10: =IF(Assumptions!F10="","",Assumptions!F10) | W10: =IF(Assumptions!G10="","",Assumptions!G10) | X10: =IF(Assumptions!H10="","",Assumptions!H10)
A11: SCR-0008 | B11: Fictional Bluebird Storage - South | C11: FIC-S015 | D11: 46271 | E11: =IF(D11="","",TEXT(D11,"mm/yyyy")) | F11: 25 | G11: 50 | H11: =IF(OR(F11="",G11=""),"",IFERROR(IF(G11>F11,"Upgrade",IF(G11<F11,"Downgrade","No size change")),"")) | I11: 49 | J11: 76 | K11: =IF(OR(I11="",J11=""),"",IFERROR(J11-I11,"")) | L11: Accessibility preference | M11: Fictional Taylor Brooks | N11: Completed | O11: 46274 | P11: 46271 | Q11: =IF(D11="","",IF(P11<>"",IFERROR(MAX(0,P11-D11),""),IF(OR(N11="Canceled",N11="Completed",N11=""),"",IFERROR(MAX(0,TODAY()-D11),"")))) | R11: =IF(A11="","",IF(OR(B11="",C11="",D11="",F11="",G11="",N11=""),"Missing details - review",IF(H11="No size change","No size change - review",IF(AND(P11<>"",P11<D11),"Date order - review",IF(AND(N11<>"Completed",N11<>"Canceled",O11<>"",O11<TODAY()),"Past due - review",IF(AND(ISNUMBER(Assumptions!$B$5),K11<>"",K11<=-Assumptions!$B$5),"Revenue loss - review",IF(AND(ISNUMBER(Assumptions!$B$4),Q11<>"",Q11>Assumptions!$B$4),"Wait time - review",""))))))) | S11: Fictional example: completed on the request date. | T11: =IF(Assumptions!D11="","",Assumptions!D11) | U11: =IF(Assumptions!E11="","",Assumptions!E11) | V11: =IF(Assumptions!F11="","",Assumptions!F11) | W11: =IF(Assumptions!G11="","",Assumptions!G11) | X11: =IF(Assumptions!H11="","",Assumptions!H11)
A12: SCR-0009 | B12: Fictional Cedar Key Storage | C12: FIC-C078 | D12: 46277 | E12: =IF(D12="","",TEXT(D12,"mm/yyyy")) | F12: 75 | G12: 75 | H12: =IF(OR(F12="",G12=""),"",IFERROR(IF(G12>F12,"Upgrade",IF(G12<F12,"Downgrade","No size change")),"")) | I12: 92 | J12: 92 | K12: =IF(OR(I12="",J12=""),"",IFERROR(J12-I12,"")) | L12: Other | M12: Fictional Alex Rivera | N12: Requested | O12: 46284 | Q12: =IF(D12="","",IF(P12<>"",IFERROR(MAX(0,P12-D12),""),IF(OR(N12="Canceled",N12="Completed",N12=""),"",IFERROR(MAX(0,TODAY()-D12),"")))) | R12: =IF(A12="","",IF(OR(B12="",C12="",D12="",F12="",G12="",N12=""),"Missing details - review",IF(H12="No size change","No size change - review",IF(AND(P12<>"",P12<D12),"Date order - review",IF(AND(N12<>"Completed",N12<>"Canceled",O12<>"",O12<TODAY()),"Past due - review",IF(AND(ISNUMBER(Assumptions!$B$5),K12<>"",K12<=-Assumptions!$B$5),"Revenue loss - review",IF(AND(ISNUMBER(Assumptions!$B$4),Q12<>"",Q12>Assumptions!$B$4),"Wait time - review",""))))))) | S12: Fictional boundary test: entered sizes match and need review. | T12: =IF(Assumptions!D12="","",Assumptions!D12) | U12: =IF(Assumptions!E12="","",Assumptions!E12) | V12: =IF(Assumptions!F12="","",Assumptions!F12) | W12: =IF(Assumptions!G12="","",Assumptions!G12) | X12: =IF(Assumptions!H12="","",Assumptions!H12)
A13: SCR-0010 | B13: Fictional Bluebird Storage - North | C13: FIC-N090 | D13: 46264 | E13: =IF(D13="","",TEXT(D13,"mm/yyyy")) | F13: 75 | G13: 25 | H13: =IF(OR(F13="",G13=""),"",IFERROR(IF(G13>F13,"Upgrade",IF(G13<F13,"Downgrade","No size change")),"")) | I13: 99 | J13: 45 | K13: =IF(OR(I13="",J13=""),"",IFERROR(J13-I13,"")) | L13: Budget preference | M13: Fictional Jordan Lee | N13: Completed | O13: 46274 | P13: 46270 | Q13: =IF(D13="","",IF(P13<>"",IFERROR(MAX(0,P13-D13),""),IF(OR(N13="Canceled",N13="Completed",N13=""),"",IFERROR(MAX(0,TODAY()-D13),"")))) | R13: =IF(A13="","",IF(OR(B13="",C13="",D13="",F13="",G13="",N13=""),"Missing details - review",IF(H13="No size change","No size change - review",IF(AND(P13<>"",P13<D13),"Date order - review",IF(AND(N13<>"Completed",N13<>"Canceled",O13<>"",O13<TODAY()),"Past due - review",IF(AND(ISNUMBER(Assumptions!$B$5),K13<>"",K13<=-Assumptions!$B$5),"Revenue loss - review",IF(AND(ISNUMBER(Assumptions!$B$4),Q13<>"",Q13>Assumptions!$B$4),"Wait time - review",""))))))) | S13: Fictional example: smaller unit selected after review. | T13: =IF(Assumptions!D13="","",Assumptions!D13) | U13: =IF(Assumptions!E13="","",Assumptions!E13) | V13: =IF(Assumptions!F13="","",Assumptions!F13) | W13: =IF(Assumptions!G13="","",Assumptions!G13) | X13: =IF(Assumptions!H13="","",Assumptions!H13)
E14: =IF(D14="","",TEXT(D14,"mm/yyyy")) | H14: =IF(OR(F14="",G14=""),"",IFERROR(IF(G14>F14,"Upgrade",IF(G14<F14,"Downgrade","No size change")),"")) | K14: =IF(OR(I14="",J14=""),"",IFERROR(J14-I14,"")) | Q14: =IF(D14="","",IF(P14<>"",IFERROR(MAX(0,P14-D14),""),IF(OR(N14="Canceled",N14="Completed",N14=""),"",IFERROR(MAX(0,TODAY()-D14),"")))) | R14: =IF(A14="","",IF(OR(B14="",C14="",D14="",F14="",G14="",N14=""),"Missing details - review",IF(H14="No size change","No size change - review",IF(AND(P14<>"",P14<D14),"Date order - review",IF(AND(N14<>"Completed",N14<>"Canceled",O14<>"",O14<TODAY()),"Past due - review",IF(AND(ISNUMBER(Assumptions!$B$5),K14<>"",K14<=-Assumptions!$B$5),"Revenue loss - review",IF(AND(ISNUMBER(Assumptions!$B$4),Q14<>"",Q14>Assumptions!$B$4),"Wait time - review",""))))))) | T14: =IF(Assumptions!D14="","",Assumptions!D14) | U14: =IF(Assumptions!E14="","",Assumptions!E14) | V14: =IF(Assumptions!F14="","",Assumptions!F14) | W14: =IF(Assumptions!G14="","",Assumptions!G14) | X14: =IF(Assumptions!H14="","",Assumptions!H14)
E15: =IF(D15="","",TEXT(D15,"mm/yyyy")) | H15: =IF(OR(F15="",G15=""),"",IFERROR(IF(G15>F15,"Upgrade",IF(G15<F15,"Downgrade","No size change")),"")) | K15: =IF(OR(I15="",J15=""),"",IFERROR(J15-I15,"")) | Q15: =IF(D15="","",IF(P15<>"",IFERROR(MAX(0,P15-D15),""),IF(OR(N15="Canceled",N15="Completed",N15=""),"",IFERROR(MAX(0,TODAY()-D15),"")))) | R15: =IF(A15="","",IF(OR(B15="",C15="",D15="",F15="",G15="",N15=""),"Missing details - review",IF(H15="No size change","No size change - review",IF(AND(P15<>"",P15<D15),"Date order - review",IF(AND(N15<>"Completed",N15<>"Canceled",O15<>"",O15<TODAY()),"Past due - review",IF(AND(ISNUMBER(Assumptions!$B$5),K15<>"",K15<=-Assumptions!$B$5),"Revenue loss - review",IF(AND(ISNUMBER(Assumptions!$B$4),Q15<>"",Q15>Assumptions!$B$4),"Wait time - review",""))))))) | T15: =IF(Assumptions!D15="","",Assumptions!D15) | U15: =IF(Assumptions!E15="","",Assumptions!E15) | V15: =IF(Assumptions!F15="","",Assumptions!F15) | W15: =IF(Assumptions!G15="","",Assumptions!G15) | X15: =IF(Assumptions!H15="","",Assumptions!H15)
E16: =IF(D16="","",TEXT(D16,"mm/yyyy")) | H16: =IF(OR(F16="",G16=""),"",IFERROR(IF(G16>F16,"Upgrade",IF(G16<F16,"Downgrade","No size change")),"")) | K16: =IF(OR(I16="",J16=""),"",IFERROR(J16-I16,"")) | Q16: =IF(D16="","",IF(P16<>"",IFERROR(MAX(0,P16-D16),""),IF(OR(N16="Canceled",N16="Completed",N16=""),"",IFERROR(MAX(0,TODAY()-D16),"")))) | R16: =IF(A16="","",IF(OR(B16="",C16="",D16="",F16="",G16="",N16=""),"Missing details - review",IF(H16="No size change","No size change - review",IF(AND(P16<>"",P16<D16),"Date order - review",IF(AND(N16<>"Completed",N16<>"Canceled",O16<>"",O16<TODAY()),"Past due - review",IF(AND(ISNUMBER(Assumptions!$B$5),K16<>"",K16<=-Assumptions!$B$5),"Revenue loss - review",IF(AND(ISNUMBER(Assumptions!$B$4),Q16<>"",Q16>Assumptions!$B$4),"Wait time - review",""))))))) | T16: =IF(Assumptions!D16="","",Assumptions!D16) | U16: =IF(Assumptions!E16="","",Assumptions!E16) | V16: =IF(Assumptions!F16="","",Assumptions!F16) | W16: =IF(Assumptions!G16="","",Assumptions!G16) | X16: =IF(Assumptions!H16="","",Assumptions!H16)
E17: =IF(D17="","",TEXT(D17,"mm/yyyy")) | H17: =IF(OR(F17="",G17=""),"",IFERROR(IF(G17>F17,"Upgrade",IF(G17<F17,"Downgrade","No size change")),"")) | K17: =IF(OR(I17="",J17=""),"",IFERROR(J17-I17,"")) | Q17: =IF(D17="","",IF(P17<>"",IFERROR(MAX(0,P17-D17),""),IF(OR(N17="Canceled",N17="Completed",N17=""),"",IFERROR(MAX(0,TODAY()-D17),"")))) | R17: =IF(A17="","",IF(OR(B17="",C17="",D17="",F17="",G17="",N17=""),"Missing details - review",IF(H17="No size change","No size change - review",IF(AND(P17<>"",P17<D17),"Date order - review",IF(AND(N17<>"Completed",N17<>"Canceled",O17<>"",O17<TODAY()),"Past due - review",IF(AND(ISNUMBER(Assumptions!$B$5),K17<>"",K17<=-Assumptions!$B$5),"Revenue loss - review",IF(AND(ISNUMBER(Assumptions!$B$4),Q17<>"",Q17>Assumptions!$B$4),"Wait time - review",""))))))) | T17: =IF(Assumptions!D17="","",Assumptions!D17) | U17: =IF(Assumptions!E17="","",Assumptions!E17) | V17: =IF(Assumptions!F17="","",Assumptions!F17) | W17: =IF(Assumptions!G17="","",Assumptions!G17) | X17: =IF(Assumptions!H17="","",Assumptions!H17)
E18: =IF(D18="","",TEXT(D18,"mm/yyyy")) | H18: =IF(OR(F18="",G18=""),"",IFERROR(IF(G18>F18,"Upgrade",IF(G18<F18,"Downgrade","No size change")),"")) | K18: =IF(OR(I18="",J18=""),"",IFERROR(J18-I18,"")) | Q18: =IF(D18="","",IF(P18<>"",IFERROR(MAX(0,P18-D18),""),IF(OR(N18="Canceled",N18="Completed",N18=""),"",IFERROR(MAX(0,TODAY()-D18),"")))) | R18: =IF(A18="","",IF(OR(B18="",C18="",D18="",F18="",G18="",N18=""),"Missing details - review",IF(H18="No size change","No size change - review",IF(AND(P18<>"",P18<D18),"Date order - review",IF(AND(N18<>"Completed",N18<>"Canceled",O18<>"",O18<TODAY()),"Past due - review",IF(AND(ISNUMBER(Assumptions!$B$5),K18<>"",K18<=-Assumptions!$B$5),"Revenue loss - review",IF(AND(ISNUMBER(Assumptions!$B$4),Q18<>"",Q18>Assumptions!$B$4),"Wait time - review",""))))))) | T18: =IF(Assumptions!D18="","",Assumptions!D18) | U18: =IF(Assumptions!E18="","",Assumptions!E18) | V18: =IF(Assumptions!F18="","",Assumptions!F18) | W18: =IF(Assumptions!G18="","",Assumptions!G18) | X18: =IF(Assumptions!H18="","",Assumptions!H18)
E19: =IF(D19="","",TEXT(D19,"mm/yyyy")) | H19: =IF(OR(F19="",G19=""),"",IFERROR(IF(G19>F19,"Upgrade",IF(G19<F19,"Downgrade","No size change")),"")) | K19: =IF(OR(I19="",J19=""),"",IFERROR(J19-I19,"")) | Q19: =IF(D19="","",IF(P19<>"",IFERROR(MAX(0,P19-D19),""),IF(OR(N19="Canceled",N19="Completed",N19=""),"",IFERROR(MAX(0,TODAY()-D19),"")))) | R19: =IF(A19="","",IF(OR(B19="",C19="",D19="",F19="",G19="",N19=""),"Missing details - review",IF(H19="No size change","No size change - review",IF(AND(P19<>"",P19<D19),"Date order - review",IF(AND(N19<>"Completed",N19<>"Canceled",O19<>"",O19<TODAY()),"Past due - review",IF(AND(ISNUMBER(Assumptions!$B$5),K19<>"",K19<=-Assumptions!$B$5),"Revenue loss - review",IF(AND(ISNUMBER(Assumptions!$B$4),Q19<>"",Q19>Assumptions!$B$4),"Wait time - review",""))))))) | T19: =IF(Assumptions!D19="","",Assumptions!D19) | U19: =IF(Assumptions!E19="","",Assumptions!E19) | V19: =IF(Assumptions!F19="","",Assumptions!F19) | W19: =IF(Assumptions!G19="","",Assumptions!G19) | X19: =IF(Assumptions!H19="","",Assumptions!H19)
E20: =IF(D20="","",TEXT(D20,"mm/yyyy")) | H20: =IF(OR(F20="",G20=""),"",IFERROR(IF(G20>F20,"Upgrade",IF(G20<F20,"Downgrade","No size change")),"")) | K20: =IF(OR(I20="",J20=""),"",IFERROR(J20-I20,"")) | Q20: =IF(D20="","",IF(P20<>"",IFERROR(MAX(0,P20-D20),""),IF(OR(N20="Canceled",N20="Completed",N20=""),"",IFERROR(MAX(0,TODAY()-D20),"")))) | R20: =IF(A20="","",IF(OR(B20="",C20="",D20="",F20="",G20="",N20=""),"Missing details - review",IF(H20="No size change","No size change - review",IF(AND(P20<>"",P20<D20),"Date order - review",IF(AND(N20<>"Completed",N20<>"Canceled",O20<>"",O20<TODAY()),"Past due - review",IF(AND(ISNUMBER(Assumptions!$B$5),K20<>"",K20<=-Assumptions!$B$5),"Revenue loss - review",IF(AND(ISNUMBER(Assumptions!$B$4),Q20<>"",Q20>Assumptions!$B$4),"Wait time - review",""))))))) | T20: =IF(Assumptions!D20="","",Assumptions!D20) | U20: =IF(Assumptions!E20="","",Assumptions!E20) | V20: =IF(Assumptions!F20="","",Assumptions!F20) | W20: =IF(Assumptions!G20="","",Assumptions!G20) | X20: =IF(Assumptions!H20="","",Assumptions!H20)
E21: =IF(D21="","",TEXT(D21,"mm/yyyy")) | H21: =IF(OR(F21="",G21=""),"",IFERROR(IF(G21>F21,"Upgrade",IF(G21<F21,"Downgrade","No size change")),"")) | K21: =IF(OR(I21="",J21=""),"",IFERROR(J21-I21,"")) | Q21: =IF(D21="","",IF(P21<>"",IFERROR(MAX(0,P21-D21),""),IF(OR(N21="Canceled",N21="Completed",N21=""),"",IFERROR(MAX(0,TODAY()-D21),"")))) | R21: =IF(A21="","",IF(OR(B21="",C21="",D21="",F21="",G21="",N21=""),"Missing details - review",IF(H21="No size change","No size change - review",IF(AND(P21<>"",P21<D21),"Date order - review",IF(AND(N21<>"Completed",N21<>"Canceled",O21<>"",O21<TODAY()),"Past due - review",IF(AND(ISNUMBER(Assumptions!$B$5),K21<>"",K21<=-Assumptions!$B$5),"Revenue loss - review",IF(AND(ISNUMBER(Assumptions!$B$4),Q21<>"",Q21>Assumptions!$B$4),"Wait time - review",""))))))) | T21: =IF(Assumptions!D21="","",Assumptions!D21) | U21: =IF(Assumptions!E21="","",Assumptions!E21) | V21: =IF(Assumptions!F21="","",Assumptions!F21) | W21: =IF(Assumptions!G21="","",Assumptions!G21) | X21: =IF(Assumptions!H21="","",Assumptions!H21)
E22: =IF(D22="","",TEXT(D22,"mm/yyyy")) | H22: =IF(OR(F22="",G22=""),"",IFERROR(IF(G22>F22,"Upgrade",IF(G22<F22,"Downgrade","No size change")),"")) | K22: =IF(OR(I22="",J22=""),"",IFERROR(J22-I22,"")) | Q22: =IF(D22="","",IF(P22<>"",IFERROR(MAX(0,P22-D22),""),IF(OR(N22="Canceled",N22="Completed",N22=""),"",IFERROR(MAX(0,TODAY()-D22),"")))) | R22: =IF(A22="","",IF(OR(B22="",C22="",D22="",F22="",G22="",N22=""),"Missing details - review",IF(H22="No size change","No size change - review",IF(AND(P22<>"",P22<D22),"Date order - review",IF(AND(N22<>"Completed",N22<>"Canceled",O22<>"",O22<TODAY()),"Past due - review",IF(AND(ISNUMBER(Assumptions!$B$5),K22<>"",K22<=-Assumptions!$B$5),"Revenue loss - review",IF(AND(ISNUMBER(Assumptions!$B$4),Q22<>"",Q22>Assumptions!$B$4),"Wait time - review",""))))))) | T22: =IF(Assumptions!D22="","",Assumptions!D22) | U22: =IF(Assumptions!E22="","",Assumptions!E22) | V22: =IF(Assumptions!F22="","",Assumptions!F22) | W22: =IF(Assumptions!G22="","",Assumptions!G22) | X22: =IF(Assumptions!H22="","",Assumptions!H22)
E23: =IF(D23="","",TEXT(D23,"mm/yyyy")) | H23: =IF(OR(F23="",G23=""),"",IFERROR(IF(G23>F23,"Upgrade",IF(G23<F23,"Downgrade","No size change")),"")) | K23: =IF(OR(I23="",J23=""),"",IFERROR(J23-I23,"")) | Q23: =IF(D23="","",IF(P23<>"",IFERROR(MAX(0,P23-D23),""),IF(OR(N23="Canceled",N23="Completed",N23=""),"",IFERROR(MAX(0,TODAY()-D23),"")))) | R23: =IF(A23="","",IF(OR(B23="",C23="",D23="",F23="",G23="",N23=""),"Missing details - review",IF(H23="No size change","No size change - review",IF(AND(P23<>"",P23<D23),"Date order - review",IF(AND(N23<>"Completed",N23<>"Canceled",O23<>"",O23<TODAY()),"Past due - review",IF(AND(ISNUMBER(Assumptions!$B$5),K23<>"",K23<=-Assumptions!$B$5),"Revenue loss - review",IF(AND(ISNUMBER(Assumptions!$B$4),Q23<>"",Q23>Assumptions!$B$4),"Wait time - review",""))))))) | T23: =IF(Assumptions!D23="","",Assumptions!D23) | U23: =IF(Assumptions!E23="","",Assumptions!E23) | V23: =IF(Assumptions!F23="","",Assumptions!F23) | W23: =IF(Assumptions!G23="","",Assumptions!G23) | X23: =IF(Assumptions!H23="","",Assumptions!H23)
E24: =IF(D24="","",TEXT(D24,"mm/yyyy")) | H24: =IF(OR(F24="",G24=""),"",IFERROR(IF(G24>F24,"Upgrade",IF(G24<F24,"Downgrade","No size change")),"")) | K24: =IF(OR(I24="",J24=""),"",IFERROR(J24-I24,"")) | Q24: =IF(D24="","",IF(P24<>"",IFERROR(MAX(0,P24-D24),""),IF(OR(N24="Canceled",N24="Completed",N24=""),"",IFERROR(MAX(0,TODAY()-D24),"")))) | R24: =IF(A24="","",IF(OR(B24="",C24="",D24="",F24="",G24="",N24=""),"Missing details - review",IF(H24="No size change","No size change - review",IF(AND(P24<>"",P24<D24),"Date order - review",IF(AND(N24<>"Completed",N24<>"Canceled",O24<>"",O24<TODAY()),"Past due - review",IF(AND(ISNUMBER(Assumptions!$B$5),K24<>"",K24<=-Assumptions!$B$5),"Revenue loss - review",IF(AND(ISNUMBER(Assumptions!$B$4),Q24<>"",Q24>Assumptions!$B$4),"Wait time - review",""))))))) | T24: =IF(Assumptions!D24="","",Assumptions!D24) | U24: =IF(Assumptions!E24="","",Assumptions!E24) | V24: =IF(Assumptions!F24="","",Assumptions!F24) | W24: =IF(Assumptions!G24="","",Assumptions!G24) | X24: =IF(Assumptions!H24="","",Assumptions!H24)
E25: =IF(D25="","",TEXT(D25,"mm/yyyy")) | H25: =IF(OR(F25="",G25=""),"",IFERROR(IF(G25>F25,"Upgrade",IF(G25<F25,"Downgrade","No size change")),"")) | K25: =IF(OR(I25="",J25=""),"",IFERROR(J25-I25,"")) | Q25: =IF(D25="","",IF(P25<>"",IFERROR(MAX(0,P25-D25),""),IF(OR(N25="Canceled",N25="Completed",N25=""),"",IFERROR(MAX(0,TODAY()-D25),"")))) | R25: =IF(A25="","",IF(OR(B25="",C25="",D25="",F25="",G25="",N25=""),"Missing details - review",IF(H25="No size change","No size change - review",IF(AND(P25<>"",P25<D25),"Date order - review",IF(AND(N25<>"Completed",N25<>"Canceled",O25<>"",O25<TODAY()),"Past due - review",IF(AND(ISNUMBER(Assumptions!$B$5),K25<>"",K25<=-Assumptions!$B$5),"Revenue loss - review",IF(AND(ISNUMBER(Assumptions!$B$4),Q25<>"",Q25>Assumptions!$B$4),"Wait time - review",""))))))) | T25: =IF(Assumptions!D25="","",Assumptions!D25) | U25: =IF(Assumptions!E25="","",Assumptions!E25) | V25: =IF(Assumptions!F25="","",Assumptions!F25) | W25: =IF(Assumptions!G25="","",Assumptions!G25) | X25: =IF(Assumptions!H25="","",Assumptions!H25)
... E123: =IF(D123="","",TEXT(D123,"mm/yyyy")) | H123: =IF(OR(F123="",G123=""),"",IFERROR(IF(G123>F123,"Upgrade",IF(G123<F123,"Downgrade","No size change")),"")) | K123: =IF(OR(I123="",J123=""),"",IFERROR(J123-I123,"")) | Q123: =IF(D123="","",IF(P123<>"",IFERROR(MAX(0,P123-D123),""),IF(OR(N123="Canceled",N123="Completed",N123=""),"",IFERROR(MAX(0,TODAY()-D123),"")))) | R123: =IF(A123="","",IF(OR(B123="",C123="",D123="",F123="",G123="",N123=""),"Missing details - review",IF(H123="No size change","No size change - review",IF(AND(P123<>"",P123<D123),"Date order - review",IF(AND(N123<>"Completed",N123<>"Canceled",O123<>"",O123<TODAY()),"Past due - review",IF(AND(ISNUMBER(Assumptions!$B$5),K123<>"",K123<=-Assumptions!$B$5),"Revenue loss - review",IF(AND(ISNUMBER(Assumptions!$B$4),Q123<>"",Q123>Assumptions!$B$4),"Wait time - review",""))))))) | T123: =IF(Assumptions!D123="","",Assumptions!D123) | U123: =IF(Assumptions!E123="","",Assumptions!E123) | V123: =IF(Assumptions!F123="","",Assumptions!F123) | W123: =IF(Assumptions!G123="","",Assumptions!G123) | X123: =IF(Assumptions!H123="","",Assumptions!H123)

Sheet Assumptions
A1: Self Storage Unit Size Change Tracker Assumptions
A2: Edit thresholds and list choices as operating needs change. All facilities and people shown are fictional examples.
A3: Threshold | B3: Value | D3: Facility | E3: Status | F3: Reason | G3: Owner | H3: Size
A4: Target wait time (days) | B4: 14 | D4: Fictional Bluebird Storage - North | E4: Requested | F4: More household space | G4: Fictional Alex Rivera | H4: 25
A5: Revenue loss review threshold | B5: 75 | D5: Fictional Bluebird Storage - South | E5: Waitlisted | F5: Less space needed | G5: Fictional Jordan Lee | H5: 50
A6: Upcoming due window (days) | B6: 7 | D6: Fictional Cedar Key Storage | E6: Approved | F6: Business inventory change | G6: Fictional Casey Morgan | H6: 75
E7: Completed | F7: Budget preference | G7: Fictional Taylor Brooks | H7: 100
E8: Canceled | F8: Accessibility preference | H8: 150
F9: Other | H9: 200
H10: 250
H11: 300
