Workbook

Sheet Summary
A1: Self Storage Unit Mix Revenue Model Summary
A3: Portfolio Indicator | B3: Calculated Value | C3: Unit
A4: Facilities Entered | B4: =IFERROR(IF(COUNTIF('Unit Mix'!$A$5:$A$104,"<>")=0,"",SUMPRODUCT(--(COUNTIF('Unit Mix'!$A$5:$A$104,'Assumptions'!$A$5:$A$16)>0))),"") | C4: facilities
A5: Included Model Lines | B5: =IF(COUNTIF('Unit Mix'!$P$5:$P$104,"Included")=0,"",COUNTIF('Unit Mix'!$P$5:$P$104,"Included")) | C5: lines
A6: Total Included Units | B6: =IF(COUNTIF('Unit Mix'!$P$5:$P$104,"Included")=0,"",SUMIF('Unit Mix'!$P$5:$P$104,"Included",'Unit Mix'!$F$5:$F$104)) | C6: units
A7: Total Rentable Square Feet | B7: =IF(COUNTIF('Unit Mix'!$P$5:$P$104,"Included")=0,"",SUMIF('Unit Mix'!$P$5:$P$104,"Included",'Unit Mix'!$J$5:$J$104)) | C7: square feet
A8: Weighted Physical Occupancy | B8: =IFERROR(SUMIF('Unit Mix'!$P$5:$P$104,"Included",'Unit Mix'!$K$5:$K$104)/SUMIF('Unit Mix'!$P$5:$P$104,"Included",'Unit Mix'!$F$5:$F$104),"") | C8: percentage
A9: Weighted Economic Occupancy | B9: =IFERROR(SUMIF('Unit Mix'!$P$5:$P$104,"Included",'Unit Mix'!$M$5:$M$104)/SUMIF('Unit Mix'!$P$5:$P$104,"Included",'Unit Mix'!$L$5:$L$104),"") | C9: percentage
A10: Gross Potential Monthly Rent | B10: =IF(COUNTIF('Unit Mix'!$P$5:$P$104,"Included")=0,"",SUMIF('Unit Mix'!$P$5:$P$104,"Included",'Unit Mix'!$L$5:$L$104)) | C10: US dollars per month
A11: Modeled Monthly Revenue | B11: =IF(COUNTIF('Unit Mix'!$P$5:$P$104,"Included")=0,"",SUMIF('Unit Mix'!$P$5:$P$104,"Included",'Unit Mix'!$M$5:$M$104)) | C11: US dollars per month
A12: Annualized Modeled Revenue | B12: =IF($B$11="","",$B$11*'Assumptions'!$J$9) | C12: US dollars
A13: Weighted Average Street Rate | B13: =IFERROR(SUMIF('Unit Mix'!$P$5:$P$104,"Included",'Unit Mix'!$L$5:$L$104)/SUMIF('Unit Mix'!$P$5:$P$104,"Included",'Unit Mix'!$F$5:$F$104),"") | C13: US dollars per unit
A14: Modeled Monthly Revenue per Square Foot | B14: =IFERROR(SUMIF('Unit Mix'!$P$5:$P$104,"Included",'Unit Mix'!$M$5:$M$104)/SUMIF('Unit Mix'!$P$5:$P$104,"Included",'Unit Mix'!$J$5:$J$104),"") | C14: US dollars per square foot
A17: Climate Class | B17: Modeled Monthly Revenue | C17: Revenue Contribution
A18: Drive-Up | B18: =IF(COUNTIFS('Unit Mix'!$E$5:$E$104,$A18,'Unit Mix'!$P$5:$P$104,"Included")=0,"",SUMIFS('Unit Mix'!$M$5:$M$104,'Unit Mix'!$E$5:$E$104,$A18,'Unit Mix'!$P$5:$P$104,"Included")) | C18: =IFERROR($B18/SUM('Unit Mix'!$M$5:$M$104),"")
A19: Climate-Controlled | B19: =IF(COUNTIFS('Unit Mix'!$E$5:$E$104,$A19,'Unit Mix'!$P$5:$P$104,"Included")=0,"",SUMIFS('Unit Mix'!$M$5:$M$104,'Unit Mix'!$E$5:$E$104,$A19,'Unit Mix'!$P$5:$P$104,"Included")) | C19: =IFERROR($B19/SUM('Unit Mix'!$M$5:$M$104),"")
A20: Outdoor Parking | B20: =IF(COUNTIFS('Unit Mix'!$E$5:$E$104,$A20,'Unit Mix'!$P$5:$P$104,"Included")=0,"",SUMIFS('Unit Mix'!$M$5:$M$104,'Unit Mix'!$E$5:$E$104,$A20,'Unit Mix'!$P$5:$P$104,"Included")) | C20: =IFERROR($B20/SUM('Unit Mix'!$M$5:$M$104),"")

Sheet Unit Mix
A1: Self Storage Unit Mix Revenue Model
A2: Enter fictional unit-mix assumptions in yellow cells. Derived values recalculate when the workbook opens.
A4: Facility | B4: Unit Type | C4: Width (ft) | D4: Length (ft) | E4: Climate Class | F4: Unit Count | G4: Street Rate per Unit | H4: Physical Occupancy | I4: Economic Occupancy | J4: Total Rentable Square Feet | K4: Occupied Units | L4: Gross Potential Monthly Rent | M4: Modeled Monthly Revenue | N4: Revenue Contribution | O4: Monthly Revenue per Square Foot | P4: Status | Q4: Owner | R4: Period | S4: Review Due Date | T4: Notes | U4: Human Review Flag
A5: Fictional Juniper Key Storage | B5: 5x5 | C5: =IF(OR($A5="",$B5=""),"",IFERROR(VLOOKUP($B5,'Assumptions'!$E$5:$G$16,2,FALSE),"")) | D5: =IF(OR($A5="",$B5=""),"",IFERROR(VLOOKUP($B5,'Assumptions'!$E$5:$G$16,3,FALSE),"")) | E5: Climate-Controlled | F5: 40 | G5: 69 | H5: 0.95 | I5: 0.89 | J5: =IF(OR($A5="",COUNT($C5:$D5,$F5)<3),"",$C5*$D5*$F5) | K5: =IF(OR($A5="",COUNT($F5,$H5)<2),"",ROUND($F5*$H5,1)) | L5: =IF(OR($A5="",COUNT($F5:$G5)<2),"",$F5*$G5) | M5: =IF(OR($A5="",COUNT($L5,$I5)<2),"",$L5*$I5) | N5: =IF(OR($A5="",$P5<>"Included"),"",IFERROR($M5/SUMIF($P$5:$P$104,"Included",$M$5:$M$104),"")) | O5: =IF($A5="","",IFERROR($M5/$J5,"")) | P5: Included | Q5: Fictional North Team | R5: 46266 | S5: 46296 | T5: Fictional entry-level climate mix. | U5: =IF($A5="","",IF(OR($B5="",$C5="",$D5="",$E5="",$F5="",$G5="",$H5="",$I5="",$P5="",$Q5="",$R5=""),"Review incomplete inputs",IF(OR($F5>'Assumptions'!$J$5,$G5>'Assumptions'!$J$6,$H5<'Assumptions'!$J$7,$H5>'Assumptions'!$J$8,$I5<'Assumptions'!$J$7,$I5>'Assumptions'!$J$8,$I5>$H5),"Review model inputs",IF(AND($P5="Included",$S5<>"",$S5<TODAY()),"Review due date",""))))
A6: Fictional Juniper Key Storage | B6: 5x10 | C6: =IF(OR($A6="",$B6=""),"",IFERROR(VLOOKUP($B6,'Assumptions'!$E$5:$G$16,2,FALSE),"")) | D6: =IF(OR($A6="",$B6=""),"",IFERROR(VLOOKUP($B6,'Assumptions'!$E$5:$G$16,3,FALSE),"")) | E6: Climate-Controlled | F6: 55 | G6: 109 | H6: 0.93 | I6: 0.87 | J6: =IF(OR($A6="",COUNT($C6:$D6,$F6)<3),"",$C6*$D6*$F6) | K6: =IF(OR($A6="",COUNT($F6,$H6)<2),"",ROUND($F6*$H6,1)) | L6: =IF(OR($A6="",COUNT($F6:$G6)<2),"",$F6*$G6) | M6: =IF(OR($A6="",COUNT($L6,$I6)<2),"",$L6*$I6) | N6: =IF(OR($A6="",$P6<>"Included"),"",IFERROR($M6/SUMIF($P$5:$P$104,"Included",$M$5:$M$104),"")) | O6: =IF($A6="","",IFERROR($M6/$J6,"")) | P6: Included | Q6: Fictional North Team | R6: 46266 | S6: 46301 | T6: Fictional core climate mix. | U6: =IF($A6="","",IF(OR($B6="",$C6="",$D6="",$E6="",$F6="",$G6="",$H6="",$I6="",$P6="",$Q6="",$R6=""),"Review incomplete inputs",IF(OR($F6>'Assumptions'!$J$5,$G6>'Assumptions'!$J$6,$H6<'Assumptions'!$J$7,$H6>'Assumptions'!$J$8,$I6<'Assumptions'!$J$7,$I6>'Assumptions'!$J$8,$I6>$H6),"Review model inputs",IF(AND($P6="Included",$S6<>"",$S6<TODAY()),"Review due date",""))))
A7: Fictional Juniper Key Storage | B7: 10x10 | C7: =IF(OR($A7="",$B7=""),"",IFERROR(VLOOKUP($B7,'Assumptions'!$E$5:$G$16,2,FALSE),"")) | D7: =IF(OR($A7="",$B7=""),"",IFERROR(VLOOKUP($B7,'Assumptions'!$E$5:$G$16,3,FALSE),"")) | E7: Climate-Controlled | F7: 80 | G7: 169 | H7: 0.91 | I7: 0.85 | J7: =IF(OR($A7="",COUNT($C7:$D7,$F7)<3),"",$C7*$D7*$F7) | K7: =IF(OR($A7="",COUNT($F7,$H7)<2),"",ROUND($F7*$H7,1)) | L7: =IF(OR($A7="",COUNT($F7:$G7)<2),"",$F7*$G7) | M7: =IF(OR($A7="",COUNT($L7,$I7)<2),"",$L7*$I7) | N7: =IF(OR($A7="",$P7<>"Included"),"",IFERROR($M7/SUMIF($P$5:$P$104,"Included",$M$5:$M$104),"")) | O7: =IF($A7="","",IFERROR($M7/$J7,"")) | P7: Included | Q7: Fictional North Team | R7: 46266 | S7: 46275 | T7: Fictional high-volume size test. | U7: =IF($A7="","",IF(OR($B7="",$C7="",$D7="",$E7="",$F7="",$G7="",$H7="",$I7="",$P7="",$Q7="",$R7=""),"Review incomplete inputs",IF(OR($F7>'Assumptions'!$J$5,$G7>'Assumptions'!$J$6,$H7<'Assumptions'!$J$7,$H7>'Assumptions'!$J$8,$I7<'Assumptions'!$J$7,$I7>'Assumptions'!$J$8,$I7>$H7),"Review model inputs",IF(AND($P7="Included",$S7<>"",$S7<TODAY()),"Review due date",""))))
A8: Fictional Juniper Key Storage | B8: 10x15 | C8: =IF(OR($A8="",$B8=""),"",IFERROR(VLOOKUP($B8,'Assumptions'!$E$5:$G$16,2,FALSE),"")) | D8: =IF(OR($A8="",$B8=""),"",IFERROR(VLOOKUP($B8,'Assumptions'!$E$5:$G$16,3,FALSE),"")) | E8: Drive-Up | F8: 60 | G8: 199 | H8: 0.88 | I8: 0.81 | J8: =IF(OR($A8="",COUNT($C8:$D8,$F8)<3),"",$C8*$D8*$F8) | K8: =IF(OR($A8="",COUNT($F8,$H8)<2),"",ROUND($F8*$H8,1)) | L8: =IF(OR($A8="",COUNT($F8:$G8)<2),"",$F8*$G8) | M8: =IF(OR($A8="",COUNT($L8,$I8)<2),"",$L8*$I8) | N8: =IF(OR($A8="",$P8<>"Included"),"",IFERROR($M8/SUMIF($P$5:$P$104,"Included",$M$5:$M$104),"")) | O8: =IF($A8="","",IFERROR($M8/$J8,"")) | P8: Included | Q8: Fictional South Team | R8: 46266 | S8: 46306 | T8: Fictional drive-up mix. | U8: =IF($A8="","",IF(OR($B8="",$C8="",$D8="",$E8="",$F8="",$G8="",$H8="",$I8="",$P8="",$Q8="",$R8=""),"Review incomplete inputs",IF(OR($F8>'Assumptions'!$J$5,$G8>'Assumptions'!$J$6,$H8<'Assumptions'!$J$7,$H8>'Assumptions'!$J$8,$I8<'Assumptions'!$J$7,$I8>'Assumptions'!$J$8,$I8>$H8),"Review model inputs",IF(AND($P8="Included",$S8<>"",$S8<TODAY()),"Review due date",""))))
A9: Fictional Juniper Key Storage | B9: 10x20 | C9: =IF(OR($A9="",$B9=""),"",IFERROR(VLOOKUP($B9,'Assumptions'!$E$5:$G$16,2,FALSE),"")) | D9: =IF(OR($A9="",$B9=""),"",IFERROR(VLOOKUP($B9,'Assumptions'!$E$5:$G$16,3,FALSE),"")) | E9: Drive-Up | F9: 45 | G9: 249 | H9: 0.84 | I9: 0.77 | J9: =IF(OR($A9="",COUNT($C9:$D9,$F9)<3),"",$C9*$D9*$F9) | K9: =IF(OR($A9="",COUNT($F9,$H9)<2),"",ROUND($F9*$H9,1)) | L9: =IF(OR($A9="",COUNT($F9:$G9)<2),"",$F9*$G9) | M9: =IF(OR($A9="",COUNT($L9,$I9)<2),"",$L9*$I9) | N9: =IF(OR($A9="",$P9<>"Included"),"",IFERROR($M9/SUMIF($P$5:$P$104,"Included",$M$5:$M$104),"")) | O9: =IF($A9="","",IFERROR($M9/$J9,"")) | P9: Draft | Q9: Fictional South Team | R9: 46266 | S9: 46311 | T9: Fictional draft scenario. | U9: =IF($A9="","",IF(OR($B9="",$C9="",$D9="",$E9="",$F9="",$G9="",$H9="",$I9="",$P9="",$Q9="",$R9=""),"Review incomplete inputs",IF(OR($F9>'Assumptions'!$J$5,$G9>'Assumptions'!$J$6,$H9<'Assumptions'!$J$7,$H9>'Assumptions'!$J$8,$I9<'Assumptions'!$J$7,$I9>'Assumptions'!$J$8,$I9>$H9),"Review model inputs",IF(AND($P9="Included",$S9<>"",$S9<TODAY()),"Review due date",""))))
A10: Fictional Copper Lantern Storage | B10: 5x5 | C10: =IF(OR($A10="",$B10=""),"",IFERROR(VLOOKUP($B10,'Assumptions'!$E$5:$G$16,2,FALSE),"")) | D10: =IF(OR($A10="",$B10=""),"",IFERROR(VLOOKUP($B10,'Assumptions'!$E$5:$G$16,3,FALSE),"")) | E10: Drive-Up | F10: 30 | G10: 59 | H10: 1 | I10: 0.94 | J10: =IF(OR($A10="",COUNT($C10:$D10,$F10)<3),"",$C10*$D10*$F10) | K10: =IF(OR($A10="",COUNT($F10,$H10)<2),"",ROUND($F10*$H10,1)) | L10: =IF(OR($A10="",COUNT($F10:$G10)<2),"",$F10*$G10) | M10: =IF(OR($A10="",COUNT($L10,$I10)<2),"",$L10*$I10) | N10: =IF(OR($A10="",$P10<>"Included"),"",IFERROR($M10/SUMIF($P$5:$P$104,"Included",$M$5:$M$104),"")) | O10: =IF($A10="","",IFERROR($M10/$J10,"")) | P10: Included | Q10: Fictional East Team | R10: 46266 | S10: 46316 | T10: Fictional 100.0% physical occupancy boundary. | U10: =IF($A10="","",IF(OR($B10="",$C10="",$D10="",$E10="",$F10="",$G10="",$H10="",$I10="",$P10="",$Q10="",$R10=""),"Review incomplete inputs",IF(OR($F10>'Assumptions'!$J$5,$G10>'Assumptions'!$J$6,$H10<'Assumptions'!$J$7,$H10>'Assumptions'!$J$8,$I10<'Assumptions'!$J$7,$I10>'Assumptions'!$J$8,$I10>$H10),"Review model inputs",IF(AND($P10="Included",$S10<>"",$S10<TODAY()),"Review due date",""))))
A11: Fictional Copper Lantern Storage | B11: 5x10 | C11: =IF(OR($A11="",$B11=""),"",IFERROR(VLOOKUP($B11,'Assumptions'!$E$5:$G$16,2,FALSE),"")) | D11: =IF(OR($A11="",$B11=""),"",IFERROR(VLOOKUP($B11,'Assumptions'!$E$5:$G$16,3,FALSE),"")) | E11: Climate-Controlled | F11: 48 | G11: 119 | H11: 0.9 | I11: 0.83 | J11: =IF(OR($A11="",COUNT($C11:$D11,$F11)<3),"",$C11*$D11*$F11) | K11: =IF(OR($A11="",COUNT($F11,$H11)<2),"",ROUND($F11*$H11,1)) | L11: =IF(OR($A11="",COUNT($F11:$G11)<2),"",$F11*$G11) | M11: =IF(OR($A11="",COUNT($L11,$I11)<2),"",$L11*$I11) | N11: =IF(OR($A11="",$P11<>"Included"),"",IFERROR($M11/SUMIF($P$5:$P$104,"Included",$M$5:$M$104),"")) | O11: =IF($A11="","",IFERROR($M11/$J11,"")) | P11: Included | Q11: Fictional East Team | R11: 46266 | S11: 46321 | T11: Fictional climate rate comparison. | U11: =IF($A11="","",IF(OR($B11="",$C11="",$D11="",$E11="",$F11="",$G11="",$H11="",$I11="",$P11="",$Q11="",$R11=""),"Review incomplete inputs",IF(OR($F11>'Assumptions'!$J$5,$G11>'Assumptions'!$J$6,$H11<'Assumptions'!$J$7,$H11>'Assumptions'!$J$8,$I11<'Assumptions'!$J$7,$I11>'Assumptions'!$J$8,$I11>$H11),"Review model inputs",IF(AND($P11="Included",$S11<>"",$S11<TODAY()),"Review due date",""))))
A12: Fictional Copper Lantern Storage | B12: 10x10 | C12: =IF(OR($A12="",$B12=""),"",IFERROR(VLOOKUP($B12,'Assumptions'!$E$5:$G$16,2,FALSE),"")) | D12: =IF(OR($A12="",$B12=""),"",IFERROR(VLOOKUP($B12,'Assumptions'!$E$5:$G$16,3,FALSE),"")) | E12: Climate-Controlled | F12: 72 | G12: 179 | H12: 0.86 | I12: 0.79 | J12: =IF(OR($A12="",COUNT($C12:$D12,$F12)<3),"",$C12*$D12*$F12) | K12: =IF(OR($A12="",COUNT($F12,$H12)<2),"",ROUND($F12*$H12,1)) | L12: =IF(OR($A12="",COUNT($F12:$G12)<2),"",$F12*$G12) | M12: =IF(OR($A12="",COUNT($L12,$I12)<2),"",$L12*$I12) | N12: =IF(OR($A12="",$P12<>"Included"),"",IFERROR($M12/SUMIF($P$5:$P$104,"Included",$M$5:$M$104),"")) | O12: =IF($A12="","",IFERROR($M12/$J12,"")) | P12: Included | Q12: Fictional West Team | R12: 46266 | S12: 46326 | T12: Fictional mid-size comparison. | U12: =IF($A12="","",IF(OR($B12="",$C12="",$D12="",$E12="",$F12="",$G12="",$H12="",$I12="",$P12="",$Q12="",$R12=""),"Review incomplete inputs",IF(OR($F12>'Assumptions'!$J$5,$G12>'Assumptions'!$J$6,$H12<'Assumptions'!$J$7,$H12>'Assumptions'!$J$8,$I12<'Assumptions'!$J$7,$I12>'Assumptions'!$J$8,$I12>$H12),"Review model inputs",IF(AND($P12="Included",$S12<>"",$S12<TODAY()),"Review due date",""))))
A13: Fictional Copper Lantern Storage | B13: 10x20 | C13: =IF(OR($A13="",$B13=""),"",IFERROR(VLOOKUP($B13,'Assumptions'!$E$5:$G$16,2,FALSE),"")) | D13: =IF(OR($A13="",$B13=""),"",IFERROR(VLOOKUP($B13,'Assumptions'!$E$5:$G$16,3,FALSE),"")) | E13: Drive-Up | F13: 36 | G13: 259 | H13: 0.75 | I13: 0.68 | J13: =IF(OR($A13="",COUNT($C13:$D13,$F13)<3),"",$C13*$D13*$F13) | K13: =IF(OR($A13="",COUNT($F13,$H13)<2),"",ROUND($F13*$H13,1)) | L13: =IF(OR($A13="",COUNT($F13:$G13)<2),"",$F13*$G13) | M13: =IF(OR($A13="",COUNT($L13,$I13)<2),"",$L13*$I13) | N13: =IF(OR($A13="",$P13<>"Included"),"",IFERROR($M13/SUMIF($P$5:$P$104,"Included",$M$5:$M$104),"")) | O13: =IF($A13="","",IFERROR($M13/$J13,"")) | P13: Included | Q13: Fictional West Team | R13: 46266 | S13: 46331 | T13: Fictional large-unit comparison. | U13: =IF($A13="","",IF(OR($B13="",$C13="",$D13="",$E13="",$F13="",$G13="",$H13="",$I13="",$P13="",$Q13="",$R13=""),"Review incomplete inputs",IF(OR($F13>'Assumptions'!$J$5,$G13>'Assumptions'!$J$6,$H13<'Assumptions'!$J$7,$H13>'Assumptions'!$J$8,$I13<'Assumptions'!$J$7,$I13>'Assumptions'!$J$8,$I13>$H13),"Review model inputs",IF(AND($P13="Included",$S13<>"",$S13<TODAY()),"Review due date",""))))
A14: Fictional Copper Lantern Storage | B14: Parking 10x20 | C14: =IF(OR($A14="",$B14=""),"",IFERROR(VLOOKUP($B14,'Assumptions'!$E$5:$G$16,2,FALSE),"")) | D14: =IF(OR($A14="",$B14=""),"",IFERROR(VLOOKUP($B14,'Assumptions'!$E$5:$G$16,3,FALSE),"")) | E14: Outdoor Parking | F14: 20 | G14: 139 | H14: 0.5 | I14: 0.46 | J14: =IF(OR($A14="",COUNT($C14:$D14,$F14)<3),"",$C14*$D14*$F14) | K14: =IF(OR($A14="",COUNT($F14,$H14)<2),"",ROUND($F14*$H14,1)) | L14: =IF(OR($A14="",COUNT($F14:$G14)<2),"",$F14*$G14) | M14: =IF(OR($A14="",COUNT($L14,$I14)<2),"",$L14*$I14) | N14: =IF(OR($A14="",$P14<>"Included"),"",IFERROR($M14/SUMIF($P$5:$P$104,"Included",$M$5:$M$104),"")) | O14: =IF($A14="","",IFERROR($M14/$J14,"")) | P14: Included | Q14: Fictional Portfolio Team | R14: 46266 | S14: 46336 | T14: Fictional 50.0% physical occupancy boundary. | U14: =IF($A14="","",IF(OR($B14="",$C14="",$D14="",$E14="",$F14="",$G14="",$H14="",$I14="",$P14="",$Q14="",$R14=""),"Review incomplete inputs",IF(OR($F14>'Assumptions'!$J$5,$G14>'Assumptions'!$J$6,$H14<'Assumptions'!$J$7,$H14>'Assumptions'!$J$8,$I14<'Assumptions'!$J$7,$I14>'Assumptions'!$J$8,$I14>$H14),"Review model inputs",IF(AND($P14="Included",$S14<>"",$S14<TODAY()),"Review due date",""))))
C15: =IF(OR($A15="",$B15=""),"",IFERROR(VLOOKUP($B15,'Assumptions'!$E$5:$G$16,2,FALSE),"")) | D15: =IF(OR($A15="",$B15=""),"",IFERROR(VLOOKUP($B15,'Assumptions'!$E$5:$G$16,3,FALSE),"")) | J15: =IF(OR($A15="",COUNT($C15:$D15,$F15)<3),"",$C15*$D15*$F15) | K15: =IF(OR($A15="",COUNT($F15,$H15)<2),"",ROUND($F15*$H15,1)) | L15: =IF(OR($A15="",COUNT($F15:$G15)<2),"",$F15*$G15) | M15: =IF(OR($A15="",COUNT($L15,$I15)<2),"",$L15*$I15) | N15: =IF(OR($A15="",$P15<>"Included"),"",IFERROR($M15/SUMIF($P$5:$P$104,"Included",$M$5:$M$104),"")) | O15: =IF($A15="","",IFERROR($M15/$J15,"")) | U15: =IF($A15="","",IF(OR($B15="",$C15="",$D15="",$E15="",$F15="",$G15="",$H15="",$I15="",$P15="",$Q15="",$R15=""),"Review incomplete inputs",IF(OR($F15>'Assumptions'!$J$5,$G15>'Assumptions'!$J$6,$H15<'Assumptions'!$J$7,$H15>'Assumptions'!$J$8,$I15<'Assumptions'!$J$7,$I15>'Assumptions'!$J$8,$I15>$H15),"Review model inputs",IF(AND($P15="Included",$S15<>"",$S15<TODAY()),"Review due date",""))))
C16: =IF(OR($A16="",$B16=""),"",IFERROR(VLOOKUP($B16,'Assumptions'!$E$5:$G$16,2,FALSE),"")) | D16: =IF(OR($A16="",$B16=""),"",IFERROR(VLOOKUP($B16,'Assumptions'!$E$5:$G$16,3,FALSE),"")) | J16: =IF(OR($A16="",COUNT($C16:$D16,$F16)<3),"",$C16*$D16*$F16) | K16: =IF(OR($A16="",COUNT($F16,$H16)<2),"",ROUND($F16*$H16,1)) | L16: =IF(OR($A16="",COUNT($F16:$G16)<2),"",$F16*$G16) | M16: =IF(OR($A16="",COUNT($L16,$I16)<2),"",$L16*$I16) | N16: =IF(OR($A16="",$P16<>"Included"),"",IFERROR($M16/SUMIF($P$5:$P$104,"Included",$M$5:$M$104),"")) | O16: =IF($A16="","",IFERROR($M16/$J16,"")) | U16: =IF($A16="","",IF(OR($B16="",$C16="",$D16="",$E16="",$F16="",$G16="",$H16="",$I16="",$P16="",$Q16="",$R16=""),"Review incomplete inputs",IF(OR($F16>'Assumptions'!$J$5,$G16>'Assumptions'!$J$6,$H16<'Assumptions'!$J$7,$H16>'Assumptions'!$J$8,$I16<'Assumptions'!$J$7,$I16>'Assumptions'!$J$8,$I16>$H16),"Review model inputs",IF(AND($P16="Included",$S16<>"",$S16<TODAY()),"Review due date",""))))
C17: =IF(OR($A17="",$B17=""),"",IFERROR(VLOOKUP($B17,'Assumptions'!$E$5:$G$16,2,FALSE),"")) | D17: =IF(OR($A17="",$B17=""),"",IFERROR(VLOOKUP($B17,'Assumptions'!$E$5:$G$16,3,FALSE),"")) | J17: =IF(OR($A17="",COUNT($C17:$D17,$F17)<3),"",$C17*$D17*$F17) | K17: =IF(OR($A17="",COUNT($F17,$H17)<2),"",ROUND($F17*$H17,1)) | L17: =IF(OR($A17="",COUNT($F17:$G17)<2),"",$F17*$G17) | M17: =IF(OR($A17="",COUNT($L17,$I17)<2),"",$L17*$I17) | N17: =IF(OR($A17="",$P17<>"Included"),"",IFERROR($M17/SUMIF($P$5:$P$104,"Included",$M$5:$M$104),"")) | O17: =IF($A17="","",IFERROR($M17/$J17,"")) | U17: =IF($A17="","",IF(OR($B17="",$C17="",$D17="",$E17="",$F17="",$G17="",$H17="",$I17="",$P17="",$Q17="",$R17=""),"Review incomplete inputs",IF(OR($F17>'Assumptions'!$J$5,$G17>'Assumptions'!$J$6,$H17<'Assumptions'!$J$7,$H17>'Assumptions'!$J$8,$I17<'Assumptions'!$J$7,$I17>'Assumptions'!$J$8,$I17>$H17),"Review model inputs",IF(AND($P17="Included",$S17<>"",$S17<TODAY()),"Review due date",""))))
C18: =IF(OR($A18="",$B18=""),"",IFERROR(VLOOKUP($B18,'Assumptions'!$E$5:$G$16,2,FALSE),"")) | D18: =IF(OR($A18="",$B18=""),"",IFERROR(VLOOKUP($B18,'Assumptions'!$E$5:$G$16,3,FALSE),"")) | J18: =IF(OR($A18="",COUNT($C18:$D18,$F18)<3),"",$C18*$D18*$F18) | K18: =IF(OR($A18="",COUNT($F18,$H18)<2),"",ROUND($F18*$H18,1)) | L18: =IF(OR($A18="",COUNT($F18:$G18)<2),"",$F18*$G18) | M18: =IF(OR($A18="",COUNT($L18,$I18)<2),"",$L18*$I18) | N18: =IF(OR($A18="",$P18<>"Included"),"",IFERROR($M18/SUMIF($P$5:$P$104,"Included",$M$5:$M$104),"")) | O18: =IF($A18="","",IFERROR($M18/$J18,"")) | U18: =IF($A18="","",IF(OR($B18="",$C18="",$D18="",$E18="",$F18="",$G18="",$H18="",$I18="",$P18="",$Q18="",$R18=""),"Review incomplete inputs",IF(OR($F18>'Assumptions'!$J$5,$G18>'Assumptions'!$J$6,$H18<'Assumptions'!$J$7,$H18>'Assumptions'!$J$8,$I18<'Assumptions'!$J$7,$I18>'Assumptions'!$J$8,$I18>$H18),"Review model inputs",IF(AND($P18="Included",$S18<>"",$S18<TODAY()),"Review due date",""))))
C19: =IF(OR($A19="",$B19=""),"",IFERROR(VLOOKUP($B19,'Assumptions'!$E$5:$G$16,2,FALSE),"")) | D19: =IF(OR($A19="",$B19=""),"",IFERROR(VLOOKUP($B19,'Assumptions'!$E$5:$G$16,3,FALSE),"")) | J19: =IF(OR($A19="",COUNT($C19:$D19,$F19)<3),"",$C19*$D19*$F19) | K19: =IF(OR($A19="",COUNT($F19,$H19)<2),"",ROUND($F19*$H19,1)) | L19: =IF(OR($A19="",COUNT($F19:$G19)<2),"",$F19*$G19) | M19: =IF(OR($A19="",COUNT($L19,$I19)<2),"",$L19*$I19) | N19: =IF(OR($A19="",$P19<>"Included"),"",IFERROR($M19/SUMIF($P$5:$P$104,"Included",$M$5:$M$104),"")) | O19: =IF($A19="","",IFERROR($M19/$J19,"")) | U19: =IF($A19="","",IF(OR($B19="",$C19="",$D19="",$E19="",$F19="",$G19="",$H19="",$I19="",$P19="",$Q19="",$R19=""),"Review incomplete inputs",IF(OR($F19>'Assumptions'!$J$5,$G19>'Assumptions'!$J$6,$H19<'Assumptions'!$J$7,$H19>'Assumptions'!$J$8,$I19<'Assumptions'!$J$7,$I19>'Assumptions'!$J$8,$I19>$H19),"Review model inputs",IF(AND($P19="Included",$S19<>"",$S19<TODAY()),"Review due date",""))))
C20: =IF(OR($A20="",$B20=""),"",IFERROR(VLOOKUP($B20,'Assumptions'!$E$5:$G$16,2,FALSE),"")) | D20: =IF(OR($A20="",$B20=""),"",IFERROR(VLOOKUP($B20,'Assumptions'!$E$5:$G$16,3,FALSE),"")) | J20: =IF(OR($A20="",COUNT($C20:$D20,$F20)<3),"",$C20*$D20*$F20) | K20: =IF(OR($A20="",COUNT($F20,$H20)<2),"",ROUND($F20*$H20,1)) | L20: =IF(OR($A20="",COUNT($F20:$G20)<2),"",$F20*$G20) | M20: =IF(OR($A20="",COUNT($L20,$I20)<2),"",$L20*$I20) | N20: =IF(OR($A20="",$P20<>"Included"),"",IFERROR($M20/SUMIF($P$5:$P$104,"Included",$M$5:$M$104),"")) | O20: =IF($A20="","",IFERROR($M20/$J20,"")) | U20: =IF($A20="","",IF(OR($B20="",$C20="",$D20="",$E20="",$F20="",$G20="",$H20="",$I20="",$P20="",$Q20="",$R20=""),"Review incomplete inputs",IF(OR($F20>'Assumptions'!$J$5,$G20>'Assumptions'!$J$6,$H20<'Assumptions'!$J$7,$H20>'Assumptions'!$J$8,$I20<'Assumptions'!$J$7,$I20>'Assumptions'!$J$8,$I20>$H20),"Review model inputs",IF(AND($P20="Included",$S20<>"",$S20<TODAY()),"Review due date",""))))
C21: =IF(OR($A21="",$B21=""),"",IFERROR(VLOOKUP($B21,'Assumptions'!$E$5:$G$16,2,FALSE),"")) | D21: =IF(OR($A21="",$B21=""),"",IFERROR(VLOOKUP($B21,'Assumptions'!$E$5:$G$16,3,FALSE),"")) | J21: =IF(OR($A21="",COUNT($C21:$D21,$F21)<3),"",$C21*$D21*$F21) | K21: =IF(OR($A21="",COUNT($F21,$H21)<2),"",ROUND($F21*$H21,1)) | L21: =IF(OR($A21="",COUNT($F21:$G21)<2),"",$F21*$G21) | M21: =IF(OR($A21="",COUNT($L21,$I21)<2),"",$L21*$I21) | N21: =IF(OR($A21="",$P21<>"Included"),"",IFERROR($M21/SUMIF($P$5:$P$104,"Included",$M$5:$M$104),"")) | O21: =IF($A21="","",IFERROR($M21/$J21,"")) | U21: =IF($A21="","",IF(OR($B21="",$C21="",$D21="",$E21="",$F21="",$G21="",$H21="",$I21="",$P21="",$Q21="",$R21=""),"Review incomplete inputs",IF(OR($F21>'Assumptions'!$J$5,$G21>'Assumptions'!$J$6,$H21<'Assumptions'!$J$7,$H21>'Assumptions'!$J$8,$I21<'Assumptions'!$J$7,$I21>'Assumptions'!$J$8,$I21>$H21),"Review model inputs",IF(AND($P21="Included",$S21<>"",$S21<TODAY()),"Review due date",""))))
C22: =IF(OR($A22="",$B22=""),"",IFERROR(VLOOKUP($B22,'Assumptions'!$E$5:$G$16,2,FALSE),"")) | D22: =IF(OR($A22="",$B22=""),"",IFERROR(VLOOKUP($B22,'Assumptions'!$E$5:$G$16,3,FALSE),"")) | J22: =IF(OR($A22="",COUNT($C22:$D22,$F22)<3),"",$C22*$D22*$F22) | K22: =IF(OR($A22="",COUNT($F22,$H22)<2),"",ROUND($F22*$H22,1)) | L22: =IF(OR($A22="",COUNT($F22:$G22)<2),"",$F22*$G22) | M22: =IF(OR($A22="",COUNT($L22,$I22)<2),"",$L22*$I22) | N22: =IF(OR($A22="",$P22<>"Included"),"",IFERROR($M22/SUMIF($P$5:$P$104,"Included",$M$5:$M$104),"")) | O22: =IF($A22="","",IFERROR($M22/$J22,"")) | U22: =IF($A22="","",IF(OR($B22="",$C22="",$D22="",$E22="",$F22="",$G22="",$H22="",$I22="",$P22="",$Q22="",$R22=""),"Review incomplete inputs",IF(OR($F22>'Assumptions'!$J$5,$G22>'Assumptions'!$J$6,$H22<'Assumptions'!$J$7,$H22>'Assumptions'!$J$8,$I22<'Assumptions'!$J$7,$I22>'Assumptions'!$J$8,$I22>$H22),"Review model inputs",IF(AND($P22="Included",$S22<>"",$S22<TODAY()),"Review due date",""))))
C23: =IF(OR($A23="",$B23=""),"",IFERROR(VLOOKUP($B23,'Assumptions'!$E$5:$G$16,2,FALSE),"")) | D23: =IF(OR($A23="",$B23=""),"",IFERROR(VLOOKUP($B23,'Assumptions'!$E$5:$G$16,3,FALSE),"")) | J23: =IF(OR($A23="",COUNT($C23:$D23,$F23)<3),"",$C23*$D23*$F23) | K23: =IF(OR($A23="",COUNT($F23,$H23)<2),"",ROUND($F23*$H23,1)) | L23: =IF(OR($A23="",COUNT($F23:$G23)<2),"",$F23*$G23) | M23: =IF(OR($A23="",COUNT($L23,$I23)<2),"",$L23*$I23) | N23: =IF(OR($A23="",$P23<>"Included"),"",IFERROR($M23/SUMIF($P$5:$P$104,"Included",$M$5:$M$104),"")) | O23: =IF($A23="","",IFERROR($M23/$J23,"")) | U23: =IF($A23="","",IF(OR($B23="",$C23="",$D23="",$E23="",$F23="",$G23="",$H23="",$I23="",$P23="",$Q23="",$R23=""),"Review incomplete inputs",IF(OR($F23>'Assumptions'!$J$5,$G23>'Assumptions'!$J$6,$H23<'Assumptions'!$J$7,$H23>'Assumptions'!$J$8,$I23<'Assumptions'!$J$7,$I23>'Assumptions'!$J$8,$I23>$H23),"Review model inputs",IF(AND($P23="Included",$S23<>"",$S23<TODAY()),"Review due date",""))))
C24: =IF(OR($A24="",$B24=""),"",IFERROR(VLOOKUP($B24,'Assumptions'!$E$5:$G$16,2,FALSE),"")) | D24: =IF(OR($A24="",$B24=""),"",IFERROR(VLOOKUP($B24,'Assumptions'!$E$5:$G$16,3,FALSE),"")) | J24: =IF(OR($A24="",COUNT($C24:$D24,$F24)<3),"",$C24*$D24*$F24) | K24: =IF(OR($A24="",COUNT($F24,$H24)<2),"",ROUND($F24*$H24,1)) | L24: =IF(OR($A24="",COUNT($F24:$G24)<2),"",$F24*$G24) | M24: =IF(OR($A24="",COUNT($L24,$I24)<2),"",$L24*$I24) | N24: =IF(OR($A24="",$P24<>"Included"),"",IFERROR($M24/SUMIF($P$5:$P$104,"Included",$M$5:$M$104),"")) | O24: =IF($A24="","",IFERROR($M24/$J24,"")) | U24: =IF($A24="","",IF(OR($B24="",$C24="",$D24="",$E24="",$F24="",$G24="",$H24="",$I24="",$P24="",$Q24="",$R24=""),"Review incomplete inputs",IF(OR($F24>'Assumptions'!$J$5,$G24>'Assumptions'!$J$6,$H24<'Assumptions'!$J$7,$H24>'Assumptions'!$J$8,$I24<'Assumptions'!$J$7,$I24>'Assumptions'!$J$8,$I24>$H24),"Review model inputs",IF(AND($P24="Included",$S24<>"",$S24<TODAY()),"Review due date",""))))
C25: =IF(OR($A25="",$B25=""),"",IFERROR(VLOOKUP($B25,'Assumptions'!$E$5:$G$16,2,FALSE),"")) | D25: =IF(OR($A25="",$B25=""),"",IFERROR(VLOOKUP($B25,'Assumptions'!$E$5:$G$16,3,FALSE),"")) | J25: =IF(OR($A25="",COUNT($C25:$D25,$F25)<3),"",$C25*$D25*$F25) | K25: =IF(OR($A25="",COUNT($F25,$H25)<2),"",ROUND($F25*$H25,1)) | L25: =IF(OR($A25="",COUNT($F25:$G25)<2),"",$F25*$G25) | M25: =IF(OR($A25="",COUNT($L25,$I25)<2),"",$L25*$I25) | N25: =IF(OR($A25="",$P25<>"Included"),"",IFERROR($M25/SUMIF($P$5:$P$104,"Included",$M$5:$M$104),"")) | O25: =IF($A25="","",IFERROR($M25/$J25,"")) | U25: =IF($A25="","",IF(OR($B25="",$C25="",$D25="",$E25="",$F25="",$G25="",$H25="",$I25="",$P25="",$Q25="",$R25=""),"Review incomplete inputs",IF(OR($F25>'Assumptions'!$J$5,$G25>'Assumptions'!$J$6,$H25<'Assumptions'!$J$7,$H25>'Assumptions'!$J$8,$I25<'Assumptions'!$J$7,$I25>'Assumptions'!$J$8,$I25>$H25),"Review model inputs",IF(AND($P25="Included",$S25<>"",$S25<TODAY()),"Review due date",""))))
C26: =IF(OR($A26="",$B26=""),"",IFERROR(VLOOKUP($B26,'Assumptions'!$E$5:$G$16,2,FALSE),"")) | D26: =IF(OR($A26="",$B26=""),"",IFERROR(VLOOKUP($B26,'Assumptions'!$E$5:$G$16,3,FALSE),"")) | J26: =IF(OR($A26="",COUNT($C26:$D26,$F26)<3),"",$C26*$D26*$F26) | K26: =IF(OR($A26="",COUNT($F26,$H26)<2),"",ROUND($F26*$H26,1)) | L26: =IF(OR($A26="",COUNT($F26:$G26)<2),"",$F26*$G26) | M26: =IF(OR($A26="",COUNT($L26,$I26)<2),"",$L26*$I26) | N26: =IF(OR($A26="",$P26<>"Included"),"",IFERROR($M26/SUMIF($P$5:$P$104,"Included",$M$5:$M$104),"")) | O26: =IF($A26="","",IFERROR($M26/$J26,"")) | U26: =IF($A26="","",IF(OR($B26="",$C26="",$D26="",$E26="",$F26="",$G26="",$H26="",$I26="",$P26="",$Q26="",$R26=""),"Review incomplete inputs",IF(OR($F26>'Assumptions'!$J$5,$G26>'Assumptions'!$J$6,$H26<'Assumptions'!$J$7,$H26>'Assumptions'!$J$8,$I26<'Assumptions'!$J$7,$I26>'Assumptions'!$J$8,$I26>$H26),"Review model inputs",IF(AND($P26="Included",$S26<>"",$S26<TODAY()),"Review due date",""))))
... C104: =IF(OR($A104="",$B104=""),"",IFERROR(VLOOKUP($B104,'Assumptions'!$E$5:$G$16,2,FALSE),"")) | D104: =IF(OR($A104="",$B104=""),"",IFERROR(VLOOKUP($B104,'Assumptions'!$E$5:$G$16,3,FALSE),"")) | J104: =IF(OR($A104="",COUNT($C104:$D104,$F104)<3),"",$C104*$D104*$F104) | K104: =IF(OR($A104="",COUNT($F104,$H104)<2),"",ROUND($F104*$H104,1)) | L104: =IF(OR($A104="",COUNT($F104:$G104)<2),"",$F104*$G104) | M104: =IF(OR($A104="",COUNT($L104,$I104)<2),"",$L104*$I104) | N104: =IF(OR($A104="",$P104<>"Included"),"",IFERROR($M104/SUMIF($P$5:$P$104,"Included",$M$5:$M$104),"")) | O104: =IF($A104="","",IFERROR($M104/$J104,"")) | U104: =IF($A104="","",IF(OR($B104="",$C104="",$D104="",$E104="",$F104="",$G104="",$H104="",$I104="",$P104="",$Q104="",$R104=""),"Review incomplete inputs",IF(OR($F104>'Assumptions'!$J$5,$G104>'Assumptions'!$J$6,$H104<'Assumptions'!$J$7,$H104>'Assumptions'!$J$8,$I104<'Assumptions'!$J$7,$I104>'Assumptions'!$J$8,$I104>$H104),"Review model inputs",IF(AND($P104="Included",$S104<>"",$S104<TODAY()),"Review due date",""))))

Sheet Assumptions
A1: Self Storage Unit Mix Revenue Model Assumptions
A2: Edit the fictional reference lists and review limits before relying on model results.
A4: Facility List | B4: Climate Class | C4: Status | D4: Owner | E4: Unit Type | F4: Width (ft) | G4: Length (ft) | I4: Model Review Limit | J4: Editable Value | K4: Unit | L4: Use
A5: Fictional Juniper Key Storage | B5: Drive-Up | C5: Included | D5: Fictional North Team | E5: 5x5 | F5: 5 | G5: 5 | I5: Maximum Recommended Unit Count | J5: 500 | K5: units per line | L5: Requests review above this value
A6: Fictional Copper Lantern Storage | B6: Climate-Controlled | C6: Draft | D6: Fictional South Team | E6: 5x10 | F6: 5 | G6: 10 | I6: Maximum Recommended Street Rate | J6: 1000 | K6: US dollars per unit | L6: Requests review above this value
A7: Fictional Blue Finch Storage | B7: Outdoor Parking | C7: Hold for Review | D7: Fictional East Team | E7: 5x15 | F7: 5 | G7: 15 | I7: Minimum Expected Occupancy | J7: 0.5 | K7: percentage | L7: Requests review below this value
A8: Fictional Alder Moon Storage | D8: Fictional West Team | E8: 10x10 | F8: 10 | G8: 10 | I8: Maximum Expected Occupancy | J8: 1 | K8: percentage | L8: Requests review above this value
A9: Fictional Prairie Kite Storage | D9: Fictional Portfolio Team | E9: 10x15 | F9: 10 | G9: 15 | I9: Annualization Months | J9: 12 | K9: months | L9: Scales monthly revenue for the annual indicator
A10: Fictional Harbor Acorn Storage | E10: 10x20 | F10: 10 | G10: 20
E11: 10x25 | F11: 10 | G11: 25
E12: 10x30 | F12: 10 | G12: 30
E13: 12x30 | F13: 12 | G13: 30
E14: Parking 10x20 | F14: 10 | G14: 20
E15: Parking 10x30 | F15: 10 | G15: 30
E16: Locker 4x4 | F16: 4 | G16: 4
