Workbook

Sheet Summary
A1: Self Storage Unit Inventory Spreadsheet
A2: Indicators are calculated from the Unit Inventory sheet. Blank values indicate insufficient entered data.
A4: Inventory Indicator | B4: Calculated Value
A5: Total configured units | B5: =COUNTIF('Unit Inventory'!$B$5:$B$124,"<>")
A6: Occupied units | B6: =IF($B$5=0,"",COUNTIF('Unit Inventory'!$K$5:$K$124,Assumptions!$F$5))
A7: Vacant units | B7: =IF($B$5=0,"",COUNTIF('Unit Inventory'!$K$5:$K$124,Assumptions!$F$6))
A8: Reserved units | B8: =IF($B$5=0,"",COUNTIF('Unit Inventory'!$K$5:$K$124,Assumptions!$F$7))
A9: Maintenance units | B9: =IF($B$5=0,"",COUNTIF('Unit Inventory'!$K$5:$K$124,Assumptions!$F$8))
A10: Offline units | B10: =IF($B$5=0,"",COUNTIF('Unit Inventory'!$K$5:$K$124,Assumptions!$F$9))
A11: Online inventory units | B11: =IF($B$5=0,"",SUM($B$6:$B$9))
A12: Total inventory square feet | B12: =IF(COUNT('Unit Inventory'!$G$5:$G$124)=0,"",IFERROR(SUM('Unit Inventory'!$G$5:$G$124),""))
A13: Occupied square feet | B13: =IF(SUMPRODUCT(('Unit Inventory'!$K$5:$K$124=Assumptions!$F$5)*('Unit Inventory'!$G$5:$G$124<>""))=0,"",IFERROR(SUMIF('Unit Inventory'!$K$5:$K$124,Assumptions!$F$5,'Unit Inventory'!$G$5:$G$124),""))
A14: Physical occupancy | B14: =IFERROR($B$6/$B$11,"")
A15: Listed monthly rate potential | B15: =IF(COUNT('Unit Inventory'!$L$5:$L$124)=0,"",IFERROR(SUMIF('Unit Inventory'!$K$5:$K$124,Assumptions!$F$5,'Unit Inventory'!$L$5:$L$124)+SUMIF('Unit Inventory'!$K$5:$K$124,Assumptions!$F$6,'Unit Inventory'!$L$5:$L$124)+SUMIF('Unit Inventory'!$K$5:$K$124,Assumptions!$F$7,'Unit Inventory'!$L$5:$L$124)+SUMIF('Unit Inventory'!$K$5:$K$124,Assumptions!$F$8,'Unit Inventory'!$L$5:$L$124),""))
A16: Occupied listed monthly rate | B16: =IF(SUMPRODUCT(('Unit Inventory'!$K$5:$K$124=Assumptions!$F$5)*('Unit Inventory'!$L$5:$L$124<>""))=0,"",IFERROR(SUMIF('Unit Inventory'!$K$5:$K$124,Assumptions!$F$5,'Unit Inventory'!$L$5:$L$124),""))
A17: Reviews requiring attention | B17: =IF($B$5=0,"",COUNTIF('Unit Inventory'!$P$5:$P$124,"Past due")+COUNTIF('Unit Inventory'!$P$5:$P$124,"Due soon")+COUNTIF('Unit Inventory'!$P$5:$P$124,"Review date needed"))
A18: Missing review due dates | B18: =IF($B$5=0,"",COUNTIF('Unit Inventory'!$P$5:$P$124,"Review date needed"))
A19: Average standard monthly rate | B19: =IFERROR(AVERAGEIF('Unit Inventory'!$L$5:$L$124,">=0",'Unit Inventory'!$L$5:$L$124),"")
A20: Units missing status | B20: =IF($B$5=0,"",COUNTIFS('Unit Inventory'!$B$5:$B$124,"<>",'Unit Inventory'!$K$5:$K$124,""))
A21: Units missing standard rate | B21: =IF($B$5=0,"",COUNTIFS('Unit Inventory'!$B$5:$B$124,"<>",'Unit Inventory'!$L$5:$L$124,""))

Sheet Unit Inventory
A1: Unit Inventory
A2: Master record of fictional unit locations, dimensions, features, status, standard rates, ownership, and review dates.
A3: Pale yellow cells are editable. Calculated columns are Size, Rate per Square Foot, and Review Flag.
A4: Facility | B4: Unit Number | C4: Building / Area | D4: Floor | E4: Width (ft) | F4: Length (ft) | G4: Size (sq ft) | H4: Unit Type | I4: Climate Controlled | J4: Door Type | K4: Status | L4: Standard Monthly Rate | M4: Rate per Sq Ft | N4: Inventory Owner | O4: Review Due Date | P4: Review Flag | Q4: Notes
A5: Example Pine Ridge Storage (Fictional) | B5: A101 | C5: Building A | D5: Ground | E5: 5 | F5: 5 | G5: =IF(OR($B5="",NOT(ISNUMBER($E5)),NOT(ISNUMBER($F5))),"",IFERROR($E5*$F5,"")) | H5: Standard | I5: Yes | J5: Swing | K5: Occupied | L5: 69 | M5: =IF(OR($B5="",NOT(ISNUMBER($L5)),NOT(ISNUMBER($G5))),"",IFERROR($L5/$G5,"")) | N5: Alex Morgan (Fictional) | O5: 46262 | P5: =IF($B5="","",IF(NOT(ISNUMBER($O5)),"Review date needed",IF($O5<TODAY(),"Past due",IF($O5<=TODAY()+Assumptions!$B$5,"Due soon","Scheduled")))) | Q5: Fictional example; near the demonstration office.
A6: Example Pine Ridge Storage (Fictional) | B6: A102 | C6: Building A | D6: Ground | E6: 5 | F6: 10 | G6: =IF(OR($B6="",NOT(ISNUMBER($E6)),NOT(ISNUMBER($F6))),"",IFERROR($E6*$F6,"")) | H6: Standard | I6: Yes | J6: Roll-Up | K6: Vacant | L6: 99 | M6: =IF(OR($B6="",NOT(ISNUMBER($L6)),NOT(ISNUMBER($G6))),"",IFERROR($L6/$G6,"")) | N6: Alex Morgan (Fictional) | O6: 46287 | P6: =IF($B6="","",IF(NOT(ISNUMBER($O6)),"Review date needed",IF($O6<TODAY(),"Past due",IF($O6<=TODAY()+Assumptions!$B$5,"Due soon","Scheduled")))) | Q6: Fictional example; interior hallway location.
A7: Example Pine Ridge Storage (Fictional) | B7: A103 | C7: Building A | D7: Ground | E7: 10 | F7: 10 | G7: =IF(OR($B7="",NOT(ISNUMBER($E7)),NOT(ISNUMBER($F7))),"",IFERROR($E7*$F7,"")) | H7: Standard | I7: No | J7: Roll-Up | K7: Occupied | L7: 139 | M7: =IF(OR($B7="",NOT(ISNUMBER($L7)),NOT(ISNUMBER($G7))),"",IFERROR($L7/$G7,"")) | N7: Casey Rivera (Fictional) | O7: 46322 | P7: =IF($B7="","",IF(NOT(ISNUMBER($O7)),"Review date needed",IF($O7<TODAY(),"Past due",IF($O7<=TODAY()+Assumptions!$B$5,"Due soon","Scheduled")))) | Q7: Fictional example; drive-up row.
A8: Example Pine Ridge Storage (Fictional) | B8: A104 | C8: Building A | D8: Ground | E8: 10 | F8: 15 | G8: =IF(OR($B8="",NOT(ISNUMBER($E8)),NOT(ISNUMBER($F8))),"",IFERROR($E8*$F8,"")) | H8: Standard | I8: No | J8: Roll-Up | K8: Reserved | L8: 179 | M8: =IF(OR($B8="",NOT(ISNUMBER($L8)),NOT(ISNUMBER($G8))),"",IFERROR($L8/$G8,"")) | N8: Casey Rivera (Fictional) | O8: 46307 | P8: =IF($B8="","",IF(NOT(ISNUMBER($O8)),"Review date needed",IF($O8<TODAY(),"Past due",IF($O8<=TODAY()+Assumptions!$B$5,"Due soon","Scheduled")))) | Q8: Fictional example; review date tests the warning boundary.
A9: Example Pine Ridge Storage (Fictional) | B9: B201 | C9: Building B | D9: 2 | E9: 10 | F9: 20 | G9: =IF(OR($B9="",NOT(ISNUMBER($E9)),NOT(ISNUMBER($F9))),"",IFERROR($E9*$F9,"")) | H9: Standard | I9: Yes | J9: Roll-Up | K9: Maintenance | L9: 249 | M9: =IF(OR($B9="",NOT(ISNUMBER($L9)),NOT(ISNUMBER($G9))),"",IFERROR($L9/$G9,"")) | N9: Casey Rivera (Fictional) | P9: =IF($B9="","",IF(NOT(ISNUMBER($O9)),"Review date needed",IF($O9<TODAY(),"Past due",IF($O9<=TODAY()+Assumptions!$B$5,"Due soon","Scheduled")))) | Q9: Fictional example; review date intentionally left blank.
A10: Example Pine Ridge Storage (Fictional) | B10: B202 | C10: Building B | D10: 2 | E10: 10 | F10: 30 | G10: =IF(OR($B10="",NOT(ISNUMBER($E10)),NOT(ISNUMBER($F10))),"",IFERROR($E10*$F10,"")) | H10: Vehicle | I10: No | J10: Roll-Up | K10: Offline | L10: 329 | M10: =IF(OR($B10="",NOT(ISNUMBER($L10)),NOT(ISNUMBER($G10))),"",IFERROR($L10/$G10,"")) | N10: Alex Morgan (Fictional) | O10: 46276 | P10: =IF($B10="","",IF(NOT(ISNUMBER($O10)),"Review date needed",IF($O10<TODAY(),"Past due",IF($O10<=TODAY()+Assumptions!$B$5,"Due soon","Scheduled")))) | Q10: Fictional example; offline status requires human review.
A11: Sample Harbor Bend Storage (Fictional) | B11: L001 | C11: Main Hall | D11: Ground | E11: 1 | F11: 4 | G11: =IF(OR($B11="",NOT(ISNUMBER($E11)),NOT(ISNUMBER($F11))),"",IFERROR($E11*$F11,"")) | H11: Locker | I11: Yes | J11: Swing | K11: Occupied | L11: 25 | M11: =IF(OR($B11="",NOT(ISNUMBER($L11)),NOT(ISNUMBER($G11))),"",IFERROR($L11/$G11,"")) | N11: Taylor Brooks (Fictional) | O11: 46367 | P11: =IF($B11="","",IF(NOT(ISNUMBER($O11)),"Review date needed",IF($O11<TODAY(),"Past due",IF($O11<=TODAY()+Assumptions!$B$5,"Due soon","Scheduled")))) | Q11: Fictional example; minimum dimension boundary test.
A12: Sample Harbor Bend Storage (Fictional) | B12: P001 | C12: East Lot | D12: Ground | E12: 10 | F12: 20 | G12: =IF(OR($B12="",NOT(ISNUMBER($E12)),NOT(ISNUMBER($F12))),"",IFERROR($E12*$F12,"")) | H12: Parking | I12: No | J12: Open Space | K12: Occupied | L12: 119 | M12: =IF(OR($B12="",NOT(ISNUMBER($L12)),NOT(ISNUMBER($G12))),"",IFERROR($L12/$G12,"")) | N12: Taylor Brooks (Fictional) | O12: 46297 | P12: =IF($B12="","",IF(NOT(ISNUMBER($O12)),"Review date needed",IF($O12<TODAY(),"Past due",IF($O12<=TODAY()+Assumptions!$B$5,"Due soon","Scheduled")))) | Q12: Fictional example; open parking inventory.
A13: Sample Harbor Bend Storage (Fictional) | B13: C301 | C13: Climate Wing | D13: Ground | E13: 10 | F13: 10 | G13: =IF(OR($B13="",NOT(ISNUMBER($E13)),NOT(ISNUMBER($F13))),"",IFERROR($E13*$F13,"")) | H13: Standard | I13: Yes | J13: Roll-Up | K13: Vacant | L13: 149 | M13: =IF(OR($B13="",NOT(ISNUMBER($L13)),NOT(ISNUMBER($G13))),"",IFERROR($L13/$G13,"")) | N13: Jordan Kim (Fictional) | O13: 46337 | P13: =IF($B13="","",IF(NOT(ISNUMBER($O13)),"Review date needed",IF($O13<TODAY(),"Past due",IF($O13<=TODAY()+Assumptions!$B$5,"Due soon","Scheduled")))) | Q13: Fictional example; climate-controlled hallway.
A14: Demo Copper Trail Storage (Fictional) | B14: C302 | C14: North Row | D14: Ground | E14: 12 | F14: 30 | G14: =IF(OR($B14="",NOT(ISNUMBER($E14)),NOT(ISNUMBER($F14))),"",IFERROR($E14*$F14,"")) | H14: Vehicle | I14: No | J14: Roll-Up | K14: Occupied | L14: 319 | M14: =IF(OR($B14="",NOT(ISNUMBER($L14)),NOT(ISNUMBER($G14))),"",IFERROR($L14/$G14,"")) | N14: Jordan Kim (Fictional) | O14: 46247 | P14: =IF($B14="","",IF(NOT(ISNUMBER($O14)),"Review date needed",IF($O14<TODAY(),"Past due",IF($O14<=TODAY()+Assumptions!$B$5,"Due soon","Scheduled")))) | Q14: Fictional example; oversized drive-up unit.
G15: =IF(OR($B15="",NOT(ISNUMBER($E15)),NOT(ISNUMBER($F15))),"",IFERROR($E15*$F15,"")) | M15: =IF(OR($B15="",NOT(ISNUMBER($L15)),NOT(ISNUMBER($G15))),"",IFERROR($L15/$G15,"")) | P15: =IF($B15="","",IF(NOT(ISNUMBER($O15)),"Review date needed",IF($O15<TODAY(),"Past due",IF($O15<=TODAY()+Assumptions!$B$5,"Due soon","Scheduled"))))
G16: =IF(OR($B16="",NOT(ISNUMBER($E16)),NOT(ISNUMBER($F16))),"",IFERROR($E16*$F16,"")) | M16: =IF(OR($B16="",NOT(ISNUMBER($L16)),NOT(ISNUMBER($G16))),"",IFERROR($L16/$G16,"")) | P16: =IF($B16="","",IF(NOT(ISNUMBER($O16)),"Review date needed",IF($O16<TODAY(),"Past due",IF($O16<=TODAY()+Assumptions!$B$5,"Due soon","Scheduled"))))
G17: =IF(OR($B17="",NOT(ISNUMBER($E17)),NOT(ISNUMBER($F17))),"",IFERROR($E17*$F17,"")) | M17: =IF(OR($B17="",NOT(ISNUMBER($L17)),NOT(ISNUMBER($G17))),"",IFERROR($L17/$G17,"")) | P17: =IF($B17="","",IF(NOT(ISNUMBER($O17)),"Review date needed",IF($O17<TODAY(),"Past due",IF($O17<=TODAY()+Assumptions!$B$5,"Due soon","Scheduled"))))
G18: =IF(OR($B18="",NOT(ISNUMBER($E18)),NOT(ISNUMBER($F18))),"",IFERROR($E18*$F18,"")) | M18: =IF(OR($B18="",NOT(ISNUMBER($L18)),NOT(ISNUMBER($G18))),"",IFERROR($L18/$G18,"")) | P18: =IF($B18="","",IF(NOT(ISNUMBER($O18)),"Review date needed",IF($O18<TODAY(),"Past due",IF($O18<=TODAY()+Assumptions!$B$5,"Due soon","Scheduled"))))
G19: =IF(OR($B19="",NOT(ISNUMBER($E19)),NOT(ISNUMBER($F19))),"",IFERROR($E19*$F19,"")) | M19: =IF(OR($B19="",NOT(ISNUMBER($L19)),NOT(ISNUMBER($G19))),"",IFERROR($L19/$G19,"")) | P19: =IF($B19="","",IF(NOT(ISNUMBER($O19)),"Review date needed",IF($O19<TODAY(),"Past due",IF($O19<=TODAY()+Assumptions!$B$5,"Due soon","Scheduled"))))
G20: =IF(OR($B20="",NOT(ISNUMBER($E20)),NOT(ISNUMBER($F20))),"",IFERROR($E20*$F20,"")) | M20: =IF(OR($B20="",NOT(ISNUMBER($L20)),NOT(ISNUMBER($G20))),"",IFERROR($L20/$G20,"")) | P20: =IF($B20="","",IF(NOT(ISNUMBER($O20)),"Review date needed",IF($O20<TODAY(),"Past due",IF($O20<=TODAY()+Assumptions!$B$5,"Due soon","Scheduled"))))
G21: =IF(OR($B21="",NOT(ISNUMBER($E21)),NOT(ISNUMBER($F21))),"",IFERROR($E21*$F21,"")) | M21: =IF(OR($B21="",NOT(ISNUMBER($L21)),NOT(ISNUMBER($G21))),"",IFERROR($L21/$G21,"")) | P21: =IF($B21="","",IF(NOT(ISNUMBER($O21)),"Review date needed",IF($O21<TODAY(),"Past due",IF($O21<=TODAY()+Assumptions!$B$5,"Due soon","Scheduled"))))
G22: =IF(OR($B22="",NOT(ISNUMBER($E22)),NOT(ISNUMBER($F22))),"",IFERROR($E22*$F22,"")) | M22: =IF(OR($B22="",NOT(ISNUMBER($L22)),NOT(ISNUMBER($G22))),"",IFERROR($L22/$G22,"")) | P22: =IF($B22="","",IF(NOT(ISNUMBER($O22)),"Review date needed",IF($O22<TODAY(),"Past due",IF($O22<=TODAY()+Assumptions!$B$5,"Due soon","Scheduled"))))
G23: =IF(OR($B23="",NOT(ISNUMBER($E23)),NOT(ISNUMBER($F23))),"",IFERROR($E23*$F23,"")) | M23: =IF(OR($B23="",NOT(ISNUMBER($L23)),NOT(ISNUMBER($G23))),"",IFERROR($L23/$G23,"")) | P23: =IF($B23="","",IF(NOT(ISNUMBER($O23)),"Review date needed",IF($O23<TODAY(),"Past due",IF($O23<=TODAY()+Assumptions!$B$5,"Due soon","Scheduled"))))
G24: =IF(OR($B24="",NOT(ISNUMBER($E24)),NOT(ISNUMBER($F24))),"",IFERROR($E24*$F24,"")) | M24: =IF(OR($B24="",NOT(ISNUMBER($L24)),NOT(ISNUMBER($G24))),"",IFERROR($L24/$G24,"")) | P24: =IF($B24="","",IF(NOT(ISNUMBER($O24)),"Review date needed",IF($O24<TODAY(),"Past due",IF($O24<=TODAY()+Assumptions!$B$5,"Due soon","Scheduled"))))
G25: =IF(OR($B25="",NOT(ISNUMBER($E25)),NOT(ISNUMBER($F25))),"",IFERROR($E25*$F25,"")) | M25: =IF(OR($B25="",NOT(ISNUMBER($L25)),NOT(ISNUMBER($G25))),"",IFERROR($L25/$G25,"")) | P25: =IF($B25="","",IF(NOT(ISNUMBER($O25)),"Review date needed",IF($O25<TODAY(),"Past due",IF($O25<=TODAY()+Assumptions!$B$5,"Due soon","Scheduled"))))
G26: =IF(OR($B26="",NOT(ISNUMBER($E26)),NOT(ISNUMBER($F26))),"",IFERROR($E26*$F26,"")) | M26: =IF(OR($B26="",NOT(ISNUMBER($L26)),NOT(ISNUMBER($G26))),"",IFERROR($L26/$G26,"")) | P26: =IF($B26="","",IF(NOT(ISNUMBER($O26)),"Review date needed",IF($O26<TODAY(),"Past due",IF($O26<=TODAY()+Assumptions!$B$5,"Due soon","Scheduled"))))
... G124: =IF(OR($B124="",NOT(ISNUMBER($E124)),NOT(ISNUMBER($F124))),"",IFERROR($E124*$F124,"")) | M124: =IF(OR($B124="",NOT(ISNUMBER($L124)),NOT(ISNUMBER($G124))),"",IFERROR($L124/$G124,"")) | P124: =IF($B124="","",IF(NOT(ISNUMBER($O124)),"Review date needed",IF($O124<TODAY(),"Past due",IF($O124<=TODAY()+Assumptions!$B$5,"Due soon","Scheduled"))))

Sheet Assumptions
A1: Inventory Assumptions and Stable Lists
A2: Edit pale yellow values to match the fictional facility planning scenario.
A3: Entry limits and review flags support consistent records and still require human review.
A4: Setting | B4: Editable Value | C4: Entry Guidance | E4: Facility Options | F4: Status Options | G4: Unit Type Options | H4: Floor Options | I4: Climate Options | J4: Door Options | K4: Inventory Owner Options
A5: Review warning window | B5: 30 | C5: Days from today that receive a Due soon flag. | E5: Example Pine Ridge Storage (Fictional) | F5: Occupied | G5: Standard | H5: Ground | I5: Yes | J5: Roll-Up | K5: Alex Morgan (Fictional)
A6: Minimum unit dimension | B6: 1 | C6: Minimum accepted width or length in feet. | E6: Sample Harbor Bend Storage (Fictional) | F6: Vacant | G6: Locker | H6: 2 | I6: No | J6: Swing | K6: Casey Rivera (Fictional)
A7: Maximum unit dimension | B7: 100 | C7: Maximum accepted width or length in feet. | E7: Demo Copper Trail Storage (Fictional) | F7: Reserved | G7: Parking | H7: 3 | J7: Open Space | K7: Taylor Brooks (Fictional)
A8: Minimum standard monthly rate | B8: 0 | C8: Minimum accepted planning rate in US dollars. | F8: Maintenance | G8: Vehicle | H8: Basement | K8: Jordan Kim (Fictional)
A9: Maximum standard monthly rate | B9: 5000 | C9: Maximum accepted planning rate in US dollars. | F9: Offline
A10: Earliest review due date | B10: 44197 | C10: Earliest accepted review due date.
A11: Latest review due date | B11: 50040 | C11: Latest accepted review due date.
