Workbook

Sheet Summary
A1: Self Storage Unit Availability Board
A2: Indicators are calculated from the Unit Board. All sample records are fictional.
A4: Indicator | B4: Calculated Value
A5: Total listed units | B5: =COUNTIFS('Unit Board'!$A$5:$A$104,"<>",'Unit Board'!$B$5:$B$104,"<>")
A6: Vacant-ready units | B6: =COUNTIFS('Unit Board'!$A$5:$A$104,"<>",'Unit Board'!$B$5:$B$104,"<>",'Unit Board'!$E$5:$E$104,Assumptions!$A$5)
A7: Reserved units | B7: =COUNTIFS('Unit Board'!$A$5:$A$104,"<>",'Unit Board'!$B$5:$B$104,"<>",'Unit Board'!$E$5:$E$104,Assumptions!$A$6)
A8: Units in Occupied status | B8: =COUNTIFS('Unit Board'!$A$5:$A$104,"<>",'Unit Board'!$B$5:$B$104,"<>",'Unit Board'!$E$5:$E$104,Assumptions!$A$7)
A9: Overlocked units | B9: =COUNTIFS('Unit Board'!$A$5:$A$104,"<>",'Unit Board'!$B$5:$B$104,"<>",'Unit Board'!$E$5:$E$104,Assumptions!$A$8)
A10: Out-of-service units | B10: =COUNTIFS('Unit Board'!$A$5:$A$104,"<>",'Unit Board'!$B$5:$B$104,"<>",'Unit Board'!$E$5:$E$104,Assumptions!$A$9)
A11: Occupied or overlocked percentage | B11: =IFERROR((B8+B9)/B5,"")
A12: Vacant-ready square feet | B12: =IF(B5=0,"",SUMIFS('Unit Board'!$C$5:$C$104,'Unit Board'!$A$5:$A$104,"<>",'Unit Board'!$B$5:$B$104,"<>",'Unit Board'!$E$5:$E$104,Assumptions!$A$5))
A13: Vacant-ready monthly rate total | B13: =IF(B5=0,"",SUMIFS('Unit Board'!$D$5:$D$104,'Unit Board'!$A$5:$A$104,"<>",'Unit Board'!$B$5:$B$104,"<>",'Unit Board'!$E$5:$E$104,Assumptions!$A$5))
A14: Reviews needing attention | B14: =COUNTIF('Unit Board'!$J$5:$J$104,"Review overdue")+COUNTIF('Unit Board'!$J$5:$J$104,"Review date needed")
A15: Reviews due soon | B15: =COUNTIF('Unit Board'!$J$5:$J$104,"Due soon")
A18: Status | B18: Units
A19: =Assumptions!$A$5 | B19: =COUNTIFS('Unit Board'!$A$5:$A$104,"<>",'Unit Board'!$B$5:$B$104,"<>",'Unit Board'!$E$5:$E$104,$A19)
A20: =Assumptions!$A$6 | B20: =COUNTIFS('Unit Board'!$A$5:$A$104,"<>",'Unit Board'!$B$5:$B$104,"<>",'Unit Board'!$E$5:$E$104,$A20)
A21: =Assumptions!$A$7 | B21: =COUNTIFS('Unit Board'!$A$5:$A$104,"<>",'Unit Board'!$B$5:$B$104,"<>",'Unit Board'!$E$5:$E$104,$A21)
A22: =Assumptions!$A$8 | B22: =COUNTIFS('Unit Board'!$A$5:$A$104,"<>",'Unit Board'!$B$5:$B$104,"<>",'Unit Board'!$E$5:$E$104,$A22)
A23: =Assumptions!$A$9 | B23: =COUNTIFS('Unit Board'!$A$5:$A$104,"<>",'Unit Board'!$B$5:$B$104,"<>",'Unit Board'!$E$5:$E$104,$A23)

Sheet Unit Board
A1: Unit Board
A2: Yellow cells are editable. Warnings request human review only. All sample records are fictional.
A4: Facility | B4: Unit | C4: Size (sq ft) | D4: Monthly Rate | E4: Status | F4: Status Since | G4: Review Due | H4: Board Owner | I4: Days in Status | J4: Review Flag | K4: Notes
A5: Cedar Kite Self Storage (Fictional) | B5: FIC-A101 | C5: 25 | D5: 59 | E5: Vacant-Ready | F5: 46273 | H5: Avery North (Fictional employee) | I5: =IF(OR($A5="",$B5="",$E5="",$F5=""),"",IFERROR(MAX(0,TODAY()-$F5),"")) | J5: =IF(OR($A5="",$B5="",$E5=""),"",IF(IFERROR(VLOOKUP($E5,Assumptions!$A$5:$B$9,2,FALSE),"No")="Yes",IF($G5="","Review date needed",IFERROR(IF($G5<TODAY(),"Review overdue",IF($G5<=TODAY()+Assumptions!$B$14,"Due soon","Review current")),"Review date needed")),"")) | K5: Fictional sample: ready for leasing review. | M5: =Assumptions!$A$5 | N5: =Assumptions!$E$5 | O5: =Assumptions!$G$5 | P5: =Assumptions!$B$15
A6: Cedar Kite Self Storage (Fictional) | B6: FIC-A102 | C6: 50 | D6: 89 | E6: Reserved | F6: 46275 | G6: 46284 | H6: Morgan Vale (Fictional employee) | I6: =IF(OR($A6="",$B6="",$E6="",$F6=""),"",IFERROR(MAX(0,TODAY()-$F6),"")) | J6: =IF(OR($A6="",$B6="",$E6=""),"",IF(IFERROR(VLOOKUP($E6,Assumptions!$A$5:$B$9,2,FALSE),"No")="Yes",IF($G6="","Review date needed",IFERROR(IF($G6<TODAY(),"Review overdue",IF($G6<=TODAY()+Assumptions!$B$14,"Due soon","Review current")),"Review date needed")),"")) | K6: Fictional sample: reservation review is scheduled. | M6: =Assumptions!$A$6 | N6: =Assumptions!$E$6 | O6: =Assumptions!$G$6 | P6: =Assumptions!$B$16
A7: Cedar Kite Self Storage (Fictional) | B7: FIC-A103 | C7: 100 | D7: 149 | E7: Occupied | F7: 46167 | H7: Casey Reed (Fictional employee) | I7: =IF(OR($A7="",$B7="",$E7="",$F7=""),"",IFERROR(MAX(0,TODAY()-$F7),"")) | J7: =IF(OR($A7="",$B7="",$E7=""),"",IF(IFERROR(VLOOKUP($E7,Assumptions!$A$5:$B$9,2,FALSE),"No")="Yes",IF($G7="","Review date needed",IFERROR(IF($G7<TODAY(),"Review overdue",IF($G7<=TODAY()+Assumptions!$B$14,"Due soon","Review current")),"Review date needed")),"")) | K7: Fictional sample: occupied unit; no review date is required. | M7: =Assumptions!$A$7 | N7: =Assumptions!$E$7 | O7: =Assumptions!$G$7 | P7: =Assumptions!$B$17
A8: Cedar Kite Self Storage (Fictional) | B8: FIC-B201 | C8: 100 | D8: 159 | E8: Overlocked | F8: 46269 | G8: 46276 | H8: Jordan Pike (Fictional employee) | I8: =IF(OR($A8="",$B8="",$E8="",$F8=""),"",IFERROR(MAX(0,TODAY()-$F8),"")) | J8: =IF(OR($A8="",$B8="",$E8=""),"",IF(IFERROR(VLOOKUP($E8,Assumptions!$A$5:$B$9,2,FALSE),"No")="Yes",IF($G8="","Review date needed",IFERROR(IF($G8<TODAY(),"Review overdue",IF($G8<=TODAY()+Assumptions!$B$14,"Due soon","Review current")),"Review date needed")),"")) | K8: Fictional sample: staff review is overdue. | M8: =Assumptions!$A$8 | O8: =Assumptions!$G$8 | P8: =Assumptions!$B$18
A9: Blue Lantern Storage (Fictional) | B9: FIC-B202 | C9: 200 | D9: 249 | E9: Out of Service | F9: 46265 | G9: 46280 | H9: Avery North (Fictional employee) | I9: =IF(OR($A9="",$B9="",$E9="",$F9=""),"",IFERROR(MAX(0,TODAY()-$F9),"")) | J9: =IF(OR($A9="",$B9="",$E9=""),"",IF(IFERROR(VLOOKUP($E9,Assumptions!$A$5:$B$9,2,FALSE),"No")="Yes",IF($G9="","Review date needed",IFERROR(IF($G9<TODAY(),"Review overdue",IF($G9<=TODAY()+Assumptions!$B$14,"Due soon","Review current")),"Review date needed")),"")) | K9: Fictional sample: temporarily unavailable for floor coating. | M9: =Assumptions!$A$9 | P9: =Assumptions!$B$19
A10: Blue Lantern Storage (Fictional) | B10: FIC-C011 | C10: 50 | D10: 95 | E10: Vacant-Ready | F10: 46277 | H10: Morgan Vale (Fictional employee) | I10: =IF(OR($A10="",$B10="",$E10="",$F10=""),"",IFERROR(MAX(0,TODAY()-$F10),"")) | J10: =IF(OR($A10="",$B10="",$E10=""),"",IF(IFERROR(VLOOKUP($E10,Assumptions!$A$5:$B$9,2,FALSE),"No")="Yes",IF($G10="","Review date needed",IFERROR(IF($G10<TODAY(),"Review overdue",IF($G10<=TODAY()+Assumptions!$B$14,"Due soon","Review current")),"Review date needed")),"")) | K10: Fictional sample: status changed today. | P10: =Assumptions!$B$20
A11: Blue Lantern Storage (Fictional) | B11: FIC-C012 | C11: 75 | D11: 119 | E11: Reserved | F11: 46270 | G11: 46277 | H11: Casey Reed (Fictional employee) | I11: =IF(OR($A11="",$B11="",$E11="",$F11=""),"",IFERROR(MAX(0,TODAY()-$F11),"")) | J11: =IF(OR($A11="",$B11="",$E11=""),"",IF(IFERROR(VLOOKUP($E11,Assumptions!$A$5:$B$9,2,FALSE),"No")="Yes",IF($G11="","Review date needed",IFERROR(IF($G11<TODAY(),"Review overdue",IF($G11<=TODAY()+Assumptions!$B$14,"Due soon","Review current")),"Review date needed")),"")) | K11: Fictional sample: reservation requires review today.
A12: Blue Lantern Storage (Fictional) | B12: FIC-D301 | C12: 150 | D12: 209 | E12: Occupied | F12: 46232 | H12: Jordan Pike (Fictional employee) | I12: =IF(OR($A12="",$B12="",$E12="",$F12=""),"",IFERROR(MAX(0,TODAY()-$F12),"")) | J12: =IF(OR($A12="",$B12="",$E12=""),"",IF(IFERROR(VLOOKUP($E12,Assumptions!$A$5:$B$9,2,FALSE),"No")="Yes",IF($G12="","Review date needed",IFERROR(IF($G12<TODAY(),"Review overdue",IF($G12<=TODAY()+Assumptions!$B$14,"Due soon","Review current")),"Review date needed")),"")) | K12: Fictional sample: occupied unit; no review date is required.
A13: Juniper Orbit Storage (Fictional) | B13: FIC-J007 | C13: 300 | D13: 349 | E13: Out of Service | F13: 46247 | G13: 46267 | H13: Avery North (Fictional employee) | I13: =IF(OR($A13="",$B13="",$E13="",$F13=""),"",IFERROR(MAX(0,TODAY()-$F13),"")) | J13: =IF(OR($A13="",$B13="",$E13=""),"",IF(IFERROR(VLOOKUP($E13,Assumptions!$A$5:$B$9,2,FALSE),"No")="Yes",IF($G13="","Review date needed",IFERROR(IF($G13<TODAY(),"Review overdue",IF($G13<=TODAY()+Assumptions!$B$14,"Due soon","Review current")),"Review date needed")),"")) | K13: Fictional sample: availability decision needs human review.
A14: Juniper Orbit Storage (Fictional) | B14: FIC-J008 | C14: 25 | D14: 55 | E14: Overlocked | F14: 46276 | H14: Morgan Vale (Fictional employee) | I14: =IF(OR($A14="",$B14="",$E14="",$F14=""),"",IFERROR(MAX(0,TODAY()-$F14),"")) | J14: =IF(OR($A14="",$B14="",$E14=""),"",IF(IFERROR(VLOOKUP($E14,Assumptions!$A$5:$B$9,2,FALSE),"No")="Yes",IF($G14="","Review date needed",IFERROR(IF($G14<TODAY(),"Review overdue",IF($G14<=TODAY()+Assumptions!$B$14,"Due soon","Review current")),"Review date needed")),"")) | K14: Fictional sample: review date has not been entered.
I15: =IF(OR($A15="",$B15="",$E15="",$F15=""),"",IFERROR(MAX(0,TODAY()-$F15),"")) | J15: =IF(OR($A15="",$B15="",$E15=""),"",IF(IFERROR(VLOOKUP($E15,Assumptions!$A$5:$B$9,2,FALSE),"No")="Yes",IF($G15="","Review date needed",IFERROR(IF($G15<TODAY(),"Review overdue",IF($G15<=TODAY()+Assumptions!$B$14,"Due soon","Review current")),"Review date needed")),""))
I16: =IF(OR($A16="",$B16="",$E16="",$F16=""),"",IFERROR(MAX(0,TODAY()-$F16),"")) | J16: =IF(OR($A16="",$B16="",$E16=""),"",IF(IFERROR(VLOOKUP($E16,Assumptions!$A$5:$B$9,2,FALSE),"No")="Yes",IF($G16="","Review date needed",IFERROR(IF($G16<TODAY(),"Review overdue",IF($G16<=TODAY()+Assumptions!$B$14,"Due soon","Review current")),"Review date needed")),""))
I17: =IF(OR($A17="",$B17="",$E17="",$F17=""),"",IFERROR(MAX(0,TODAY()-$F17),"")) | J17: =IF(OR($A17="",$B17="",$E17=""),"",IF(IFERROR(VLOOKUP($E17,Assumptions!$A$5:$B$9,2,FALSE),"No")="Yes",IF($G17="","Review date needed",IFERROR(IF($G17<TODAY(),"Review overdue",IF($G17<=TODAY()+Assumptions!$B$14,"Due soon","Review current")),"Review date needed")),""))
I18: =IF(OR($A18="",$B18="",$E18="",$F18=""),"",IFERROR(MAX(0,TODAY()-$F18),"")) | J18: =IF(OR($A18="",$B18="",$E18=""),"",IF(IFERROR(VLOOKUP($E18,Assumptions!$A$5:$B$9,2,FALSE),"No")="Yes",IF($G18="","Review date needed",IFERROR(IF($G18<TODAY(),"Review overdue",IF($G18<=TODAY()+Assumptions!$B$14,"Due soon","Review current")),"Review date needed")),""))
I19: =IF(OR($A19="",$B19="",$E19="",$F19=""),"",IFERROR(MAX(0,TODAY()-$F19),"")) | J19: =IF(OR($A19="",$B19="",$E19=""),"",IF(IFERROR(VLOOKUP($E19,Assumptions!$A$5:$B$9,2,FALSE),"No")="Yes",IF($G19="","Review date needed",IFERROR(IF($G19<TODAY(),"Review overdue",IF($G19<=TODAY()+Assumptions!$B$14,"Due soon","Review current")),"Review date needed")),""))
I20: =IF(OR($A20="",$B20="",$E20="",$F20=""),"",IFERROR(MAX(0,TODAY()-$F20),"")) | J20: =IF(OR($A20="",$B20="",$E20=""),"",IF(IFERROR(VLOOKUP($E20,Assumptions!$A$5:$B$9,2,FALSE),"No")="Yes",IF($G20="","Review date needed",IFERROR(IF($G20<TODAY(),"Review overdue",IF($G20<=TODAY()+Assumptions!$B$14,"Due soon","Review current")),"Review date needed")),""))
I21: =IF(OR($A21="",$B21="",$E21="",$F21=""),"",IFERROR(MAX(0,TODAY()-$F21),"")) | J21: =IF(OR($A21="",$B21="",$E21=""),"",IF(IFERROR(VLOOKUP($E21,Assumptions!$A$5:$B$9,2,FALSE),"No")="Yes",IF($G21="","Review date needed",IFERROR(IF($G21<TODAY(),"Review overdue",IF($G21<=TODAY()+Assumptions!$B$14,"Due soon","Review current")),"Review date needed")),""))
I22: =IF(OR($A22="",$B22="",$E22="",$F22=""),"",IFERROR(MAX(0,TODAY()-$F22),"")) | J22: =IF(OR($A22="",$B22="",$E22=""),"",IF(IFERROR(VLOOKUP($E22,Assumptions!$A$5:$B$9,2,FALSE),"No")="Yes",IF($G22="","Review date needed",IFERROR(IF($G22<TODAY(),"Review overdue",IF($G22<=TODAY()+Assumptions!$B$14,"Due soon","Review current")),"Review date needed")),""))
I23: =IF(OR($A23="",$B23="",$E23="",$F23=""),"",IFERROR(MAX(0,TODAY()-$F23),"")) | J23: =IF(OR($A23="",$B23="",$E23=""),"",IF(IFERROR(VLOOKUP($E23,Assumptions!$A$5:$B$9,2,FALSE),"No")="Yes",IF($G23="","Review date needed",IFERROR(IF($G23<TODAY(),"Review overdue",IF($G23<=TODAY()+Assumptions!$B$14,"Due soon","Review current")),"Review date needed")),""))
I24: =IF(OR($A24="",$B24="",$E24="",$F24=""),"",IFERROR(MAX(0,TODAY()-$F24),"")) | J24: =IF(OR($A24="",$B24="",$E24=""),"",IF(IFERROR(VLOOKUP($E24,Assumptions!$A$5:$B$9,2,FALSE),"No")="Yes",IF($G24="","Review date needed",IFERROR(IF($G24<TODAY(),"Review overdue",IF($G24<=TODAY()+Assumptions!$B$14,"Due soon","Review current")),"Review date needed")),""))
I25: =IF(OR($A25="",$B25="",$E25="",$F25=""),"",IFERROR(MAX(0,TODAY()-$F25),"")) | J25: =IF(OR($A25="",$B25="",$E25=""),"",IF(IFERROR(VLOOKUP($E25,Assumptions!$A$5:$B$9,2,FALSE),"No")="Yes",IF($G25="","Review date needed",IFERROR(IF($G25<TODAY(),"Review overdue",IF($G25<=TODAY()+Assumptions!$B$14,"Due soon","Review current")),"Review date needed")),""))
I26: =IF(OR($A26="",$B26="",$E26="",$F26=""),"",IFERROR(MAX(0,TODAY()-$F26),"")) | J26: =IF(OR($A26="",$B26="",$E26=""),"",IF(IFERROR(VLOOKUP($E26,Assumptions!$A$5:$B$9,2,FALSE),"No")="Yes",IF($G26="","Review date needed",IFERROR(IF($G26<TODAY(),"Review overdue",IF($G26<=TODAY()+Assumptions!$B$14,"Due soon","Review current")),"Review date needed")),""))
... I104: =IF(OR($A104="",$B104="",$E104="",$F104=""),"",IFERROR(MAX(0,TODAY()-$F104),"")) | J104: =IF(OR($A104="",$B104="",$E104=""),"",IF(IFERROR(VLOOKUP($E104,Assumptions!$A$5:$B$9,2,FALSE),"No")="Yes",IF($G104="","Review date needed",IFERROR(IF($G104<TODAY(),"Review overdue",IF($G104<=TODAY()+Assumptions!$B$14,"Due soon","Review current")),"Review date needed")),""))

Sheet Assumptions
A1: Availability Board Assumptions
A2: Yellow cells are editable. Stable lists and limits support consistent daily entries.
A4: Status | B4: Review Due Required | C4: Board Meaning | E4: Facility List | G4: Board Owner List
A5: Vacant-Ready | B5: No | C5: Ready and available for leasing | E5: Cedar Kite Self Storage (Fictional) | G5: Avery North (Fictional employee)
A6: Reserved | B6: Yes | C6: Temporarily held for a prospective rental | E6: Blue Lantern Storage (Fictional) | G6: Morgan Vale (Fictional employee)
A7: Occupied | B7: No | C7: In use and not available for leasing | E7: Juniper Orbit Storage (Fictional) | G7: Casey Reed (Fictional employee)
A8: Overlocked | B8: Yes | C8: Restricted pending staff review | G8: Jordan Pike (Fictional employee)
A9: Out of Service | B9: Yes | C9: Temporarily unavailable for leasing
A13: Editable Limit | B13: Value | C13: Use
A14: Due-soon window (days) | B14: 3 | C14: Review dates through today plus this many days show Due soon.
A15: Earliest allowed record date | B15: 38718 | C15: Lower date limit for board records.
A16: Latest allowed review date | B16: 50040 | C16: Upper date limit for review planning.
A17: Minimum unit size (sq ft) | B17: 1 | C17: Smallest accepted whole-number unit size.
A18: Maximum unit size (sq ft) | B18: 1000 | C18: Largest accepted whole-number unit size.
A19: Minimum monthly rate | B19: 0 | C19: Lowest accepted editable monthly rate.
A20: Maximum monthly rate | B20: 5000 | C20: Highest accepted editable monthly rate.
