Workbook

Sheet Summary
A1: Self Storage Tenant Contact Directory — Summary
A2: Indicators are calculated from Directory entries. Review flags request human review. | D2: As of | E2: =TODAY()
A3: Directory indicator | B3: Calculated result | D3: Preferred method | E3: Records
A4: Directory records | B4: =COUNTIF(Directory!$C$5:$C$124,"<>") | D4: Phone | E4: =IF($B$4=0,"",COUNTIF(Directory!$I$5:$I$124,$D4))
A5: Active records | B5: =IF($B$4=0,"",COUNTIF(Directory!$K$5:$K$124,"Active")) | D5: Email | E5: =IF($B$4=0,"",COUNTIF(Directory!$I$5:$I$124,$D5))
A6: Attention flags | B6: =IF($B$4=0,"",SUM(COUNTIF(Directory!$N$5:$N$124,"Past due"),COUNTIF(Directory!$N$5:$N$124,"Due within*"),COUNTIF(Directory!$N$5:$N$124,"Complete key fields"),COUNTIF(Directory!$N$5:$N$124,"Verify contact"),COUNTIF(Directory!$N$5:$N$124,"Check facility setup"),COUNTIF(Directory!$N$5:$N$124,"Contact paused"))) | D6: Text | E6: =IF($B$4=0,"",COUNTIF(Directory!$I$5:$I$124,$D6))
A7: Past-due reviews | B7: =IF($B$4=0,"",COUNTIF(Directory!$N$5:$N$124,"Past due")) | D7: None specified | E7: =IF($B$4=0,"",COUNTIF(Directory!$I$5:$I$124,$D7))
A8: Reviews due within window | B8: =IF($B$4=0,"",COUNTIF(Directory!$N$5:$N$124,"Due within*"))
A9: Incomplete or unverified | B9: =IF($B$4=0,"",SUM(COUNTIF(Directory!$N$5:$N$124,"Complete key fields"),COUNTIF(Directory!$N$5:$N$124,"Verify contact"),COUNTIF(Directory!$N$5:$N$124,"Check facility setup")))
A10: Primary phone available | B10: =IF($B$4=0,"",COUNTIF(Directory!$D$5:$D$124,"<>"))
A11: Primary email available | B11: =IF($B$4=0,"",COUNTIF(Directory!$E$5:$E$124,"<>"))
A12: Alternate contact available | B12: =IF($B$4=0,"",COUNTIF(Directory!$F$5:$F$124,"<>"))
A13: Current record share | B13: =IFERROR(COUNTIF(Directory!$N$5:$N$124,"Current")/COUNTIF(Directory!$C$5:$C$124,"<>"),"")

Sheet Directory
A1: Self Storage Tenant Contact Directory
A2: Restricted administrative use | D2: Yellow cells are editable | G2: Review flags require human review | K2: All example records are fictional
A4: Facility | B4: Unit | C4: Tenant Name | D4: Primary Phone | E4: Primary Email | F4: Alternate Contact | G4: Alternate Phone | H4: Alternate Email | I4: Preferred Method | J4: Record Owner | K4: Status | L4: Last Verified | M4: Review Due | N4: Review Flag | O4: Notes
A5: Fictional Harbor Storage | B5: A-101 | C5: Avery Example (fictional) | D5: (202) 555-0101 | E5: avery.example@example.invalid | F5: Emerson Example (fictional) | G5: (202) 555-0111 | H5: emerson.example@example.invalid | I5: Phone | J5: Jamie Example — Fictional | K5: Active | L5: 46247 | M5: =IF($L5="","",IFERROR($L5+VLOOKUP($A5,Assumptions!$A$5:$B$9,2,FALSE),"")) | N5: =IF(COUNTA($A5:$L5,$O5)=0,"",IF(OR($A5="",$B5="",$C5="",$I5="",$J5="",$K5=""),"Complete key fields",IF($K5="Contact paused","Contact paused",IF($L5="","Verify contact",IF($M5="","Check facility setup",IF($M5<TODAY(),"Past due",IF($M5<=TODAY()+Assumptions!$K$7,"Due within "&Assumptions!$K$7&" days","Current"))))))) | O5: Fictional sample prefers weekday calls. | Q5: =Assumptions!$A$5 | R5: =Assumptions!$D$5 | S5: =Assumptions!$F$5 | T5: =Assumptions!$H$5 | U5: =Assumptions!$K$5
A6: Fictional Juniper Self Storage | B6: B-204 | C6: Jordan Sample (fictional) | E6: jordan.sample@example.invalid | F6: Dakota Sample (fictional) | G6: (202) 555-0112 | H6: dakota.sample@example.invalid | I6: Email | J6: Lee Sample — Fictional | K6: Active | L6: 46167 | M6: =IF($L6="","",IFERROR($L6+VLOOKUP($A6,Assumptions!$A$5:$B$9,2,FALSE),"")) | N6: =IF(COUNTA($A6:$L6,$O6)=0,"",IF(OR($A6="",$B6="",$C6="",$I6="",$J6="",$K6=""),"Complete key fields",IF($K6="Contact paused","Contact paused",IF($L6="","Verify contact",IF($M6="","Check facility setup",IF($M6<TODAY(),"Past due",IF($M6<=TODAY()+Assumptions!$K$7,"Due within "&Assumptions!$K$7&" days","Current"))))))) | O6: Fictional sample uses email for routine contact. | Q6: =Assumptions!$A$6 | R6: =Assumptions!$D$6 | S6: =Assumptions!$F$6 | T6: =Assumptions!$H$6 | U6: =Assumptions!$K$6
A7: Fictional Red Mesa Storage | B7: C-018 | C7: Morgan Test (fictional) | D7: (202) 555-0103 | I7: Text | J7: Robin Demo — Fictional | K7: Active | L7: 45907 | M7: =IF($L7="","",IFERROR($L7+VLOOKUP($A7,Assumptions!$A$5:$B$9,2,FALSE),"")) | N7: =IF(COUNTA($A7:$L7,$O7)=0,"",IF(OR($A7="",$B7="",$C7="",$I7="",$J7="",$K7=""),"Complete key fields",IF($K7="Contact paused","Contact paused",IF($L7="","Verify contact",IF($M7="","Check facility setup",IF($M7<TODAY(),"Past due",IF($M7<=TODAY()+Assumptions!$K$7,"Due within "&Assumptions!$K$7&" days","Current"))))))) | O7: Fictional sample has no alternate contact entered. | Q7: =Assumptions!$A$7 | R7: =Assumptions!$D$7 | S7: =Assumptions!$F$7 | T7: =Assumptions!$H$7
A8: Fictional Maple Lane Storage | B8: D-311 | C8: Riley Demo (fictional) | D8: (202) 555-0104 | E8: riley.demo@example.invalid | F8: Finley Demo (fictional) | G8: (202) 555-0114 | H8: finley.demo@example.invalid | I8: Phone | J8: Cameron Test — Fictional | K8: Former | L8: 46217 | M8: =IF($L8="","",IFERROR($L8+VLOOKUP($A8,Assumptions!$A$5:$B$9,2,FALSE),"")) | N8: =IF(COUNTA($A8:$L8,$O8)=0,"",IF(OR($A8="",$B8="",$C8="",$I8="",$J8="",$K8=""),"Complete key fields",IF($K8="Contact paused","Contact paused",IF($L8="","Verify contact",IF($M8="","Check facility setup",IF($M8<TODAY(),"Past due",IF($M8<=TODAY()+Assumptions!$K$7,"Due within "&Assumptions!$K$7&" days","Current"))))))) | O8: Fictional former-tenant record retained for directory review. | Q8: =Assumptions!$A$8 | R8: =Assumptions!$D$8 | S8: =Assumptions!$F$8 | T8: =Assumptions!$H$8
A9: Fictional Bluebird Storage | B9: E-007 | C9: Casey Placeholder (fictional) | D9: (202) 555-0105 | E9: casey.placeholder@example.invalid | F9: Alex Placeholder (fictional) | G9: (202) 555-0115 | H9: alex.placeholder@example.invalid | I9: None specified | J9: Jamie Example — Fictional | K9: Active | M9: =IF($L9="","",IFERROR($L9+VLOOKUP($A9,Assumptions!$A$5:$B$9,2,FALSE),"")) | N9: =IF(COUNTA($A9:$L9,$O9)=0,"",IF(OR($A9="",$B9="",$C9="",$I9="",$J9="",$K9=""),"Complete key fields",IF($K9="Contact paused","Contact paused",IF($L9="","Verify contact",IF($M9="","Check facility setup",IF($M9<TODAY(),"Past due",IF($M9<=TODAY()+Assumptions!$K$7,"Due within "&Assumptions!$K$7&" days","Current"))))))) | O9: Last verification is intentionally blank for testing. | Q9: =Assumptions!$A$9
A10: Fictional Harbor Storage | B10: A-220 | C10: Taylor Fiction (fictional) | D10: (202) 555-0106 | E10: taylor.fiction@example.invalid | F10: Reese Fiction (fictional) | G10: (202) 555-0116 | H10: reese.fiction@example.invalid | I10: Email | J10: Lee Sample — Fictional | K10: Active | L10: 46096 | M10: =IF($L10="","",IFERROR($L10+VLOOKUP($A10,Assumptions!$A$5:$B$9,2,FALSE),"")) | N10: =IF(COUNTA($A10:$L10,$O10)=0,"",IF(OR($A10="",$B10="",$C10="",$I10="",$J10="",$K10=""),"Complete key fields",IF($K10="Contact paused","Contact paused",IF($L10="","Verify contact",IF($M10="","Check facility setup",IF($M10<TODAY(),"Past due",IF($M10<=TODAY()+Assumptions!$K$7,"Due within "&Assumptions!$K$7&" days","Current"))))))) | O10: Fictional sample prefers email.
A11: Fictional Juniper Self Storage | B11: B-115 | C11: Quinn Example (fictional) | D11: (202) 555-0107 | E11: quinn.example@example.invalid | F11: Sage Example (fictional) | G11: (202) 555-0117 | H11: sage.example@example.invalid | I11: Phone | J11: Robin Demo — Fictional | K11: Pending move-in | L11: 46277 | M11: =IF($L11="","",IFERROR($L11+VLOOKUP($A11,Assumptions!$A$5:$B$9,2,FALSE),"")) | N11: =IF(COUNTA($A11:$L11,$O11)=0,"",IF(OR($A11="",$B11="",$C11="",$I11="",$J11="",$K11=""),"Complete key fields",IF($K11="Contact paused","Contact paused",IF($L11="","Verify contact",IF($M11="","Check facility setup",IF($M11<TODAY(),"Past due",IF($M11<=TODAY()+Assumptions!$K$7,"Due within "&Assumptions!$K$7&" days","Current"))))))) | O11: Fictional pending move-in example verified today.
A12: Fictional Red Mesa Storage | B12: C-402 | C12: Parker Sample (fictional) | D12: (202) 555-0108 | E12: parker.sample@example.invalid | F12: Blair Sample (fictional) | G12: (202) 555-0118 | H12: blair.sample@example.invalid | I12: Text | J12: Cameron Test — Fictional | K12: Active | L12: 45927 | M12: =IF($L12="","",IFERROR($L12+VLOOKUP($A12,Assumptions!$A$5:$B$9,2,FALSE),"")) | N12: =IF(COUNTA($A12:$L12,$O12)=0,"",IF(OR($A12="",$B12="",$C12="",$I12="",$J12="",$K12=""),"Complete key fields",IF($K12="Contact paused","Contact paused",IF($L12="","Verify contact",IF($M12="","Check facility setup",IF($M12<TODAY(),"Past due",IF($M12<=TODAY()+Assumptions!$K$7,"Due within "&Assumptions!$K$7&" days","Current"))))))) | O12: Fictional sample selected text as the preferred method.
A13: Fictional Maple Lane Storage | B13: D-099 | C13: Rowan Demo (fictional) | E13: rowan.demo@example.invalid | F13: Hayden Demo (fictional) | G13: (202) 555-0119 | H13: hayden.demo@example.invalid | I13: Email | J13: Jamie Example — Fictional | K13: Contact paused | L13: 46267 | M13: =IF($L13="","",IFERROR($L13+VLOOKUP($A13,Assumptions!$A$5:$B$9,2,FALSE),"")) | N13: =IF(COUNTA($A13:$L13,$O13)=0,"",IF(OR($A13="",$B13="",$C13="",$I13="",$J13="",$K13=""),"Complete key fields",IF($K13="Contact paused","Contact paused",IF($L13="","Verify contact",IF($M13="","Check facility setup",IF($M13<TODAY(),"Past due",IF($M13<=TODAY()+Assumptions!$K$7,"Due within "&Assumptions!$K$7&" days","Current"))))))) | O13: Contact review is paused in this fictional example.
A14: Fictional Bluebird Storage | C14: Skyler Test (fictional) | D14: (202) 555-0110 | E14: skyler.test@example.invalid | F14: River Test (fictional) | G14: (202) 555-0120 | H14: river.test@example.invalid | I14: Phone | J14: Lee Sample — Fictional | K14: Pending move-in | L14: 46247 | M14: =IF($L14="","",IFERROR($L14+VLOOKUP($A14,Assumptions!$A$5:$B$9,2,FALSE),"")) | N14: =IF(COUNTA($A14:$L14,$O14)=0,"",IF(OR($A14="",$B14="",$C14="",$I14="",$J14="",$K14=""),"Complete key fields",IF($K14="Contact paused","Contact paused",IF($L14="","Verify contact",IF($M14="","Check facility setup",IF($M14<TODAY(),"Past due",IF($M14<=TODAY()+Assumptions!$K$7,"Due within "&Assumptions!$K$7&" days","Current"))))))) | O14: Unit assignment is intentionally blank for testing.
M15: =IF($L15="","",IFERROR($L15+VLOOKUP($A15,Assumptions!$A$5:$B$9,2,FALSE),"")) | N15: =IF(COUNTA($A15:$L15,$O15)=0,"",IF(OR($A15="",$B15="",$C15="",$I15="",$J15="",$K15=""),"Complete key fields",IF($K15="Contact paused","Contact paused",IF($L15="","Verify contact",IF($M15="","Check facility setup",IF($M15<TODAY(),"Past due",IF($M15<=TODAY()+Assumptions!$K$7,"Due within "&Assumptions!$K$7&" days","Current")))))))
M16: =IF($L16="","",IFERROR($L16+VLOOKUP($A16,Assumptions!$A$5:$B$9,2,FALSE),"")) | N16: =IF(COUNTA($A16:$L16,$O16)=0,"",IF(OR($A16="",$B16="",$C16="",$I16="",$J16="",$K16=""),"Complete key fields",IF($K16="Contact paused","Contact paused",IF($L16="","Verify contact",IF($M16="","Check facility setup",IF($M16<TODAY(),"Past due",IF($M16<=TODAY()+Assumptions!$K$7,"Due within "&Assumptions!$K$7&" days","Current")))))))
M17: =IF($L17="","",IFERROR($L17+VLOOKUP($A17,Assumptions!$A$5:$B$9,2,FALSE),"")) | N17: =IF(COUNTA($A17:$L17,$O17)=0,"",IF(OR($A17="",$B17="",$C17="",$I17="",$J17="",$K17=""),"Complete key fields",IF($K17="Contact paused","Contact paused",IF($L17="","Verify contact",IF($M17="","Check facility setup",IF($M17<TODAY(),"Past due",IF($M17<=TODAY()+Assumptions!$K$7,"Due within "&Assumptions!$K$7&" days","Current")))))))
M18: =IF($L18="","",IFERROR($L18+VLOOKUP($A18,Assumptions!$A$5:$B$9,2,FALSE),"")) | N18: =IF(COUNTA($A18:$L18,$O18)=0,"",IF(OR($A18="",$B18="",$C18="",$I18="",$J18="",$K18=""),"Complete key fields",IF($K18="Contact paused","Contact paused",IF($L18="","Verify contact",IF($M18="","Check facility setup",IF($M18<TODAY(),"Past due",IF($M18<=TODAY()+Assumptions!$K$7,"Due within "&Assumptions!$K$7&" days","Current")))))))
M19: =IF($L19="","",IFERROR($L19+VLOOKUP($A19,Assumptions!$A$5:$B$9,2,FALSE),"")) | N19: =IF(COUNTA($A19:$L19,$O19)=0,"",IF(OR($A19="",$B19="",$C19="",$I19="",$J19="",$K19=""),"Complete key fields",IF($K19="Contact paused","Contact paused",IF($L19="","Verify contact",IF($M19="","Check facility setup",IF($M19<TODAY(),"Past due",IF($M19<=TODAY()+Assumptions!$K$7,"Due within "&Assumptions!$K$7&" days","Current")))))))
M20: =IF($L20="","",IFERROR($L20+VLOOKUP($A20,Assumptions!$A$5:$B$9,2,FALSE),"")) | N20: =IF(COUNTA($A20:$L20,$O20)=0,"",IF(OR($A20="",$B20="",$C20="",$I20="",$J20="",$K20=""),"Complete key fields",IF($K20="Contact paused","Contact paused",IF($L20="","Verify contact",IF($M20="","Check facility setup",IF($M20<TODAY(),"Past due",IF($M20<=TODAY()+Assumptions!$K$7,"Due within "&Assumptions!$K$7&" days","Current")))))))
M21: =IF($L21="","",IFERROR($L21+VLOOKUP($A21,Assumptions!$A$5:$B$9,2,FALSE),"")) | N21: =IF(COUNTA($A21:$L21,$O21)=0,"",IF(OR($A21="",$B21="",$C21="",$I21="",$J21="",$K21=""),"Complete key fields",IF($K21="Contact paused","Contact paused",IF($L21="","Verify contact",IF($M21="","Check facility setup",IF($M21<TODAY(),"Past due",IF($M21<=TODAY()+Assumptions!$K$7,"Due within "&Assumptions!$K$7&" days","Current")))))))
M22: =IF($L22="","",IFERROR($L22+VLOOKUP($A22,Assumptions!$A$5:$B$9,2,FALSE),"")) | N22: =IF(COUNTA($A22:$L22,$O22)=0,"",IF(OR($A22="",$B22="",$C22="",$I22="",$J22="",$K22=""),"Complete key fields",IF($K22="Contact paused","Contact paused",IF($L22="","Verify contact",IF($M22="","Check facility setup",IF($M22<TODAY(),"Past due",IF($M22<=TODAY()+Assumptions!$K$7,"Due within "&Assumptions!$K$7&" days","Current")))))))
M23: =IF($L23="","",IFERROR($L23+VLOOKUP($A23,Assumptions!$A$5:$B$9,2,FALSE),"")) | N23: =IF(COUNTA($A23:$L23,$O23)=0,"",IF(OR($A23="",$B23="",$C23="",$I23="",$J23="",$K23=""),"Complete key fields",IF($K23="Contact paused","Contact paused",IF($L23="","Verify contact",IF($M23="","Check facility setup",IF($M23<TODAY(),"Past due",IF($M23<=TODAY()+Assumptions!$K$7,"Due within "&Assumptions!$K$7&" days","Current")))))))
M24: =IF($L24="","",IFERROR($L24+VLOOKUP($A24,Assumptions!$A$5:$B$9,2,FALSE),"")) | N24: =IF(COUNTA($A24:$L24,$O24)=0,"",IF(OR($A24="",$B24="",$C24="",$I24="",$J24="",$K24=""),"Complete key fields",IF($K24="Contact paused","Contact paused",IF($L24="","Verify contact",IF($M24="","Check facility setup",IF($M24<TODAY(),"Past due",IF($M24<=TODAY()+Assumptions!$K$7,"Due within "&Assumptions!$K$7&" days","Current")))))))
M25: =IF($L25="","",IFERROR($L25+VLOOKUP($A25,Assumptions!$A$5:$B$9,2,FALSE),"")) | N25: =IF(COUNTA($A25:$L25,$O25)=0,"",IF(OR($A25="",$B25="",$C25="",$I25="",$J25="",$K25=""),"Complete key fields",IF($K25="Contact paused","Contact paused",IF($L25="","Verify contact",IF($M25="","Check facility setup",IF($M25<TODAY(),"Past due",IF($M25<=TODAY()+Assumptions!$K$7,"Due within "&Assumptions!$K$7&" days","Current")))))))
M26: =IF($L26="","",IFERROR($L26+VLOOKUP($A26,Assumptions!$A$5:$B$9,2,FALSE),"")) | N26: =IF(COUNTA($A26:$L26,$O26)=0,"",IF(OR($A26="",$B26="",$C26="",$I26="",$J26="",$K26=""),"Complete key fields",IF($K26="Contact paused","Contact paused",IF($L26="","Verify contact",IF($M26="","Check facility setup",IF($M26<TODAY(),"Past due",IF($M26<=TODAY()+Assumptions!$K$7,"Due within "&Assumptions!$K$7&" days","Current")))))))
... M124: =IF($L124="","",IFERROR($L124+VLOOKUP($A124,Assumptions!$A$5:$B$9,2,FALSE),"")) | N124: =IF(COUNTA($A124:$L124,$O124)=0,"",IF(OR($A124="",$B124="",$C124="",$I124="",$J124="",$K124=""),"Complete key fields",IF($K124="Contact paused","Contact paused",IF($L124="","Verify contact",IF($M124="","Check facility setup",IF($M124<TODAY(),"Past due",IF($M124<=TODAY()+Assumptions!$K$7,"Due within "&Assumptions!$K$7&" days","Current")))))))

Sheet Assumptions
A1: Self Storage Tenant Contact Directory — Assumptions
A2: Edit yellow list values and review limits carefully; review results remain a human administrative decision. | D2: All facility and record-owner examples are fictional.
A3: Facility review cadence | D3: Communication methods | F3: Record owners | H3: Directory statuses | J3: Date and review limits
A4: Facility | B4: Review interval (days) | D4: Method | F4: Record owner | H4: Status | J4: Setting | K4: Value
A5: Fictional Harbor Storage | B5: 180 | D5: Phone | F5: Jamie Example — Fictional | H5: Active | J5: Earliest last-verified date | K5: 42370
A6: Fictional Juniper Self Storage | B6: 120 | D6: Email | F6: Lee Sample — Fictional | H6: Pending move-in | J6: Latest last-verified date | K6: 47118
A7: Fictional Red Mesa Storage | B7: 365 | D7: Text | F7: Robin Demo — Fictional | H7: Former | J7: Due-soon window (days) | K7: 30
A8: Fictional Maple Lane Storage | B8: 90 | D8: None specified | F8: Cameron Test — Fictional | H8: Contact paused
A9: Fictional Bluebird Storage | B9: 180
A11: Review intervals and the due-soon window are editable administrative assumptions. Verify each flagged record before changing directory information.
