Workbook

Sheet Summary
A1: Self Storage Rent Roll Summary
A2: As-of Date | B2: =Assumptions!$B$4
A4: Units Recorded | B4: =COUNTIFS('Rent Roll'!$A$6:$A$155,"<>",'Rent Roll'!$B$6:$B$155,"<>") | D4: Rentable Units | E4: =COUNTIFS('Rent Roll'!$A$6:$A$155,"<>",'Rent Roll'!$B$6:$B$155,"<>")-COUNTIFS('Rent Roll'!$A$6:$A$155,"<>",'Rent Roll'!$B$6:$B$155,"<>",'Rent Roll'!$E$6:$E$155,"Offline") | G4: Occupied Units | H4: =COUNTIFS('Rent Roll'!$A$6:$A$155,"<>",'Rent Roll'!$B$6:$B$155,"<>",'Rent Roll'!$E$6:$E$155,"Occupied")
A6: Physical Occupancy | B6: =IFERROR(COUNTIFS('Rent Roll'!$A$6:$A$155,"<>",'Rent Roll'!$B$6:$B$155,"<>",'Rent Roll'!$E$6:$E$155,"Occupied")/(COUNTIFS('Rent Roll'!$A$6:$A$155,"<>",'Rent Roll'!$B$6:$B$155,"<>")-COUNTIFS('Rent Roll'!$A$6:$A$155,"<>",'Rent Roll'!$B$6:$B$155,"<>",'Rent Roll'!$E$6:$E$155,"Offline")),"") | D6: Vacant Units | E6: =COUNTIF('Rent Roll'!$E$6:$E$155,"Vacant") | G6: Offline Units | H6: =COUNTIF('Rent Roll'!$E$6:$E$155,"Offline")
A8: Rentable Square Feet | B8: =SUMIFS('Rent Roll'!$C$6:$C$155,'Rent Roll'!$A$6:$A$155,"<>",'Rent Roll'!$B$6:$B$155,"<>",'Rent Roll'!$E$6:$E$155,"<>Offline") | D8: Occupied Square Feet | E8: =SUMIFS('Rent Roll'!$C$6:$C$155,'Rent Roll'!$A$6:$A$155,"<>",'Rent Roll'!$B$6:$B$155,"<>",'Rent Roll'!$E$6:$E$155,"Occupied") | G8: Average Occupied $ / Sq Ft | H8: =IFERROR(SUMIFS('Rent Roll'!$F$6:$F$155,'Rent Roll'!$A$6:$A$155,"<>",'Rent Roll'!$B$6:$B$155,"<>",'Rent Roll'!$E$6:$E$155,"Occupied")/SUMIFS('Rent Roll'!$C$6:$C$155,'Rent Roll'!$A$6:$A$155,"<>",'Rent Roll'!$B$6:$B$155,"<>",'Rent Roll'!$E$6:$E$155,"Occupied"),"")
A10: Occupied Monthly Rent | B10: =SUMIFS('Rent Roll'!$F$6:$F$155,'Rent Roll'!$A$6:$A$155,"<>",'Rent Roll'!$B$6:$B$155,"<>",'Rent Roll'!$E$6:$E$155,"Occupied") | D10: Positive Account Balance | E10: =SUMIFS('Rent Roll'!$I$6:$I$155,'Rent Roll'!$A$6:$A$155,"<>",'Rent Roll'!$B$6:$B$155,"<>",'Rent Roll'!$I$6:$I$155,">0") | G10: Rows Needing Review | H10: =COUNTIF('Rent Roll'!$L$6:$L$155,"Review*")
A12: Facilities Below Attention Threshold | B12: =SUMPRODUCT(--ISNUMBER($D$16:$D$18),--($D$16:$D$18<Assumptions!$B$6)) | D12: Reserved Units | E12: =COUNTIF('Rent Roll'!$E$6:$E$155,"Reserved") | G12: Past Paid-Through Rows | H12: =COUNTIF('Rent Roll'!$K$6:$K$155,">0")
A15: Facility | B15: Units | C15: Occupied Units | D15: Physical Occupancy | E15: Rentable Sq Ft | F15: Occupied Sq Ft | G15: Occupied Monthly Rent | H15: Positive Balance
A16: =Assumptions!$D$4 | B16: =IF($A16="","",COUNTIFS('Rent Roll'!$A$6:$A$155,$A16,'Rent Roll'!$B$6:$B$155,"<>")) | C16: =IF($A16="","",COUNTIFS('Rent Roll'!$A$6:$A$155,$A16,'Rent Roll'!$B$6:$B$155,"<>",'Rent Roll'!$E$6:$E$155,"Occupied")) | D16: =IF($A16="","",IFERROR($C16/(COUNTIFS('Rent Roll'!$A$6:$A$155,$A16,'Rent Roll'!$B$6:$B$155,"<>")-COUNTIFS('Rent Roll'!$A$6:$A$155,$A16,'Rent Roll'!$B$6:$B$155,"<>",'Rent Roll'!$E$6:$E$155,"Offline")),"")) | E16: =IF($A16="","",SUMIFS('Rent Roll'!$C$6:$C$155,'Rent Roll'!$A$6:$A$155,$A16,'Rent Roll'!$B$6:$B$155,"<>",'Rent Roll'!$E$6:$E$155,"<>Offline")) | F16: =IF($A16="","",SUMIFS('Rent Roll'!$C$6:$C$155,'Rent Roll'!$A$6:$A$155,$A16,'Rent Roll'!$B$6:$B$155,"<>",'Rent Roll'!$E$6:$E$155,"Occupied")) | G16: =IF($A16="","",SUMIFS('Rent Roll'!$F$6:$F$155,'Rent Roll'!$A$6:$A$155,$A16,'Rent Roll'!$B$6:$B$155,"<>",'Rent Roll'!$E$6:$E$155,"Occupied")) | H16: =IF($A16="","",SUMIFS('Rent Roll'!$I$6:$I$155,'Rent Roll'!$A$6:$A$155,$A16,'Rent Roll'!$B$6:$B$155,"<>",'Rent Roll'!$I$6:$I$155,">0"))
A17: =Assumptions!$D$5 | B17: =IF($A17="","",COUNTIFS('Rent Roll'!$A$6:$A$155,$A17,'Rent Roll'!$B$6:$B$155,"<>")) | C17: =IF($A17="","",COUNTIFS('Rent Roll'!$A$6:$A$155,$A17,'Rent Roll'!$B$6:$B$155,"<>",'Rent Roll'!$E$6:$E$155,"Occupied")) | D17: =IF($A17="","",IFERROR($C17/(COUNTIFS('Rent Roll'!$A$6:$A$155,$A17,'Rent Roll'!$B$6:$B$155,"<>")-COUNTIFS('Rent Roll'!$A$6:$A$155,$A17,'Rent Roll'!$B$6:$B$155,"<>",'Rent Roll'!$E$6:$E$155,"Offline")),"")) | E17: =IF($A17="","",SUMIFS('Rent Roll'!$C$6:$C$155,'Rent Roll'!$A$6:$A$155,$A17,'Rent Roll'!$B$6:$B$155,"<>",'Rent Roll'!$E$6:$E$155,"<>Offline")) | F17: =IF($A17="","",SUMIFS('Rent Roll'!$C$6:$C$155,'Rent Roll'!$A$6:$A$155,$A17,'Rent Roll'!$B$6:$B$155,"<>",'Rent Roll'!$E$6:$E$155,"Occupied")) | G17: =IF($A17="","",SUMIFS('Rent Roll'!$F$6:$F$155,'Rent Roll'!$A$6:$A$155,$A17,'Rent Roll'!$B$6:$B$155,"<>",'Rent Roll'!$E$6:$E$155,"Occupied")) | H17: =IF($A17="","",SUMIFS('Rent Roll'!$I$6:$I$155,'Rent Roll'!$A$6:$A$155,$A17,'Rent Roll'!$B$6:$B$155,"<>",'Rent Roll'!$I$6:$I$155,">0"))
A18: =Assumptions!$D$6 | B18: =IF($A18="","",COUNTIFS('Rent Roll'!$A$6:$A$155,$A18,'Rent Roll'!$B$6:$B$155,"<>")) | C18: =IF($A18="","",COUNTIFS('Rent Roll'!$A$6:$A$155,$A18,'Rent Roll'!$B$6:$B$155,"<>",'Rent Roll'!$E$6:$E$155,"Occupied")) | D18: =IF($A18="","",IFERROR($C18/(COUNTIFS('Rent Roll'!$A$6:$A$155,$A18,'Rent Roll'!$B$6:$B$155,"<>")-COUNTIFS('Rent Roll'!$A$6:$A$155,$A18,'Rent Roll'!$B$6:$B$155,"<>",'Rent Roll'!$E$6:$E$155,"Offline")),"")) | E18: =IF($A18="","",SUMIFS('Rent Roll'!$C$6:$C$155,'Rent Roll'!$A$6:$A$155,$A18,'Rent Roll'!$B$6:$B$155,"<>",'Rent Roll'!$E$6:$E$155,"<>Offline")) | F18: =IF($A18="","",SUMIFS('Rent Roll'!$C$6:$C$155,'Rent Roll'!$A$6:$A$155,$A18,'Rent Roll'!$B$6:$B$155,"<>",'Rent Roll'!$E$6:$E$155,"Occupied")) | G18: =IF($A18="","",SUMIFS('Rent Roll'!$F$6:$F$155,'Rent Roll'!$A$6:$A$155,$A18,'Rent Roll'!$B$6:$B$155,"<>",'Rent Roll'!$E$6:$E$155,"Occupied")) | H18: =IF($A18="","",SUMIFS('Rent Roll'!$I$6:$I$155,'Rent Roll'!$A$6:$A$155,$A18,'Rent Roll'!$B$6:$B$155,"<>",'Rent Roll'!$I$6:$I$155,">0"))

Sheet Rent Roll
A1: Self Storage Rent Roll
A2: As-of Date | B2: =Assumptions!$B$4 | D2: Prepared Rows | E2: =ROWS($A$6:$A$155) | G2: Balance Review Threshold | H2: =Assumptions!$B$5
A3: Use the Review Status column as a prompt to verify entered information.
A5: Facility | B5: Unit | C5: Size (sq ft) | D5: Tenant / Account | E5: Occupancy Status | F5: Monthly Contracted Rate | G5: Paid-Through Date | H5: Next Due Date | I5: Account Balance | J5: Monthly Rate / Sq Ft | K5: Days Past Paid-Through | L5: Review Status | M5: Notes
A6: Northstar Lockers - Fictional | B6: A-101 | C6: 50 | D6: Fictional Tenant 001 | E6: Occupied | F6: 119 | G6: 46295 | H6: =IF(OR($A6="",$B6="",$E6<>"Occupied",NOT(ISNUMBER($G6))),"",$G6+1) | I6: 0 | J6: =IF(OR($A6="",$B6="",NOT(ISNUMBER($C6)),NOT(ISNUMBER($F6)),$C6<=0),"",IFERROR($F6/$C6,"")) | K6: =IF(OR($A6="",$B6="",$E6<>"Occupied",NOT(ISNUMBER($G6)),NOT(ISNUMBER(Assumptions!$B$4))),"",MAX(0,Assumptions!$B$4-$G6)) | L6: =IF(COUNTA($A6:$G6,$I6,$M6)=0,"",IF(OR($A6="",$B6=""),"Review: identify unit",IF($C6="","Review: add size",IF(NOT(ISNUMBER($C6)),"Review: confirm size",IF($E6="","Review: add status",IF($E6="Vacant","Vacant",IF($E6="Reserved","Reserved",IF($E6="Offline","Offline",IF($E6<>"Occupied","Review: confirm status",IF($D6="","Review: add tenant",IF($F6="","Review: add rate",IF(NOT(ISNUMBER($F6)),"Review: confirm rate",IF($F6<=0,"Review: confirm rate",IF($G6="","Review: add paid-through date",IF(NOT(ISNUMBER($G6)),"Review: confirm paid-through date",IF($I6="","Review: add balance",IF(NOT(ISNUMBER($I6)),"Review: confirm balance",IF(NOT(ISNUMBER(Assumptions!$B$4)),"Review: check as-of date",IF(NOT(ISNUMBER(Assumptions!$B$5)),"Review: check threshold",IF(AND($I6>=Assumptions!$B$5,$G6<Assumptions!$B$4),"Review: balance and paid-through",IF($I6>=Assumptions!$B$5,"Review: balance",IF($G6<Assumptions!$B$4,"Review: paid-through","Current")))))))))))))))))))))) | M6: Sample account paid through a future date.
A7: Northstar Lockers - Fictional | B7: A-102 | C7: 100 | D7: Fictional Tenant 002 | E7: Occupied | F7: 169 | G7: 46265 | H7: =IF(OR($A7="",$B7="",$E7<>"Occupied",NOT(ISNUMBER($G7))),"",$G7+1) | I7: 85 | J7: =IF(OR($A7="",$B7="",NOT(ISNUMBER($C7)),NOT(ISNUMBER($F7)),$C7<=0),"",IFERROR($F7/$C7,"")) | K7: =IF(OR($A7="",$B7="",$E7<>"Occupied",NOT(ISNUMBER($G7)),NOT(ISNUMBER(Assumptions!$B$4))),"",MAX(0,Assumptions!$B$4-$G7)) | L7: =IF(COUNTA($A7:$G7,$I7,$M7)=0,"",IF(OR($A7="",$B7=""),"Review: identify unit",IF($C7="","Review: add size",IF(NOT(ISNUMBER($C7)),"Review: confirm size",IF($E7="","Review: add status",IF($E7="Vacant","Vacant",IF($E7="Reserved","Reserved",IF($E7="Offline","Offline",IF($E7<>"Occupied","Review: confirm status",IF($D7="","Review: add tenant",IF($F7="","Review: add rate",IF(NOT(ISNUMBER($F7)),"Review: confirm rate",IF($F7<=0,"Review: confirm rate",IF($G7="","Review: add paid-through date",IF(NOT(ISNUMBER($G7)),"Review: confirm paid-through date",IF($I7="","Review: add balance",IF(NOT(ISNUMBER($I7)),"Review: confirm balance",IF(NOT(ISNUMBER(Assumptions!$B$4)),"Review: check as-of date",IF(NOT(ISNUMBER(Assumptions!$B$5)),"Review: check threshold",IF(AND($I7>=Assumptions!$B$5,$G7<Assumptions!$B$4),"Review: balance and paid-through",IF($I7>=Assumptions!$B$5,"Review: balance",IF($G7<Assumptions!$B$4,"Review: paid-through","Current")))))))))))))))))))))) | M7: Sample balance and paid-through date need human review.
A8: Northstar Lockers - Fictional | B8: A-103 | C8: 75 | E8: Vacant | H8: =IF(OR($A8="",$B8="",$E8<>"Occupied",NOT(ISNUMBER($G8))),"",$G8+1) | I8: 0 | J8: =IF(OR($A8="",$B8="",NOT(ISNUMBER($C8)),NOT(ISNUMBER($F8)),$C8<=0),"",IFERROR($F8/$C8,"")) | K8: =IF(OR($A8="",$B8="",$E8<>"Occupied",NOT(ISNUMBER($G8)),NOT(ISNUMBER(Assumptions!$B$4))),"",MAX(0,Assumptions!$B$4-$G8)) | L8: =IF(COUNTA($A8:$G8,$I8,$M8)=0,"",IF(OR($A8="",$B8=""),"Review: identify unit",IF($C8="","Review: add size",IF(NOT(ISNUMBER($C8)),"Review: confirm size",IF($E8="","Review: add status",IF($E8="Vacant","Vacant",IF($E8="Reserved","Reserved",IF($E8="Offline","Offline",IF($E8<>"Occupied","Review: confirm status",IF($D8="","Review: add tenant",IF($F8="","Review: add rate",IF(NOT(ISNUMBER($F8)),"Review: confirm rate",IF($F8<=0,"Review: confirm rate",IF($G8="","Review: add paid-through date",IF(NOT(ISNUMBER($G8)),"Review: confirm paid-through date",IF($I8="","Review: add balance",IF(NOT(ISNUMBER($I8)),"Review: confirm balance",IF(NOT(ISNUMBER(Assumptions!$B$4)),"Review: check as-of date",IF(NOT(ISNUMBER(Assumptions!$B$5)),"Review: check threshold",IF(AND($I8>=Assumptions!$B$5,$G8<Assumptions!$B$4),"Review: balance and paid-through",IF($I8>=Assumptions!$B$5,"Review: balance",IF($G8<Assumptions!$B$4,"Review: paid-through","Current")))))))))))))))))))))) | M8: Sample vacant unit.
A9: Northstar Lockers - Fictional | B9: B-201 | C9: 150 | D9: Fictional Tenant 003 | E9: Occupied | F9: 239 | G9: 46277 | H9: =IF(OR($A9="",$B9="",$E9<>"Occupied",NOT(ISNUMBER($G9))),"",$G9+1) | I9: 25 | J9: =IF(OR($A9="",$B9="",NOT(ISNUMBER($C9)),NOT(ISNUMBER($F9)),$C9<=0),"",IFERROR($F9/$C9,"")) | K9: =IF(OR($A9="",$B9="",$E9<>"Occupied",NOT(ISNUMBER($G9)),NOT(ISNUMBER(Assumptions!$B$4))),"",MAX(0,Assumptions!$B$4-$G9)) | L9: =IF(COUNTA($A9:$G9,$I9,$M9)=0,"",IF(OR($A9="",$B9=""),"Review: identify unit",IF($C9="","Review: add size",IF(NOT(ISNUMBER($C9)),"Review: confirm size",IF($E9="","Review: add status",IF($E9="Vacant","Vacant",IF($E9="Reserved","Reserved",IF($E9="Offline","Offline",IF($E9<>"Occupied","Review: confirm status",IF($D9="","Review: add tenant",IF($F9="","Review: add rate",IF(NOT(ISNUMBER($F9)),"Review: confirm rate",IF($F9<=0,"Review: confirm rate",IF($G9="","Review: add paid-through date",IF(NOT(ISNUMBER($G9)),"Review: confirm paid-through date",IF($I9="","Review: add balance",IF(NOT(ISNUMBER($I9)),"Review: confirm balance",IF(NOT(ISNUMBER(Assumptions!$B$4)),"Review: check as-of date",IF(NOT(ISNUMBER(Assumptions!$B$5)),"Review: check threshold",IF(AND($I9>=Assumptions!$B$5,$G9<Assumptions!$B$4),"Review: balance and paid-through",IF($I9>=Assumptions!$B$5,"Review: balance",IF($G9<Assumptions!$B$4,"Review: paid-through","Current")))))))))))))))))))))) | M9: Sample balance equals the editable review threshold.
A10: Blue Cactus Storage - Fictional | B10: C-011 | C10: 25 | D10: Fictional Tenant 004 | E10: Occupied | F10: 79 | G10: 46280 | H10: =IF(OR($A10="",$B10="",$E10<>"Occupied",NOT(ISNUMBER($G10))),"",$G10+1) | I10: -10 | J10: =IF(OR($A10="",$B10="",NOT(ISNUMBER($C10)),NOT(ISNUMBER($F10)),$C10<=0),"",IFERROR($F10/$C10,"")) | K10: =IF(OR($A10="",$B10="",$E10<>"Occupied",NOT(ISNUMBER($G10)),NOT(ISNUMBER(Assumptions!$B$4))),"",MAX(0,Assumptions!$B$4-$G10)) | L10: =IF(COUNTA($A10:$G10,$I10,$M10)=0,"",IF(OR($A10="",$B10=""),"Review: identify unit",IF($C10="","Review: add size",IF(NOT(ISNUMBER($C10)),"Review: confirm size",IF($E10="","Review: add status",IF($E10="Vacant","Vacant",IF($E10="Reserved","Reserved",IF($E10="Offline","Offline",IF($E10<>"Occupied","Review: confirm status",IF($D10="","Review: add tenant",IF($F10="","Review: add rate",IF(NOT(ISNUMBER($F10)),"Review: confirm rate",IF($F10<=0,"Review: confirm rate",IF($G10="","Review: add paid-through date",IF(NOT(ISNUMBER($G10)),"Review: confirm paid-through date",IF($I10="","Review: add balance",IF(NOT(ISNUMBER($I10)),"Review: confirm balance",IF(NOT(ISNUMBER(Assumptions!$B$4)),"Review: check as-of date",IF(NOT(ISNUMBER(Assumptions!$B$5)),"Review: check threshold",IF(AND($I10>=Assumptions!$B$5,$G10<Assumptions!$B$4),"Review: balance and paid-through",IF($I10>=Assumptions!$B$5,"Review: balance",IF($G10<Assumptions!$B$4,"Review: paid-through","Current")))))))))))))))))))))) | M10: Sample account has a fictional credit balance.
A11: Blue Cactus Storage - Fictional | B11: C-012 | C11: 50 | D11: Fictional Tenant 005 | E11: Occupied | F11: 109 | G11: 46276 | H11: =IF(OR($A11="",$B11="",$E11<>"Occupied",NOT(ISNUMBER($G11))),"",$G11+1) | I11: 0 | J11: =IF(OR($A11="",$B11="",NOT(ISNUMBER($C11)),NOT(ISNUMBER($F11)),$C11<=0),"",IFERROR($F11/$C11,"")) | K11: =IF(OR($A11="",$B11="",$E11<>"Occupied",NOT(ISNUMBER($G11)),NOT(ISNUMBER(Assumptions!$B$4))),"",MAX(0,Assumptions!$B$4-$G11)) | L11: =IF(COUNTA($A11:$G11,$I11,$M11)=0,"",IF(OR($A11="",$B11=""),"Review: identify unit",IF($C11="","Review: add size",IF(NOT(ISNUMBER($C11)),"Review: confirm size",IF($E11="","Review: add status",IF($E11="Vacant","Vacant",IF($E11="Reserved","Reserved",IF($E11="Offline","Offline",IF($E11<>"Occupied","Review: confirm status",IF($D11="","Review: add tenant",IF($F11="","Review: add rate",IF(NOT(ISNUMBER($F11)),"Review: confirm rate",IF($F11<=0,"Review: confirm rate",IF($G11="","Review: add paid-through date",IF(NOT(ISNUMBER($G11)),"Review: confirm paid-through date",IF($I11="","Review: add balance",IF(NOT(ISNUMBER($I11)),"Review: confirm balance",IF(NOT(ISNUMBER(Assumptions!$B$4)),"Review: check as-of date",IF(NOT(ISNUMBER(Assumptions!$B$5)),"Review: check threshold",IF(AND($I11>=Assumptions!$B$5,$G11<Assumptions!$B$4),"Review: balance and paid-through",IF($I11>=Assumptions!$B$5,"Review: balance",IF($G11<Assumptions!$B$4,"Review: paid-through","Current")))))))))))))))))))))) | M11: Sample paid-through date is one day before the as-of date.
A12: Blue Cactus Storage - Fictional | B12: C-013 | C12: 100 | D12: Fictional Tenant 006 | E12: Reserved | F12: 159 | H12: =IF(OR($A12="",$B12="",$E12<>"Occupied",NOT(ISNUMBER($G12))),"",$G12+1) | I12: 0 | J12: =IF(OR($A12="",$B12="",NOT(ISNUMBER($C12)),NOT(ISNUMBER($F12)),$C12<=0),"",IFERROR($F12/$C12,"")) | K12: =IF(OR($A12="",$B12="",$E12<>"Occupied",NOT(ISNUMBER($G12)),NOT(ISNUMBER(Assumptions!$B$4))),"",MAX(0,Assumptions!$B$4-$G12)) | L12: =IF(COUNTA($A12:$G12,$I12,$M12)=0,"",IF(OR($A12="",$B12=""),"Review: identify unit",IF($C12="","Review: add size",IF(NOT(ISNUMBER($C12)),"Review: confirm size",IF($E12="","Review: add status",IF($E12="Vacant","Vacant",IF($E12="Reserved","Reserved",IF($E12="Offline","Offline",IF($E12<>"Occupied","Review: confirm status",IF($D12="","Review: add tenant",IF($F12="","Review: add rate",IF(NOT(ISNUMBER($F12)),"Review: confirm rate",IF($F12<=0,"Review: confirm rate",IF($G12="","Review: add paid-through date",IF(NOT(ISNUMBER($G12)),"Review: confirm paid-through date",IF($I12="","Review: add balance",IF(NOT(ISNUMBER($I12)),"Review: confirm balance",IF(NOT(ISNUMBER(Assumptions!$B$4)),"Review: check as-of date",IF(NOT(ISNUMBER(Assumptions!$B$5)),"Review: check threshold",IF(AND($I12>=Assumptions!$B$5,$G12<Assumptions!$B$4),"Review: balance and paid-through",IF($I12>=Assumptions!$B$5,"Review: balance",IF($G12<Assumptions!$B$4,"Review: paid-through","Current")))))))))))))))))))))) | M12: Sample reservation; verify details before changing status.
A13: Maple Kite Units - Fictional | B13: D-001 | C13: 200 | E13: Offline | H13: =IF(OR($A13="",$B13="",$E13<>"Occupied",NOT(ISNUMBER($G13))),"",$G13+1) | I13: 0 | J13: =IF(OR($A13="",$B13="",NOT(ISNUMBER($C13)),NOT(ISNUMBER($F13)),$C13<=0),"",IFERROR($F13/$C13,"")) | K13: =IF(OR($A13="",$B13="",$E13<>"Occupied",NOT(ISNUMBER($G13)),NOT(ISNUMBER(Assumptions!$B$4))),"",MAX(0,Assumptions!$B$4-$G13)) | L13: =IF(COUNTA($A13:$G13,$I13,$M13)=0,"",IF(OR($A13="",$B13=""),"Review: identify unit",IF($C13="","Review: add size",IF(NOT(ISNUMBER($C13)),"Review: confirm size",IF($E13="","Review: add status",IF($E13="Vacant","Vacant",IF($E13="Reserved","Reserved",IF($E13="Offline","Offline",IF($E13<>"Occupied","Review: confirm status",IF($D13="","Review: add tenant",IF($F13="","Review: add rate",IF(NOT(ISNUMBER($F13)),"Review: confirm rate",IF($F13<=0,"Review: confirm rate",IF($G13="","Review: add paid-through date",IF(NOT(ISNUMBER($G13)),"Review: confirm paid-through date",IF($I13="","Review: add balance",IF(NOT(ISNUMBER($I13)),"Review: confirm balance",IF(NOT(ISNUMBER(Assumptions!$B$4)),"Review: check as-of date",IF(NOT(ISNUMBER(Assumptions!$B$5)),"Review: check threshold",IF(AND($I13>=Assumptions!$B$5,$G13<Assumptions!$B$4),"Review: balance and paid-through",IF($I13>=Assumptions!$B$5,"Review: balance",IF($G13<Assumptions!$B$4,"Review: paid-through","Current")))))))))))))))))))))) | M13: Sample unit excluded from rentable unit calculations.
A14: Maple Kite Units - Fictional | B14: D-002 | C14: 100 | E14: Vacant | H14: =IF(OR($A14="",$B14="",$E14<>"Occupied",NOT(ISNUMBER($G14))),"",$G14+1) | I14: 0 | J14: =IF(OR($A14="",$B14="",NOT(ISNUMBER($C14)),NOT(ISNUMBER($F14)),$C14<=0),"",IFERROR($F14/$C14,"")) | K14: =IF(OR($A14="",$B14="",$E14<>"Occupied",NOT(ISNUMBER($G14)),NOT(ISNUMBER(Assumptions!$B$4))),"",MAX(0,Assumptions!$B$4-$G14)) | L14: =IF(COUNTA($A14:$G14,$I14,$M14)=0,"",IF(OR($A14="",$B14=""),"Review: identify unit",IF($C14="","Review: add size",IF(NOT(ISNUMBER($C14)),"Review: confirm size",IF($E14="","Review: add status",IF($E14="Vacant","Vacant",IF($E14="Reserved","Reserved",IF($E14="Offline","Offline",IF($E14<>"Occupied","Review: confirm status",IF($D14="","Review: add tenant",IF($F14="","Review: add rate",IF(NOT(ISNUMBER($F14)),"Review: confirm rate",IF($F14<=0,"Review: confirm rate",IF($G14="","Review: add paid-through date",IF(NOT(ISNUMBER($G14)),"Review: confirm paid-through date",IF($I14="","Review: add balance",IF(NOT(ISNUMBER($I14)),"Review: confirm balance",IF(NOT(ISNUMBER(Assumptions!$B$4)),"Review: check as-of date",IF(NOT(ISNUMBER(Assumptions!$B$5)),"Review: check threshold",IF(AND($I14>=Assumptions!$B$5,$G14<Assumptions!$B$4),"Review: balance and paid-through",IF($I14>=Assumptions!$B$5,"Review: balance",IF($G14<Assumptions!$B$4,"Review: paid-through","Current")))))))))))))))))))))) | M14: Sample vacant unit.
A15: Maple Kite Units - Fictional | B15: D-003 | C15: 50 | D15: Fictional Tenant 007 | E15: Occupied | F15: 125 | G15: 46307 | H15: =IF(OR($A15="",$B15="",$E15<>"Occupied",NOT(ISNUMBER($G15))),"",$G15+1) | I15: 12 | J15: =IF(OR($A15="",$B15="",NOT(ISNUMBER($C15)),NOT(ISNUMBER($F15)),$C15<=0),"",IFERROR($F15/$C15,"")) | K15: =IF(OR($A15="",$B15="",$E15<>"Occupied",NOT(ISNUMBER($G15)),NOT(ISNUMBER(Assumptions!$B$4))),"",MAX(0,Assumptions!$B$4-$G15)) | L15: =IF(COUNTA($A15:$G15,$I15,$M15)=0,"",IF(OR($A15="",$B15=""),"Review: identify unit",IF($C15="","Review: add size",IF(NOT(ISNUMBER($C15)),"Review: confirm size",IF($E15="","Review: add status",IF($E15="Vacant","Vacant",IF($E15="Reserved","Reserved",IF($E15="Offline","Offline",IF($E15<>"Occupied","Review: confirm status",IF($D15="","Review: add tenant",IF($F15="","Review: add rate",IF(NOT(ISNUMBER($F15)),"Review: confirm rate",IF($F15<=0,"Review: confirm rate",IF($G15="","Review: add paid-through date",IF(NOT(ISNUMBER($G15)),"Review: confirm paid-through date",IF($I15="","Review: add balance",IF(NOT(ISNUMBER($I15)),"Review: confirm balance",IF(NOT(ISNUMBER(Assumptions!$B$4)),"Review: check as-of date",IF(NOT(ISNUMBER(Assumptions!$B$5)),"Review: check threshold",IF(AND($I15>=Assumptions!$B$5,$G15<Assumptions!$B$4),"Review: balance and paid-through",IF($I15>=Assumptions!$B$5,"Review: balance",IF($G15<Assumptions!$B$4,"Review: paid-through","Current")))))))))))))))))))))) | M15: Sample positive balance is below the review threshold.
H16: =IF(OR($A16="",$B16="",$E16<>"Occupied",NOT(ISNUMBER($G16))),"",$G16+1) | J16: =IF(OR($A16="",$B16="",NOT(ISNUMBER($C16)),NOT(ISNUMBER($F16)),$C16<=0),"",IFERROR($F16/$C16,"")) | K16: =IF(OR($A16="",$B16="",$E16<>"Occupied",NOT(ISNUMBER($G16)),NOT(ISNUMBER(Assumptions!$B$4))),"",MAX(0,Assumptions!$B$4-$G16)) | L16: =IF(COUNTA($A16:$G16,$I16,$M16)=0,"",IF(OR($A16="",$B16=""),"Review: identify unit",IF($C16="","Review: add size",IF(NOT(ISNUMBER($C16)),"Review: confirm size",IF($E16="","Review: add status",IF($E16="Vacant","Vacant",IF($E16="Reserved","Reserved",IF($E16="Offline","Offline",IF($E16<>"Occupied","Review: confirm status",IF($D16="","Review: add tenant",IF($F16="","Review: add rate",IF(NOT(ISNUMBER($F16)),"Review: confirm rate",IF($F16<=0,"Review: confirm rate",IF($G16="","Review: add paid-through date",IF(NOT(ISNUMBER($G16)),"Review: confirm paid-through date",IF($I16="","Review: add balance",IF(NOT(ISNUMBER($I16)),"Review: confirm balance",IF(NOT(ISNUMBER(Assumptions!$B$4)),"Review: check as-of date",IF(NOT(ISNUMBER(Assumptions!$B$5)),"Review: check threshold",IF(AND($I16>=Assumptions!$B$5,$G16<Assumptions!$B$4),"Review: balance and paid-through",IF($I16>=Assumptions!$B$5,"Review: balance",IF($G16<Assumptions!$B$4,"Review: paid-through","Current"))))))))))))))))))))))
H17: =IF(OR($A17="",$B17="",$E17<>"Occupied",NOT(ISNUMBER($G17))),"",$G17+1) | J17: =IF(OR($A17="",$B17="",NOT(ISNUMBER($C17)),NOT(ISNUMBER($F17)),$C17<=0),"",IFERROR($F17/$C17,"")) | K17: =IF(OR($A17="",$B17="",$E17<>"Occupied",NOT(ISNUMBER($G17)),NOT(ISNUMBER(Assumptions!$B$4))),"",MAX(0,Assumptions!$B$4-$G17)) | L17: =IF(COUNTA($A17:$G17,$I17,$M17)=0,"",IF(OR($A17="",$B17=""),"Review: identify unit",IF($C17="","Review: add size",IF(NOT(ISNUMBER($C17)),"Review: confirm size",IF($E17="","Review: add status",IF($E17="Vacant","Vacant",IF($E17="Reserved","Reserved",IF($E17="Offline","Offline",IF($E17<>"Occupied","Review: confirm status",IF($D17="","Review: add tenant",IF($F17="","Review: add rate",IF(NOT(ISNUMBER($F17)),"Review: confirm rate",IF($F17<=0,"Review: confirm rate",IF($G17="","Review: add paid-through date",IF(NOT(ISNUMBER($G17)),"Review: confirm paid-through date",IF($I17="","Review: add balance",IF(NOT(ISNUMBER($I17)),"Review: confirm balance",IF(NOT(ISNUMBER(Assumptions!$B$4)),"Review: check as-of date",IF(NOT(ISNUMBER(Assumptions!$B$5)),"Review: check threshold",IF(AND($I17>=Assumptions!$B$5,$G17<Assumptions!$B$4),"Review: balance and paid-through",IF($I17>=Assumptions!$B$5,"Review: balance",IF($G17<Assumptions!$B$4,"Review: paid-through","Current"))))))))))))))))))))))
H18: =IF(OR($A18="",$B18="",$E18<>"Occupied",NOT(ISNUMBER($G18))),"",$G18+1) | J18: =IF(OR($A18="",$B18="",NOT(ISNUMBER($C18)),NOT(ISNUMBER($F18)),$C18<=0),"",IFERROR($F18/$C18,"")) | K18: =IF(OR($A18="",$B18="",$E18<>"Occupied",NOT(ISNUMBER($G18)),NOT(ISNUMBER(Assumptions!$B$4))),"",MAX(0,Assumptions!$B$4-$G18)) | L18: =IF(COUNTA($A18:$G18,$I18,$M18)=0,"",IF(OR($A18="",$B18=""),"Review: identify unit",IF($C18="","Review: add size",IF(NOT(ISNUMBER($C18)),"Review: confirm size",IF($E18="","Review: add status",IF($E18="Vacant","Vacant",IF($E18="Reserved","Reserved",IF($E18="Offline","Offline",IF($E18<>"Occupied","Review: confirm status",IF($D18="","Review: add tenant",IF($F18="","Review: add rate",IF(NOT(ISNUMBER($F18)),"Review: confirm rate",IF($F18<=0,"Review: confirm rate",IF($G18="","Review: add paid-through date",IF(NOT(ISNUMBER($G18)),"Review: confirm paid-through date",IF($I18="","Review: add balance",IF(NOT(ISNUMBER($I18)),"Review: confirm balance",IF(NOT(ISNUMBER(Assumptions!$B$4)),"Review: check as-of date",IF(NOT(ISNUMBER(Assumptions!$B$5)),"Review: check threshold",IF(AND($I18>=Assumptions!$B$5,$G18<Assumptions!$B$4),"Review: balance and paid-through",IF($I18>=Assumptions!$B$5,"Review: balance",IF($G18<Assumptions!$B$4,"Review: paid-through","Current"))))))))))))))))))))))
H19: =IF(OR($A19="",$B19="",$E19<>"Occupied",NOT(ISNUMBER($G19))),"",$G19+1) | J19: =IF(OR($A19="",$B19="",NOT(ISNUMBER($C19)),NOT(ISNUMBER($F19)),$C19<=0),"",IFERROR($F19/$C19,"")) | K19: =IF(OR($A19="",$B19="",$E19<>"Occupied",NOT(ISNUMBER($G19)),NOT(ISNUMBER(Assumptions!$B$4))),"",MAX(0,Assumptions!$B$4-$G19)) | L19: =IF(COUNTA($A19:$G19,$I19,$M19)=0,"",IF(OR($A19="",$B19=""),"Review: identify unit",IF($C19="","Review: add size",IF(NOT(ISNUMBER($C19)),"Review: confirm size",IF($E19="","Review: add status",IF($E19="Vacant","Vacant",IF($E19="Reserved","Reserved",IF($E19="Offline","Offline",IF($E19<>"Occupied","Review: confirm status",IF($D19="","Review: add tenant",IF($F19="","Review: add rate",IF(NOT(ISNUMBER($F19)),"Review: confirm rate",IF($F19<=0,"Review: confirm rate",IF($G19="","Review: add paid-through date",IF(NOT(ISNUMBER($G19)),"Review: confirm paid-through date",IF($I19="","Review: add balance",IF(NOT(ISNUMBER($I19)),"Review: confirm balance",IF(NOT(ISNUMBER(Assumptions!$B$4)),"Review: check as-of date",IF(NOT(ISNUMBER(Assumptions!$B$5)),"Review: check threshold",IF(AND($I19>=Assumptions!$B$5,$G19<Assumptions!$B$4),"Review: balance and paid-through",IF($I19>=Assumptions!$B$5,"Review: balance",IF($G19<Assumptions!$B$4,"Review: paid-through","Current"))))))))))))))))))))))
H20: =IF(OR($A20="",$B20="",$E20<>"Occupied",NOT(ISNUMBER($G20))),"",$G20+1) | J20: =IF(OR($A20="",$B20="",NOT(ISNUMBER($C20)),NOT(ISNUMBER($F20)),$C20<=0),"",IFERROR($F20/$C20,"")) | K20: =IF(OR($A20="",$B20="",$E20<>"Occupied",NOT(ISNUMBER($G20)),NOT(ISNUMBER(Assumptions!$B$4))),"",MAX(0,Assumptions!$B$4-$G20)) | L20: =IF(COUNTA($A20:$G20,$I20,$M20)=0,"",IF(OR($A20="",$B20=""),"Review: identify unit",IF($C20="","Review: add size",IF(NOT(ISNUMBER($C20)),"Review: confirm size",IF($E20="","Review: add status",IF($E20="Vacant","Vacant",IF($E20="Reserved","Reserved",IF($E20="Offline","Offline",IF($E20<>"Occupied","Review: confirm status",IF($D20="","Review: add tenant",IF($F20="","Review: add rate",IF(NOT(ISNUMBER($F20)),"Review: confirm rate",IF($F20<=0,"Review: confirm rate",IF($G20="","Review: add paid-through date",IF(NOT(ISNUMBER($G20)),"Review: confirm paid-through date",IF($I20="","Review: add balance",IF(NOT(ISNUMBER($I20)),"Review: confirm balance",IF(NOT(ISNUMBER(Assumptions!$B$4)),"Review: check as-of date",IF(NOT(ISNUMBER(Assumptions!$B$5)),"Review: check threshold",IF(AND($I20>=Assumptions!$B$5,$G20<Assumptions!$B$4),"Review: balance and paid-through",IF($I20>=Assumptions!$B$5,"Review: balance",IF($G20<Assumptions!$B$4,"Review: paid-through","Current"))))))))))))))))))))))
H21: =IF(OR($A21="",$B21="",$E21<>"Occupied",NOT(ISNUMBER($G21))),"",$G21+1) | J21: =IF(OR($A21="",$B21="",NOT(ISNUMBER($C21)),NOT(ISNUMBER($F21)),$C21<=0),"",IFERROR($F21/$C21,"")) | K21: =IF(OR($A21="",$B21="",$E21<>"Occupied",NOT(ISNUMBER($G21)),NOT(ISNUMBER(Assumptions!$B$4))),"",MAX(0,Assumptions!$B$4-$G21)) | L21: =IF(COUNTA($A21:$G21,$I21,$M21)=0,"",IF(OR($A21="",$B21=""),"Review: identify unit",IF($C21="","Review: add size",IF(NOT(ISNUMBER($C21)),"Review: confirm size",IF($E21="","Review: add status",IF($E21="Vacant","Vacant",IF($E21="Reserved","Reserved",IF($E21="Offline","Offline",IF($E21<>"Occupied","Review: confirm status",IF($D21="","Review: add tenant",IF($F21="","Review: add rate",IF(NOT(ISNUMBER($F21)),"Review: confirm rate",IF($F21<=0,"Review: confirm rate",IF($G21="","Review: add paid-through date",IF(NOT(ISNUMBER($G21)),"Review: confirm paid-through date",IF($I21="","Review: add balance",IF(NOT(ISNUMBER($I21)),"Review: confirm balance",IF(NOT(ISNUMBER(Assumptions!$B$4)),"Review: check as-of date",IF(NOT(ISNUMBER(Assumptions!$B$5)),"Review: check threshold",IF(AND($I21>=Assumptions!$B$5,$G21<Assumptions!$B$4),"Review: balance and paid-through",IF($I21>=Assumptions!$B$5,"Review: balance",IF($G21<Assumptions!$B$4,"Review: paid-through","Current"))))))))))))))))))))))
H22: =IF(OR($A22="",$B22="",$E22<>"Occupied",NOT(ISNUMBER($G22))),"",$G22+1) | J22: =IF(OR($A22="",$B22="",NOT(ISNUMBER($C22)),NOT(ISNUMBER($F22)),$C22<=0),"",IFERROR($F22/$C22,"")) | K22: =IF(OR($A22="",$B22="",$E22<>"Occupied",NOT(ISNUMBER($G22)),NOT(ISNUMBER(Assumptions!$B$4))),"",MAX(0,Assumptions!$B$4-$G22)) | L22: =IF(COUNTA($A22:$G22,$I22,$M22)=0,"",IF(OR($A22="",$B22=""),"Review: identify unit",IF($C22="","Review: add size",IF(NOT(ISNUMBER($C22)),"Review: confirm size",IF($E22="","Review: add status",IF($E22="Vacant","Vacant",IF($E22="Reserved","Reserved",IF($E22="Offline","Offline",IF($E22<>"Occupied","Review: confirm status",IF($D22="","Review: add tenant",IF($F22="","Review: add rate",IF(NOT(ISNUMBER($F22)),"Review: confirm rate",IF($F22<=0,"Review: confirm rate",IF($G22="","Review: add paid-through date",IF(NOT(ISNUMBER($G22)),"Review: confirm paid-through date",IF($I22="","Review: add balance",IF(NOT(ISNUMBER($I22)),"Review: confirm balance",IF(NOT(ISNUMBER(Assumptions!$B$4)),"Review: check as-of date",IF(NOT(ISNUMBER(Assumptions!$B$5)),"Review: check threshold",IF(AND($I22>=Assumptions!$B$5,$G22<Assumptions!$B$4),"Review: balance and paid-through",IF($I22>=Assumptions!$B$5,"Review: balance",IF($G22<Assumptions!$B$4,"Review: paid-through","Current"))))))))))))))))))))))
H23: =IF(OR($A23="",$B23="",$E23<>"Occupied",NOT(ISNUMBER($G23))),"",$G23+1) | J23: =IF(OR($A23="",$B23="",NOT(ISNUMBER($C23)),NOT(ISNUMBER($F23)),$C23<=0),"",IFERROR($F23/$C23,"")) | K23: =IF(OR($A23="",$B23="",$E23<>"Occupied",NOT(ISNUMBER($G23)),NOT(ISNUMBER(Assumptions!$B$4))),"",MAX(0,Assumptions!$B$4-$G23)) | L23: =IF(COUNTA($A23:$G23,$I23,$M23)=0,"",IF(OR($A23="",$B23=""),"Review: identify unit",IF($C23="","Review: add size",IF(NOT(ISNUMBER($C23)),"Review: confirm size",IF($E23="","Review: add status",IF($E23="Vacant","Vacant",IF($E23="Reserved","Reserved",IF($E23="Offline","Offline",IF($E23<>"Occupied","Review: confirm status",IF($D23="","Review: add tenant",IF($F23="","Review: add rate",IF(NOT(ISNUMBER($F23)),"Review: confirm rate",IF($F23<=0,"Review: confirm rate",IF($G23="","Review: add paid-through date",IF(NOT(ISNUMBER($G23)),"Review: confirm paid-through date",IF($I23="","Review: add balance",IF(NOT(ISNUMBER($I23)),"Review: confirm balance",IF(NOT(ISNUMBER(Assumptions!$B$4)),"Review: check as-of date",IF(NOT(ISNUMBER(Assumptions!$B$5)),"Review: check threshold",IF(AND($I23>=Assumptions!$B$5,$G23<Assumptions!$B$4),"Review: balance and paid-through",IF($I23>=Assumptions!$B$5,"Review: balance",IF($G23<Assumptions!$B$4,"Review: paid-through","Current"))))))))))))))))))))))
H24: =IF(OR($A24="",$B24="",$E24<>"Occupied",NOT(ISNUMBER($G24))),"",$G24+1) | J24: =IF(OR($A24="",$B24="",NOT(ISNUMBER($C24)),NOT(ISNUMBER($F24)),$C24<=0),"",IFERROR($F24/$C24,"")) | K24: =IF(OR($A24="",$B24="",$E24<>"Occupied",NOT(ISNUMBER($G24)),NOT(ISNUMBER(Assumptions!$B$4))),"",MAX(0,Assumptions!$B$4-$G24)) | L24: =IF(COUNTA($A24:$G24,$I24,$M24)=0,"",IF(OR($A24="",$B24=""),"Review: identify unit",IF($C24="","Review: add size",IF(NOT(ISNUMBER($C24)),"Review: confirm size",IF($E24="","Review: add status",IF($E24="Vacant","Vacant",IF($E24="Reserved","Reserved",IF($E24="Offline","Offline",IF($E24<>"Occupied","Review: confirm status",IF($D24="","Review: add tenant",IF($F24="","Review: add rate",IF(NOT(ISNUMBER($F24)),"Review: confirm rate",IF($F24<=0,"Review: confirm rate",IF($G24="","Review: add paid-through date",IF(NOT(ISNUMBER($G24)),"Review: confirm paid-through date",IF($I24="","Review: add balance",IF(NOT(ISNUMBER($I24)),"Review: confirm balance",IF(NOT(ISNUMBER(Assumptions!$B$4)),"Review: check as-of date",IF(NOT(ISNUMBER(Assumptions!$B$5)),"Review: check threshold",IF(AND($I24>=Assumptions!$B$5,$G24<Assumptions!$B$4),"Review: balance and paid-through",IF($I24>=Assumptions!$B$5,"Review: balance",IF($G24<Assumptions!$B$4,"Review: paid-through","Current"))))))))))))))))))))))
H25: =IF(OR($A25="",$B25="",$E25<>"Occupied",NOT(ISNUMBER($G25))),"",$G25+1) | J25: =IF(OR($A25="",$B25="",NOT(ISNUMBER($C25)),NOT(ISNUMBER($F25)),$C25<=0),"",IFERROR($F25/$C25,"")) | K25: =IF(OR($A25="",$B25="",$E25<>"Occupied",NOT(ISNUMBER($G25)),NOT(ISNUMBER(Assumptions!$B$4))),"",MAX(0,Assumptions!$B$4-$G25)) | L25: =IF(COUNTA($A25:$G25,$I25,$M25)=0,"",IF(OR($A25="",$B25=""),"Review: identify unit",IF($C25="","Review: add size",IF(NOT(ISNUMBER($C25)),"Review: confirm size",IF($E25="","Review: add status",IF($E25="Vacant","Vacant",IF($E25="Reserved","Reserved",IF($E25="Offline","Offline",IF($E25<>"Occupied","Review: confirm status",IF($D25="","Review: add tenant",IF($F25="","Review: add rate",IF(NOT(ISNUMBER($F25)),"Review: confirm rate",IF($F25<=0,"Review: confirm rate",IF($G25="","Review: add paid-through date",IF(NOT(ISNUMBER($G25)),"Review: confirm paid-through date",IF($I25="","Review: add balance",IF(NOT(ISNUMBER($I25)),"Review: confirm balance",IF(NOT(ISNUMBER(Assumptions!$B$4)),"Review: check as-of date",IF(NOT(ISNUMBER(Assumptions!$B$5)),"Review: check threshold",IF(AND($I25>=Assumptions!$B$5,$G25<Assumptions!$B$4),"Review: balance and paid-through",IF($I25>=Assumptions!$B$5,"Review: balance",IF($G25<Assumptions!$B$4,"Review: paid-through","Current"))))))))))))))))))))))
H26: =IF(OR($A26="",$B26="",$E26<>"Occupied",NOT(ISNUMBER($G26))),"",$G26+1) | J26: =IF(OR($A26="",$B26="",NOT(ISNUMBER($C26)),NOT(ISNUMBER($F26)),$C26<=0),"",IFERROR($F26/$C26,"")) | K26: =IF(OR($A26="",$B26="",$E26<>"Occupied",NOT(ISNUMBER($G26)),NOT(ISNUMBER(Assumptions!$B$4))),"",MAX(0,Assumptions!$B$4-$G26)) | L26: =IF(COUNTA($A26:$G26,$I26,$M26)=0,"",IF(OR($A26="",$B26=""),"Review: identify unit",IF($C26="","Review: add size",IF(NOT(ISNUMBER($C26)),"Review: confirm size",IF($E26="","Review: add status",IF($E26="Vacant","Vacant",IF($E26="Reserved","Reserved",IF($E26="Offline","Offline",IF($E26<>"Occupied","Review: confirm status",IF($D26="","Review: add tenant",IF($F26="","Review: add rate",IF(NOT(ISNUMBER($F26)),"Review: confirm rate",IF($F26<=0,"Review: confirm rate",IF($G26="","Review: add paid-through date",IF(NOT(ISNUMBER($G26)),"Review: confirm paid-through date",IF($I26="","Review: add balance",IF(NOT(ISNUMBER($I26)),"Review: confirm balance",IF(NOT(ISNUMBER(Assumptions!$B$4)),"Review: check as-of date",IF(NOT(ISNUMBER(Assumptions!$B$5)),"Review: check threshold",IF(AND($I26>=Assumptions!$B$5,$G26<Assumptions!$B$4),"Review: balance and paid-through",IF($I26>=Assumptions!$B$5,"Review: balance",IF($G26<Assumptions!$B$4,"Review: paid-through","Current"))))))))))))))))))))))
H27: =IF(OR($A27="",$B27="",$E27<>"Occupied",NOT(ISNUMBER($G27))),"",$G27+1) | J27: =IF(OR($A27="",$B27="",NOT(ISNUMBER($C27)),NOT(ISNUMBER($F27)),$C27<=0),"",IFERROR($F27/$C27,"")) | K27: =IF(OR($A27="",$B27="",$E27<>"Occupied",NOT(ISNUMBER($G27)),NOT(ISNUMBER(Assumptions!$B$4))),"",MAX(0,Assumptions!$B$4-$G27)) | L27: =IF(COUNTA($A27:$G27,$I27,$M27)=0,"",IF(OR($A27="",$B27=""),"Review: identify unit",IF($C27="","Review: add size",IF(NOT(ISNUMBER($C27)),"Review: confirm size",IF($E27="","Review: add status",IF($E27="Vacant","Vacant",IF($E27="Reserved","Reserved",IF($E27="Offline","Offline",IF($E27<>"Occupied","Review: confirm status",IF($D27="","Review: add tenant",IF($F27="","Review: add rate",IF(NOT(ISNUMBER($F27)),"Review: confirm rate",IF($F27<=0,"Review: confirm rate",IF($G27="","Review: add paid-through date",IF(NOT(ISNUMBER($G27)),"Review: confirm paid-through date",IF($I27="","Review: add balance",IF(NOT(ISNUMBER($I27)),"Review: confirm balance",IF(NOT(ISNUMBER(Assumptions!$B$4)),"Review: check as-of date",IF(NOT(ISNUMBER(Assumptions!$B$5)),"Review: check threshold",IF(AND($I27>=Assumptions!$B$5,$G27<Assumptions!$B$4),"Review: balance and paid-through",IF($I27>=Assumptions!$B$5,"Review: balance",IF($G27<Assumptions!$B$4,"Review: paid-through","Current"))))))))))))))))))))))
... H155: =IF(OR($A155="",$B155="",$E155<>"Occupied",NOT(ISNUMBER($G155))),"",$G155+1) | J155: =IF(OR($A155="",$B155="",NOT(ISNUMBER($C155)),NOT(ISNUMBER($F155)),$C155<=0),"",IFERROR($F155/$C155,"")) | K155: =IF(OR($A155="",$B155="",$E155<>"Occupied",NOT(ISNUMBER($G155)),NOT(ISNUMBER(Assumptions!$B$4))),"",MAX(0,Assumptions!$B$4-$G155)) | L155: =IF(COUNTA($A155:$G155,$I155,$M155)=0,"",IF(OR($A155="",$B155=""),"Review: identify unit",IF($C155="","Review: add size",IF(NOT(ISNUMBER($C155)),"Review: confirm size",IF($E155="","Review: add status",IF($E155="Vacant","Vacant",IF($E155="Reserved","Reserved",IF($E155="Offline","Offline",IF($E155<>"Occupied","Review: confirm status",IF($D155="","Review: add tenant",IF($F155="","Review: add rate",IF(NOT(ISNUMBER($F155)),"Review: confirm rate",IF($F155<=0,"Review: confirm rate",IF($G155="","Review: add paid-through date",IF(NOT(ISNUMBER($G155)),"Review: confirm paid-through date",IF($I155="","Review: add balance",IF(NOT(ISNUMBER($I155)),"Review: confirm balance",IF(NOT(ISNUMBER(Assumptions!$B$4)),"Review: check as-of date",IF(NOT(ISNUMBER(Assumptions!$B$5)),"Review: check threshold",IF(AND($I155>=Assumptions!$B$5,$G155<Assumptions!$B$4),"Review: balance and paid-through",IF($I155>=Assumptions!$B$5,"Review: balance",IF($G155<Assumptions!$B$4,"Review: paid-through","Current"))))))))))))))))))))))

Sheet Assumptions
A1: Self Storage Rent Roll Assumptions
A3: Assumption | B3: Editable Value | C3: Use | D3: Editable Facility Options | F3: Stable Status Options
A4: As-of date | B4: 46277 | C4: Point-in-time calculations | D4: Northstar Lockers - Fictional | F4: Occupied
A5: Balance review threshold | B5: 25 | C5: Flags occupied rows at or above this balance | D5: Blue Cactus Storage - Fictional | F5: Vacant
A6: Occupancy attention threshold | B6: 0.85 | C6: Counts facilities below this physical occupancy | D6: Maple Kite Units - Fictional | F6: Reserved
A7: Earliest accepted paid-through date | B7: 36526 | C7: Rent roll date validation | F7: Offline
A8: Latest accepted paid-through date | B8: 73415 | C8: Rent roll date validation
A10: Human review note | B10: Review labels are workbook prompts for human review only. They do not send notices, collect payments, or update other systems.
A11: Fictional samples | B11: All sample facilities, units, account holders, balances, dates, and notes in this workbook are fictional.
A12: Date limit note | B12: Keep the earliest accepted paid-through date on or before the latest accepted date.
