Workbook

Sheet Summary
A1: Self Storage Profit and Loss Statement
A3: Selected Facility | B3: =IF(Assumptions!$B$3="","",Assumptions!$B$3)
A4: Statement Period | B4: =IF(Assumptions!$B$4="","",DATE(YEAR(Assumptions!$B$4),MONTH(Assumptions!$B$4),1)) | C4: Prior Period | D4: =IF(Assumptions!$B$4="","",DATE(YEAR(Assumptions!$B$4),MONTH(Assumptions!$B$4)-1,1))
A6: Income / Operating Metric | B6: Current Period | C6: Prior Period | D6: Variance
A7: Rental Income | B7: =IF(OR(Assumptions!$B$3="",Assumptions!$B$4=""),"",IF(Assumptions!$B$3="All Facilities",IF(COUNTIFS(Transactions!$D$4:$D$153,"Income",Transactions!$E$4:$E$153,$A7,Transactions!$C$4:$C$153,">="&DATE(YEAR(Assumptions!$B$4),MONTH(Assumptions!$B$4),1),Transactions!$C$4:$C$153,"<"&DATE(YEAR(Assumptions!$B$4),MONTH(Assumptions!$B$4)+1,1),Transactions!$K$4:$K$153,">0")=0,"",IFERROR(SUMIFS(Transactions!$K$4:$K$153,Transactions!$D$4:$D$153,"Income",Transactions!$E$4:$E$153,$A7,Transactions!$C$4:$C$153,">="&DATE(YEAR(Assumptions!$B$4),MONTH(Assumptions!$B$4),1),Transactions!$C$4:$C$153,"<"&DATE(YEAR(Assumptions!$B$4),MONTH(Assumptions!$B$4)+1,1)),"")),IF(COUNTIFS(Transactions!$D$4:$D$153,"Income",Transactions!$E$4:$E$153,$A7,Transactions!$C$4:$C$153,">="&DATE(YEAR(Assumptions!$B$4),MONTH(Assumptions!$B$4),1),Transactions!$C$4:$C$153,"<"&DATE(YEAR(Assumptions!$B$4),MONTH(Assumptions!$B$4)+1,1),Transactions!$A$4:$A$153,Assumptions!$B$3,Transactions!$K$4:$K$153,">0")=0,"",IFERROR(SUMIFS(Transactions!$K$4:$K$153,Transactions!$D$4:$D$153,"Income",Transactions!$E$4:$E$153,$A7,Transactions!$C$4:$C$153,">="&DATE(YEAR(Assumptions!$B$4),MONTH(Assumptions!$B$4),1),Transactions!$C$4:$C$153,"<"&DATE(YEAR(Assumptions!$B$4),MONTH(Assumptions!$B$4)+1,1),Transactions!$A$4:$A$153,Assumptions!$B$3),"")))) | C7: =IF(OR(Assumptions!$B$3="",Assumptions!$B$4=""),"",IF(Assumptions!$B$3="All Facilities",IF(COUNTIFS(Transactions!$D$4:$D$153,"Income",Transactions!$E$4:$E$153,$A7,Transactions!$C$4:$C$153,">="&DATE(YEAR(Assumptions!$B$4),MONTH(Assumptions!$B$4)-1,1),Transactions!$C$4:$C$153,"<"&DATE(YEAR(Assumptions!$B$4),MONTH(Assumptions!$B$4),1),Transactions!$K$4:$K$153,">0")=0,"",IFERROR(SUMIFS(Transactions!$K$4:$K$153,Transactions!$D$4:$D$153,"Income",Transactions!$E$4:$E$153,$A7,Transactions!$C$4:$C$153,">="&DATE(YEAR(Assumptions!$B$4),MONTH(Assumptions!$B$4)-1,1),Transactions!$C$4:$C$153,"<"&DATE(YEAR(Assumptions!$B$4),MONTH(Assumptions!$B$4),1)),"")),IF(COUNTIFS(Transactions!$D$4:$D$153,"Income",Transactions!$E$4:$E$153,$A7,Transactions!$C$4:$C$153,">="&DATE(YEAR(Assumptions!$B$4),MONTH(Assumptions!$B$4)-1,1),Transactions!$C$4:$C$153,"<"&DATE(YEAR(Assumptions!$B$4),MONTH(Assumptions!$B$4),1),Transactions!$A$4:$A$153,Assumptions!$B$3,Transactions!$K$4:$K$153,">0")=0,"",IFERROR(SUMIFS(Transactions!$K$4:$K$153,Transactions!$D$4:$D$153,"Income",Transactions!$E$4:$E$153,$A7,Transactions!$C$4:$C$153,">="&DATE(YEAR(Assumptions!$B$4),MONTH(Assumptions!$B$4)-1,1),Transactions!$C$4:$C$153,"<"&DATE(YEAR(Assumptions!$B$4),MONTH(Assumptions!$B$4),1),Transactions!$A$4:$A$153,Assumptions!$B$3),"")))) | D7: =IF(AND(B7="",C7=""),"",IFERROR(IF(B7="",0,B7)-IF(C7="",0,C7),""))
A8: Late & Admin Fees | B8: =IF(OR(Assumptions!$B$3="",Assumptions!$B$4=""),"",IF(Assumptions!$B$3="All Facilities",IF(COUNTIFS(Transactions!$D$4:$D$153,"Income",Transactions!$E$4:$E$153,$A8,Transactions!$C$4:$C$153,">="&DATE(YEAR(Assumptions!$B$4),MONTH(Assumptions!$B$4),1),Transactions!$C$4:$C$153,"<"&DATE(YEAR(Assumptions!$B$4),MONTH(Assumptions!$B$4)+1,1),Transactions!$K$4:$K$153,">0")=0,"",IFERROR(SUMIFS(Transactions!$K$4:$K$153,Transactions!$D$4:$D$153,"Income",Transactions!$E$4:$E$153,$A8,Transactions!$C$4:$C$153,">="&DATE(YEAR(Assumptions!$B$4),MONTH(Assumptions!$B$4),1),Transactions!$C$4:$C$153,"<"&DATE(YEAR(Assumptions!$B$4),MONTH(Assumptions!$B$4)+1,1)),"")),IF(COUNTIFS(Transactions!$D$4:$D$153,"Income",Transactions!$E$4:$E$153,$A8,Transactions!$C$4:$C$153,">="&DATE(YEAR(Assumptions!$B$4),MONTH(Assumptions!$B$4),1),Transactions!$C$4:$C$153,"<"&DATE(YEAR(Assumptions!$B$4),MONTH(Assumptions!$B$4)+1,1),Transactions!$A$4:$A$153,Assumptions!$B$3,Transactions!$K$4:$K$153,">0")=0,"",IFERROR(SUMIFS(Transactions!$K$4:$K$153,Transactions!$D$4:$D$153,"Income",Transactions!$E$4:$E$153,$A8,Transactions!$C$4:$C$153,">="&DATE(YEAR(Assumptions!$B$4),MONTH(Assumptions!$B$4),1),Transactions!$C$4:$C$153,"<"&DATE(YEAR(Assumptions!$B$4),MONTH(Assumptions!$B$4)+1,1),Transactions!$A$4:$A$153,Assumptions!$B$3),"")))) | C8: =IF(OR(Assumptions!$B$3="",Assumptions!$B$4=""),"",IF(Assumptions!$B$3="All Facilities",IF(COUNTIFS(Transactions!$D$4:$D$153,"Income",Transactions!$E$4:$E$153,$A8,Transactions!$C$4:$C$153,">="&DATE(YEAR(Assumptions!$B$4),MONTH(Assumptions!$B$4)-1,1),Transactions!$C$4:$C$153,"<"&DATE(YEAR(Assumptions!$B$4),MONTH(Assumptions!$B$4),1),Transactions!$K$4:$K$153,">0")=0,"",IFERROR(SUMIFS(Transactions!$K$4:$K$153,Transactions!$D$4:$D$153,"Income",Transactions!$E$4:$E$153,$A8,Transactions!$C$4:$C$153,">="&DATE(YEAR(Assumptions!$B$4),MONTH(Assumptions!$B$4)-1,1),Transactions!$C$4:$C$153,"<"&DATE(YEAR(Assumptions!$B$4),MONTH(Assumptions!$B$4),1)),"")),IF(COUNTIFS(Transactions!$D$4:$D$153,"Income",Transactions!$E$4:$E$153,$A8,Transactions!$C$4:$C$153,">="&DATE(YEAR(Assumptions!$B$4),MONTH(Assumptions!$B$4)-1,1),Transactions!$C$4:$C$153,"<"&DATE(YEAR(Assumptions!$B$4),MONTH(Assumptions!$B$4),1),Transactions!$A$4:$A$153,Assumptions!$B$3,Transactions!$K$4:$K$153,">0")=0,"",IFERROR(SUMIFS(Transactions!$K$4:$K$153,Transactions!$D$4:$D$153,"Income",Transactions!$E$4:$E$153,$A8,Transactions!$C$4:$C$153,">="&DATE(YEAR(Assumptions!$B$4),MONTH(Assumptions!$B$4)-1,1),Transactions!$C$4:$C$153,"<"&DATE(YEAR(Assumptions!$B$4),MONTH(Assumptions!$B$4),1),Transactions!$A$4:$A$153,Assumptions!$B$3),"")))) | D8: =IF(AND(B8="",C8=""),"",IFERROR(IF(B8="",0,B8)-IF(C8="",0,C8),""))
A9: Merchandise Sales | B9: =IF(OR(Assumptions!$B$3="",Assumptions!$B$4=""),"",IF(Assumptions!$B$3="All Facilities",IF(COUNTIFS(Transactions!$D$4:$D$153,"Income",Transactions!$E$4:$E$153,$A9,Transactions!$C$4:$C$153,">="&DATE(YEAR(Assumptions!$B$4),MONTH(Assumptions!$B$4),1),Transactions!$C$4:$C$153,"<"&DATE(YEAR(Assumptions!$B$4),MONTH(Assumptions!$B$4)+1,1),Transactions!$K$4:$K$153,">0")=0,"",IFERROR(SUMIFS(Transactions!$K$4:$K$153,Transactions!$D$4:$D$153,"Income",Transactions!$E$4:$E$153,$A9,Transactions!$C$4:$C$153,">="&DATE(YEAR(Assumptions!$B$4),MONTH(Assumptions!$B$4),1),Transactions!$C$4:$C$153,"<"&DATE(YEAR(Assumptions!$B$4),MONTH(Assumptions!$B$4)+1,1)),"")),IF(COUNTIFS(Transactions!$D$4:$D$153,"Income",Transactions!$E$4:$E$153,$A9,Transactions!$C$4:$C$153,">="&DATE(YEAR(Assumptions!$B$4),MONTH(Assumptions!$B$4),1),Transactions!$C$4:$C$153,"<"&DATE(YEAR(Assumptions!$B$4),MONTH(Assumptions!$B$4)+1,1),Transactions!$A$4:$A$153,Assumptions!$B$3,Transactions!$K$4:$K$153,">0")=0,"",IFERROR(SUMIFS(Transactions!$K$4:$K$153,Transactions!$D$4:$D$153,"Income",Transactions!$E$4:$E$153,$A9,Transactions!$C$4:$C$153,">="&DATE(YEAR(Assumptions!$B$4),MONTH(Assumptions!$B$4),1),Transactions!$C$4:$C$153,"<"&DATE(YEAR(Assumptions!$B$4),MONTH(Assumptions!$B$4)+1,1),Transactions!$A$4:$A$153,Assumptions!$B$3),"")))) | C9: =IF(OR(Assumptions!$B$3="",Assumptions!$B$4=""),"",IF(Assumptions!$B$3="All Facilities",IF(COUNTIFS(Transactions!$D$4:$D$153,"Income",Transactions!$E$4:$E$153,$A9,Transactions!$C$4:$C$153,">="&DATE(YEAR(Assumptions!$B$4),MONTH(Assumptions!$B$4)-1,1),Transactions!$C$4:$C$153,"<"&DATE(YEAR(Assumptions!$B$4),MONTH(Assumptions!$B$4),1),Transactions!$K$4:$K$153,">0")=0,"",IFERROR(SUMIFS(Transactions!$K$4:$K$153,Transactions!$D$4:$D$153,"Income",Transactions!$E$4:$E$153,$A9,Transactions!$C$4:$C$153,">="&DATE(YEAR(Assumptions!$B$4),MONTH(Assumptions!$B$4)-1,1),Transactions!$C$4:$C$153,"<"&DATE(YEAR(Assumptions!$B$4),MONTH(Assumptions!$B$4),1)),"")),IF(COUNTIFS(Transactions!$D$4:$D$153,"Income",Transactions!$E$4:$E$153,$A9,Transactions!$C$4:$C$153,">="&DATE(YEAR(Assumptions!$B$4),MONTH(Assumptions!$B$4)-1,1),Transactions!$C$4:$C$153,"<"&DATE(YEAR(Assumptions!$B$4),MONTH(Assumptions!$B$4),1),Transactions!$A$4:$A$153,Assumptions!$B$3,Transactions!$K$4:$K$153,">0")=0,"",IFERROR(SUMIFS(Transactions!$K$4:$K$153,Transactions!$D$4:$D$153,"Income",Transactions!$E$4:$E$153,$A9,Transactions!$C$4:$C$153,">="&DATE(YEAR(Assumptions!$B$4),MONTH(Assumptions!$B$4)-1,1),Transactions!$C$4:$C$153,"<"&DATE(YEAR(Assumptions!$B$4),MONTH(Assumptions!$B$4),1),Transactions!$A$4:$A$153,Assumptions!$B$3),"")))) | D9: =IF(AND(B9="",C9=""),"",IFERROR(IF(B9="",0,B9)-IF(C9="",0,C9),""))
A10: Other Income | B10: =IF(OR(Assumptions!$B$3="",Assumptions!$B$4=""),"",IF(Assumptions!$B$3="All Facilities",IF(COUNTIFS(Transactions!$D$4:$D$153,"Income",Transactions!$E$4:$E$153,$A10,Transactions!$C$4:$C$153,">="&DATE(YEAR(Assumptions!$B$4),MONTH(Assumptions!$B$4),1),Transactions!$C$4:$C$153,"<"&DATE(YEAR(Assumptions!$B$4),MONTH(Assumptions!$B$4)+1,1),Transactions!$K$4:$K$153,">0")=0,"",IFERROR(SUMIFS(Transactions!$K$4:$K$153,Transactions!$D$4:$D$153,"Income",Transactions!$E$4:$E$153,$A10,Transactions!$C$4:$C$153,">="&DATE(YEAR(Assumptions!$B$4),MONTH(Assumptions!$B$4),1),Transactions!$C$4:$C$153,"<"&DATE(YEAR(Assumptions!$B$4),MONTH(Assumptions!$B$4)+1,1)),"")),IF(COUNTIFS(Transactions!$D$4:$D$153,"Income",Transactions!$E$4:$E$153,$A10,Transactions!$C$4:$C$153,">="&DATE(YEAR(Assumptions!$B$4),MONTH(Assumptions!$B$4),1),Transactions!$C$4:$C$153,"<"&DATE(YEAR(Assumptions!$B$4),MONTH(Assumptions!$B$4)+1,1),Transactions!$A$4:$A$153,Assumptions!$B$3,Transactions!$K$4:$K$153,">0")=0,"",IFERROR(SUMIFS(Transactions!$K$4:$K$153,Transactions!$D$4:$D$153,"Income",Transactions!$E$4:$E$153,$A10,Transactions!$C$4:$C$153,">="&DATE(YEAR(Assumptions!$B$4),MONTH(Assumptions!$B$4),1),Transactions!$C$4:$C$153,"<"&DATE(YEAR(Assumptions!$B$4),MONTH(Assumptions!$B$4)+1,1),Transactions!$A$4:$A$153,Assumptions!$B$3),"")))) | C10: =IF(OR(Assumptions!$B$3="",Assumptions!$B$4=""),"",IF(Assumptions!$B$3="All Facilities",IF(COUNTIFS(Transactions!$D$4:$D$153,"Income",Transactions!$E$4:$E$153,$A10,Transactions!$C$4:$C$153,">="&DATE(YEAR(Assumptions!$B$4),MONTH(Assumptions!$B$4)-1,1),Transactions!$C$4:$C$153,"<"&DATE(YEAR(Assumptions!$B$4),MONTH(Assumptions!$B$4),1),Transactions!$K$4:$K$153,">0")=0,"",IFERROR(SUMIFS(Transactions!$K$4:$K$153,Transactions!$D$4:$D$153,"Income",Transactions!$E$4:$E$153,$A10,Transactions!$C$4:$C$153,">="&DATE(YEAR(Assumptions!$B$4),MONTH(Assumptions!$B$4)-1,1),Transactions!$C$4:$C$153,"<"&DATE(YEAR(Assumptions!$B$4),MONTH(Assumptions!$B$4),1)),"")),IF(COUNTIFS(Transactions!$D$4:$D$153,"Income",Transactions!$E$4:$E$153,$A10,Transactions!$C$4:$C$153,">="&DATE(YEAR(Assumptions!$B$4),MONTH(Assumptions!$B$4)-1,1),Transactions!$C$4:$C$153,"<"&DATE(YEAR(Assumptions!$B$4),MONTH(Assumptions!$B$4),1),Transactions!$A$4:$A$153,Assumptions!$B$3,Transactions!$K$4:$K$153,">0")=0,"",IFERROR(SUMIFS(Transactions!$K$4:$K$153,Transactions!$D$4:$D$153,"Income",Transactions!$E$4:$E$153,$A10,Transactions!$C$4:$C$153,">="&DATE(YEAR(Assumptions!$B$4),MONTH(Assumptions!$B$4)-1,1),Transactions!$C$4:$C$153,"<"&DATE(YEAR(Assumptions!$B$4),MONTH(Assumptions!$B$4),1),Transactions!$A$4:$A$153,Assumptions!$B$3),"")))) | D10: =IF(AND(B10="",C10=""),"",IFERROR(IF(B10="",0,B10)-IF(C10="",0,C10),""))
A11: Total Income | B11: =IF(COUNT(B7:B10)=0,"",SUM(B7:B10)) | C11: =IF(COUNT(C7:C10)=0,"",SUM(C7:C10)) | D11: =IF(AND(B11="",C11=""),"",IFERROR(IF(B11="",0,B11)-IF(C11="",0,C11),""))
A13: Operating Expenses
A14: Payroll | B14: =IF(OR(Assumptions!$B$3="",Assumptions!$B$4=""),"",IF(Assumptions!$B$3="All Facilities",IF(COUNTIFS(Transactions!$D$4:$D$153,"Expense",Transactions!$E$4:$E$153,$A14,Transactions!$C$4:$C$153,">="&DATE(YEAR(Assumptions!$B$4),MONTH(Assumptions!$B$4),1),Transactions!$C$4:$C$153,"<"&DATE(YEAR(Assumptions!$B$4),MONTH(Assumptions!$B$4)+1,1),Transactions!$K$4:$K$153,"<0")=0,"",IFERROR(-SUMIFS(Transactions!$K$4:$K$153,Transactions!$D$4:$D$153,"Expense",Transactions!$E$4:$E$153,$A14,Transactions!$C$4:$C$153,">="&DATE(YEAR(Assumptions!$B$4),MONTH(Assumptions!$B$4),1),Transactions!$C$4:$C$153,"<"&DATE(YEAR(Assumptions!$B$4),MONTH(Assumptions!$B$4)+1,1)),"")),IF(COUNTIFS(Transactions!$D$4:$D$153,"Expense",Transactions!$E$4:$E$153,$A14,Transactions!$C$4:$C$153,">="&DATE(YEAR(Assumptions!$B$4),MONTH(Assumptions!$B$4),1),Transactions!$C$4:$C$153,"<"&DATE(YEAR(Assumptions!$B$4),MONTH(Assumptions!$B$4)+1,1),Transactions!$A$4:$A$153,Assumptions!$B$3,Transactions!$K$4:$K$153,"<0")=0,"",IFERROR(-SUMIFS(Transactions!$K$4:$K$153,Transactions!$D$4:$D$153,"Expense",Transactions!$E$4:$E$153,$A14,Transactions!$C$4:$C$153,">="&DATE(YEAR(Assumptions!$B$4),MONTH(Assumptions!$B$4),1),Transactions!$C$4:$C$153,"<"&DATE(YEAR(Assumptions!$B$4),MONTH(Assumptions!$B$4)+1,1),Transactions!$A$4:$A$153,Assumptions!$B$3),"")))) | C14: =IF(OR(Assumptions!$B$3="",Assumptions!$B$4=""),"",IF(Assumptions!$B$3="All Facilities",IF(COUNTIFS(Transactions!$D$4:$D$153,"Expense",Transactions!$E$4:$E$153,$A14,Transactions!$C$4:$C$153,">="&DATE(YEAR(Assumptions!$B$4),MONTH(Assumptions!$B$4)-1,1),Transactions!$C$4:$C$153,"<"&DATE(YEAR(Assumptions!$B$4),MONTH(Assumptions!$B$4),1),Transactions!$K$4:$K$153,"<0")=0,"",IFERROR(-SUMIFS(Transactions!$K$4:$K$153,Transactions!$D$4:$D$153,"Expense",Transactions!$E$4:$E$153,$A14,Transactions!$C$4:$C$153,">="&DATE(YEAR(Assumptions!$B$4),MONTH(Assumptions!$B$4)-1,1),Transactions!$C$4:$C$153,"<"&DATE(YEAR(Assumptions!$B$4),MONTH(Assumptions!$B$4),1)),"")),IF(COUNTIFS(Transactions!$D$4:$D$153,"Expense",Transactions!$E$4:$E$153,$A14,Transactions!$C$4:$C$153,">="&DATE(YEAR(Assumptions!$B$4),MONTH(Assumptions!$B$4)-1,1),Transactions!$C$4:$C$153,"<"&DATE(YEAR(Assumptions!$B$4),MONTH(Assumptions!$B$4),1),Transactions!$A$4:$A$153,Assumptions!$B$3,Transactions!$K$4:$K$153,"<0")=0,"",IFERROR(-SUMIFS(Transactions!$K$4:$K$153,Transactions!$D$4:$D$153,"Expense",Transactions!$E$4:$E$153,$A14,Transactions!$C$4:$C$153,">="&DATE(YEAR(Assumptions!$B$4),MONTH(Assumptions!$B$4)-1,1),Transactions!$C$4:$C$153,"<"&DATE(YEAR(Assumptions!$B$4),MONTH(Assumptions!$B$4),1),Transactions!$A$4:$A$153,Assumptions!$B$3),"")))) | D14: =IF(AND(B14="",C14=""),"",IFERROR(IF(B14="",0,B14)-IF(C14="",0,C14),""))
A15: Utilities | B15: =IF(OR(Assumptions!$B$3="",Assumptions!$B$4=""),"",IF(Assumptions!$B$3="All Facilities",IF(COUNTIFS(Transactions!$D$4:$D$153,"Expense",Transactions!$E$4:$E$153,$A15,Transactions!$C$4:$C$153,">="&DATE(YEAR(Assumptions!$B$4),MONTH(Assumptions!$B$4),1),Transactions!$C$4:$C$153,"<"&DATE(YEAR(Assumptions!$B$4),MONTH(Assumptions!$B$4)+1,1),Transactions!$K$4:$K$153,"<0")=0,"",IFERROR(-SUMIFS(Transactions!$K$4:$K$153,Transactions!$D$4:$D$153,"Expense",Transactions!$E$4:$E$153,$A15,Transactions!$C$4:$C$153,">="&DATE(YEAR(Assumptions!$B$4),MONTH(Assumptions!$B$4),1),Transactions!$C$4:$C$153,"<"&DATE(YEAR(Assumptions!$B$4),MONTH(Assumptions!$B$4)+1,1)),"")),IF(COUNTIFS(Transactions!$D$4:$D$153,"Expense",Transactions!$E$4:$E$153,$A15,Transactions!$C$4:$C$153,">="&DATE(YEAR(Assumptions!$B$4),MONTH(Assumptions!$B$4),1),Transactions!$C$4:$C$153,"<"&DATE(YEAR(Assumptions!$B$4),MONTH(Assumptions!$B$4)+1,1),Transactions!$A$4:$A$153,Assumptions!$B$3,Transactions!$K$4:$K$153,"<0")=0,"",IFERROR(-SUMIFS(Transactions!$K$4:$K$153,Transactions!$D$4:$D$153,"Expense",Transactions!$E$4:$E$153,$A15,Transactions!$C$4:$C$153,">="&DATE(YEAR(Assumptions!$B$4),MONTH(Assumptions!$B$4),1),Transactions!$C$4:$C$153,"<"&DATE(YEAR(Assumptions!$B$4),MONTH(Assumptions!$B$4)+1,1),Transactions!$A$4:$A$153,Assumptions!$B$3),"")))) | C15: =IF(OR(Assumptions!$B$3="",Assumptions!$B$4=""),"",IF(Assumptions!$B$3="All Facilities",IF(COUNTIFS(Transactions!$D$4:$D$153,"Expense",Transactions!$E$4:$E$153,$A15,Transactions!$C$4:$C$153,">="&DATE(YEAR(Assumptions!$B$4),MONTH(Assumptions!$B$4)-1,1),Transactions!$C$4:$C$153,"<"&DATE(YEAR(Assumptions!$B$4),MONTH(Assumptions!$B$4),1),Transactions!$K$4:$K$153,"<0")=0,"",IFERROR(-SUMIFS(Transactions!$K$4:$K$153,Transactions!$D$4:$D$153,"Expense",Transactions!$E$4:$E$153,$A15,Transactions!$C$4:$C$153,">="&DATE(YEAR(Assumptions!$B$4),MONTH(Assumptions!$B$4)-1,1),Transactions!$C$4:$C$153,"<"&DATE(YEAR(Assumptions!$B$4),MONTH(Assumptions!$B$4),1)),"")),IF(COUNTIFS(Transactions!$D$4:$D$153,"Expense",Transactions!$E$4:$E$153,$A15,Transactions!$C$4:$C$153,">="&DATE(YEAR(Assumptions!$B$4),MONTH(Assumptions!$B$4)-1,1),Transactions!$C$4:$C$153,"<"&DATE(YEAR(Assumptions!$B$4),MONTH(Assumptions!$B$4),1),Transactions!$A$4:$A$153,Assumptions!$B$3,Transactions!$K$4:$K$153,"<0")=0,"",IFERROR(-SUMIFS(Transactions!$K$4:$K$153,Transactions!$D$4:$D$153,"Expense",Transactions!$E$4:$E$153,$A15,Transactions!$C$4:$C$153,">="&DATE(YEAR(Assumptions!$B$4),MONTH(Assumptions!$B$4)-1,1),Transactions!$C$4:$C$153,"<"&DATE(YEAR(Assumptions!$B$4),MONTH(Assumptions!$B$4),1),Transactions!$A$4:$A$153,Assumptions!$B$3),"")))) | D15: =IF(AND(B15="",C15=""),"",IFERROR(IF(B15="",0,B15)-IF(C15="",0,C15),""))
A16: Repairs & Maintenance | B16: =IF(OR(Assumptions!$B$3="",Assumptions!$B$4=""),"",IF(Assumptions!$B$3="All Facilities",IF(COUNTIFS(Transactions!$D$4:$D$153,"Expense",Transactions!$E$4:$E$153,$A16,Transactions!$C$4:$C$153,">="&DATE(YEAR(Assumptions!$B$4),MONTH(Assumptions!$B$4),1),Transactions!$C$4:$C$153,"<"&DATE(YEAR(Assumptions!$B$4),MONTH(Assumptions!$B$4)+1,1),Transactions!$K$4:$K$153,"<0")=0,"",IFERROR(-SUMIFS(Transactions!$K$4:$K$153,Transactions!$D$4:$D$153,"Expense",Transactions!$E$4:$E$153,$A16,Transactions!$C$4:$C$153,">="&DATE(YEAR(Assumptions!$B$4),MONTH(Assumptions!$B$4),1),Transactions!$C$4:$C$153,"<"&DATE(YEAR(Assumptions!$B$4),MONTH(Assumptions!$B$4)+1,1)),"")),IF(COUNTIFS(Transactions!$D$4:$D$153,"Expense",Transactions!$E$4:$E$153,$A16,Transactions!$C$4:$C$153,">="&DATE(YEAR(Assumptions!$B$4),MONTH(Assumptions!$B$4),1),Transactions!$C$4:$C$153,"<"&DATE(YEAR(Assumptions!$B$4),MONTH(Assumptions!$B$4)+1,1),Transactions!$A$4:$A$153,Assumptions!$B$3,Transactions!$K$4:$K$153,"<0")=0,"",IFERROR(-SUMIFS(Transactions!$K$4:$K$153,Transactions!$D$4:$D$153,"Expense",Transactions!$E$4:$E$153,$A16,Transactions!$C$4:$C$153,">="&DATE(YEAR(Assumptions!$B$4),MONTH(Assumptions!$B$4),1),Transactions!$C$4:$C$153,"<"&DATE(YEAR(Assumptions!$B$4),MONTH(Assumptions!$B$4)+1,1),Transactions!$A$4:$A$153,Assumptions!$B$3),"")))) | C16: =IF(OR(Assumptions!$B$3="",Assumptions!$B$4=""),"",IF(Assumptions!$B$3="All Facilities",IF(COUNTIFS(Transactions!$D$4:$D$153,"Expense",Transactions!$E$4:$E$153,$A16,Transactions!$C$4:$C$153,">="&DATE(YEAR(Assumptions!$B$4),MONTH(Assumptions!$B$4)-1,1),Transactions!$C$4:$C$153,"<"&DATE(YEAR(Assumptions!$B$4),MONTH(Assumptions!$B$4),1),Transactions!$K$4:$K$153,"<0")=0,"",IFERROR(-SUMIFS(Transactions!$K$4:$K$153,Transactions!$D$4:$D$153,"Expense",Transactions!$E$4:$E$153,$A16,Transactions!$C$4:$C$153,">="&DATE(YEAR(Assumptions!$B$4),MONTH(Assumptions!$B$4)-1,1),Transactions!$C$4:$C$153,"<"&DATE(YEAR(Assumptions!$B$4),MONTH(Assumptions!$B$4),1)),"")),IF(COUNTIFS(Transactions!$D$4:$D$153,"Expense",Transactions!$E$4:$E$153,$A16,Transactions!$C$4:$C$153,">="&DATE(YEAR(Assumptions!$B$4),MONTH(Assumptions!$B$4)-1,1),Transactions!$C$4:$C$153,"<"&DATE(YEAR(Assumptions!$B$4),MONTH(Assumptions!$B$4),1),Transactions!$A$4:$A$153,Assumptions!$B$3,Transactions!$K$4:$K$153,"<0")=0,"",IFERROR(-SUMIFS(Transactions!$K$4:$K$153,Transactions!$D$4:$D$153,"Expense",Transactions!$E$4:$E$153,$A16,Transactions!$C$4:$C$153,">="&DATE(YEAR(Assumptions!$B$4),MONTH(Assumptions!$B$4)-1,1),Transactions!$C$4:$C$153,"<"&DATE(YEAR(Assumptions!$B$4),MONTH(Assumptions!$B$4),1),Transactions!$A$4:$A$153,Assumptions!$B$3),"")))) | D16: =IF(AND(B16="",C16=""),"",IFERROR(IF(B16="",0,B16)-IF(C16="",0,C16),""))
A17: Marketing | B17: =IF(OR(Assumptions!$B$3="",Assumptions!$B$4=""),"",IF(Assumptions!$B$3="All Facilities",IF(COUNTIFS(Transactions!$D$4:$D$153,"Expense",Transactions!$E$4:$E$153,$A17,Transactions!$C$4:$C$153,">="&DATE(YEAR(Assumptions!$B$4),MONTH(Assumptions!$B$4),1),Transactions!$C$4:$C$153,"<"&DATE(YEAR(Assumptions!$B$4),MONTH(Assumptions!$B$4)+1,1),Transactions!$K$4:$K$153,"<0")=0,"",IFERROR(-SUMIFS(Transactions!$K$4:$K$153,Transactions!$D$4:$D$153,"Expense",Transactions!$E$4:$E$153,$A17,Transactions!$C$4:$C$153,">="&DATE(YEAR(Assumptions!$B$4),MONTH(Assumptions!$B$4),1),Transactions!$C$4:$C$153,"<"&DATE(YEAR(Assumptions!$B$4),MONTH(Assumptions!$B$4)+1,1)),"")),IF(COUNTIFS(Transactions!$D$4:$D$153,"Expense",Transactions!$E$4:$E$153,$A17,Transactions!$C$4:$C$153,">="&DATE(YEAR(Assumptions!$B$4),MONTH(Assumptions!$B$4),1),Transactions!$C$4:$C$153,"<"&DATE(YEAR(Assumptions!$B$4),MONTH(Assumptions!$B$4)+1,1),Transactions!$A$4:$A$153,Assumptions!$B$3,Transactions!$K$4:$K$153,"<0")=0,"",IFERROR(-SUMIFS(Transactions!$K$4:$K$153,Transactions!$D$4:$D$153,"Expense",Transactions!$E$4:$E$153,$A17,Transactions!$C$4:$C$153,">="&DATE(YEAR(Assumptions!$B$4),MONTH(Assumptions!$B$4),1),Transactions!$C$4:$C$153,"<"&DATE(YEAR(Assumptions!$B$4),MONTH(Assumptions!$B$4)+1,1),Transactions!$A$4:$A$153,Assumptions!$B$3),"")))) | C17: =IF(OR(Assumptions!$B$3="",Assumptions!$B$4=""),"",IF(Assumptions!$B$3="All Facilities",IF(COUNTIFS(Transactions!$D$4:$D$153,"Expense",Transactions!$E$4:$E$153,$A17,Transactions!$C$4:$C$153,">="&DATE(YEAR(Assumptions!$B$4),MONTH(Assumptions!$B$4)-1,1),Transactions!$C$4:$C$153,"<"&DATE(YEAR(Assumptions!$B$4),MONTH(Assumptions!$B$4),1),Transactions!$K$4:$K$153,"<0")=0,"",IFERROR(-SUMIFS(Transactions!$K$4:$K$153,Transactions!$D$4:$D$153,"Expense",Transactions!$E$4:$E$153,$A17,Transactions!$C$4:$C$153,">="&DATE(YEAR(Assumptions!$B$4),MONTH(Assumptions!$B$4)-1,1),Transactions!$C$4:$C$153,"<"&DATE(YEAR(Assumptions!$B$4),MONTH(Assumptions!$B$4),1)),"")),IF(COUNTIFS(Transactions!$D$4:$D$153,"Expense",Transactions!$E$4:$E$153,$A17,Transactions!$C$4:$C$153,">="&DATE(YEAR(Assumptions!$B$4),MONTH(Assumptions!$B$4)-1,1),Transactions!$C$4:$C$153,"<"&DATE(YEAR(Assumptions!$B$4),MONTH(Assumptions!$B$4),1),Transactions!$A$4:$A$153,Assumptions!$B$3,Transactions!$K$4:$K$153,"<0")=0,"",IFERROR(-SUMIFS(Transactions!$K$4:$K$153,Transactions!$D$4:$D$153,"Expense",Transactions!$E$4:$E$153,$A17,Transactions!$C$4:$C$153,">="&DATE(YEAR(Assumptions!$B$4),MONTH(Assumptions!$B$4)-1,1),Transactions!$C$4:$C$153,"<"&DATE(YEAR(Assumptions!$B$4),MONTH(Assumptions!$B$4),1),Transactions!$A$4:$A$153,Assumptions!$B$3),"")))) | D17: =IF(AND(B17="",C17=""),"",IFERROR(IF(B17="",0,B17)-IF(C17="",0,C17),""))
A18: Insurance | B18: =IF(OR(Assumptions!$B$3="",Assumptions!$B$4=""),"",IF(Assumptions!$B$3="All Facilities",IF(COUNTIFS(Transactions!$D$4:$D$153,"Expense",Transactions!$E$4:$E$153,$A18,Transactions!$C$4:$C$153,">="&DATE(YEAR(Assumptions!$B$4),MONTH(Assumptions!$B$4),1),Transactions!$C$4:$C$153,"<"&DATE(YEAR(Assumptions!$B$4),MONTH(Assumptions!$B$4)+1,1),Transactions!$K$4:$K$153,"<0")=0,"",IFERROR(-SUMIFS(Transactions!$K$4:$K$153,Transactions!$D$4:$D$153,"Expense",Transactions!$E$4:$E$153,$A18,Transactions!$C$4:$C$153,">="&DATE(YEAR(Assumptions!$B$4),MONTH(Assumptions!$B$4),1),Transactions!$C$4:$C$153,"<"&DATE(YEAR(Assumptions!$B$4),MONTH(Assumptions!$B$4)+1,1)),"")),IF(COUNTIFS(Transactions!$D$4:$D$153,"Expense",Transactions!$E$4:$E$153,$A18,Transactions!$C$4:$C$153,">="&DATE(YEAR(Assumptions!$B$4),MONTH(Assumptions!$B$4),1),Transactions!$C$4:$C$153,"<"&DATE(YEAR(Assumptions!$B$4),MONTH(Assumptions!$B$4)+1,1),Transactions!$A$4:$A$153,Assumptions!$B$3,Transactions!$K$4:$K$153,"<0")=0,"",IFERROR(-SUMIFS(Transactions!$K$4:$K$153,Transactions!$D$4:$D$153,"Expense",Transactions!$E$4:$E$153,$A18,Transactions!$C$4:$C$153,">="&DATE(YEAR(Assumptions!$B$4),MONTH(Assumptions!$B$4),1),Transactions!$C$4:$C$153,"<"&DATE(YEAR(Assumptions!$B$4),MONTH(Assumptions!$B$4)+1,1),Transactions!$A$4:$A$153,Assumptions!$B$3),"")))) | C18: =IF(OR(Assumptions!$B$3="",Assumptions!$B$4=""),"",IF(Assumptions!$B$3="All Facilities",IF(COUNTIFS(Transactions!$D$4:$D$153,"Expense",Transactions!$E$4:$E$153,$A18,Transactions!$C$4:$C$153,">="&DATE(YEAR(Assumptions!$B$4),MONTH(Assumptions!$B$4)-1,1),Transactions!$C$4:$C$153,"<"&DATE(YEAR(Assumptions!$B$4),MONTH(Assumptions!$B$4),1),Transactions!$K$4:$K$153,"<0")=0,"",IFERROR(-SUMIFS(Transactions!$K$4:$K$153,Transactions!$D$4:$D$153,"Expense",Transactions!$E$4:$E$153,$A18,Transactions!$C$4:$C$153,">="&DATE(YEAR(Assumptions!$B$4),MONTH(Assumptions!$B$4)-1,1),Transactions!$C$4:$C$153,"<"&DATE(YEAR(Assumptions!$B$4),MONTH(Assumptions!$B$4),1)),"")),IF(COUNTIFS(Transactions!$D$4:$D$153,"Expense",Transactions!$E$4:$E$153,$A18,Transactions!$C$4:$C$153,">="&DATE(YEAR(Assumptions!$B$4),MONTH(Assumptions!$B$4)-1,1),Transactions!$C$4:$C$153,"<"&DATE(YEAR(Assumptions!$B$4),MONTH(Assumptions!$B$4),1),Transactions!$A$4:$A$153,Assumptions!$B$3,Transactions!$K$4:$K$153,"<0")=0,"",IFERROR(-SUMIFS(Transactions!$K$4:$K$153,Transactions!$D$4:$D$153,"Expense",Transactions!$E$4:$E$153,$A18,Transactions!$C$4:$C$153,">="&DATE(YEAR(Assumptions!$B$4),MONTH(Assumptions!$B$4)-1,1),Transactions!$C$4:$C$153,"<"&DATE(YEAR(Assumptions!$B$4),MONTH(Assumptions!$B$4),1),Transactions!$A$4:$A$153,Assumptions!$B$3),"")))) | D18: =IF(AND(B18="",C18=""),"",IFERROR(IF(B18="",0,B18)-IF(C18="",0,C18),""))
A19: Property Tax | B19: =IF(OR(Assumptions!$B$3="",Assumptions!$B$4=""),"",IF(Assumptions!$B$3="All Facilities",IF(COUNTIFS(Transactions!$D$4:$D$153,"Expense",Transactions!$E$4:$E$153,$A19,Transactions!$C$4:$C$153,">="&DATE(YEAR(Assumptions!$B$4),MONTH(Assumptions!$B$4),1),Transactions!$C$4:$C$153,"<"&DATE(YEAR(Assumptions!$B$4),MONTH(Assumptions!$B$4)+1,1),Transactions!$K$4:$K$153,"<0")=0,"",IFERROR(-SUMIFS(Transactions!$K$4:$K$153,Transactions!$D$4:$D$153,"Expense",Transactions!$E$4:$E$153,$A19,Transactions!$C$4:$C$153,">="&DATE(YEAR(Assumptions!$B$4),MONTH(Assumptions!$B$4),1),Transactions!$C$4:$C$153,"<"&DATE(YEAR(Assumptions!$B$4),MONTH(Assumptions!$B$4)+1,1)),"")),IF(COUNTIFS(Transactions!$D$4:$D$153,"Expense",Transactions!$E$4:$E$153,$A19,Transactions!$C$4:$C$153,">="&DATE(YEAR(Assumptions!$B$4),MONTH(Assumptions!$B$4),1),Transactions!$C$4:$C$153,"<"&DATE(YEAR(Assumptions!$B$4),MONTH(Assumptions!$B$4)+1,1),Transactions!$A$4:$A$153,Assumptions!$B$3,Transactions!$K$4:$K$153,"<0")=0,"",IFERROR(-SUMIFS(Transactions!$K$4:$K$153,Transactions!$D$4:$D$153,"Expense",Transactions!$E$4:$E$153,$A19,Transactions!$C$4:$C$153,">="&DATE(YEAR(Assumptions!$B$4),MONTH(Assumptions!$B$4),1),Transactions!$C$4:$C$153,"<"&DATE(YEAR(Assumptions!$B$4),MONTH(Assumptions!$B$4)+1,1),Transactions!$A$4:$A$153,Assumptions!$B$3),"")))) | C19: =IF(OR(Assumptions!$B$3="",Assumptions!$B$4=""),"",IF(Assumptions!$B$3="All Facilities",IF(COUNTIFS(Transactions!$D$4:$D$153,"Expense",Transactions!$E$4:$E$153,$A19,Transactions!$C$4:$C$153,">="&DATE(YEAR(Assumptions!$B$4),MONTH(Assumptions!$B$4)-1,1),Transactions!$C$4:$C$153,"<"&DATE(YEAR(Assumptions!$B$4),MONTH(Assumptions!$B$4),1),Transactions!$K$4:$K$153,"<0")=0,"",IFERROR(-SUMIFS(Transactions!$K$4:$K$153,Transactions!$D$4:$D$153,"Expense",Transactions!$E$4:$E$153,$A19,Transactions!$C$4:$C$153,">="&DATE(YEAR(Assumptions!$B$4),MONTH(Assumptions!$B$4)-1,1),Transactions!$C$4:$C$153,"<"&DATE(YEAR(Assumptions!$B$4),MONTH(Assumptions!$B$4),1)),"")),IF(COUNTIFS(Transactions!$D$4:$D$153,"Expense",Transactions!$E$4:$E$153,$A19,Transactions!$C$4:$C$153,">="&DATE(YEAR(Assumptions!$B$4),MONTH(Assumptions!$B$4)-1,1),Transactions!$C$4:$C$153,"<"&DATE(YEAR(Assumptions!$B$4),MONTH(Assumptions!$B$4),1),Transactions!$A$4:$A$153,Assumptions!$B$3,Transactions!$K$4:$K$153,"<0")=0,"",IFERROR(-SUMIFS(Transactions!$K$4:$K$153,Transactions!$D$4:$D$153,"Expense",Transactions!$E$4:$E$153,$A19,Transactions!$C$4:$C$153,">="&DATE(YEAR(Assumptions!$B$4),MONTH(Assumptions!$B$4)-1,1),Transactions!$C$4:$C$153,"<"&DATE(YEAR(Assumptions!$B$4),MONTH(Assumptions!$B$4),1),Transactions!$A$4:$A$153,Assumptions!$B$3),"")))) | D19: =IF(AND(B19="",C19=""),"",IFERROR(IF(B19="",0,B19)-IF(C19="",0,C19),""))
A20: Other Operating Expense | B20: =IF(OR(Assumptions!$B$3="",Assumptions!$B$4=""),"",IF(Assumptions!$B$3="All Facilities",IF(COUNTIFS(Transactions!$D$4:$D$153,"Expense",Transactions!$E$4:$E$153,$A20,Transactions!$C$4:$C$153,">="&DATE(YEAR(Assumptions!$B$4),MONTH(Assumptions!$B$4),1),Transactions!$C$4:$C$153,"<"&DATE(YEAR(Assumptions!$B$4),MONTH(Assumptions!$B$4)+1,1),Transactions!$K$4:$K$153,"<0")=0,"",IFERROR(-SUMIFS(Transactions!$K$4:$K$153,Transactions!$D$4:$D$153,"Expense",Transactions!$E$4:$E$153,$A20,Transactions!$C$4:$C$153,">="&DATE(YEAR(Assumptions!$B$4),MONTH(Assumptions!$B$4),1),Transactions!$C$4:$C$153,"<"&DATE(YEAR(Assumptions!$B$4),MONTH(Assumptions!$B$4)+1,1)),"")),IF(COUNTIFS(Transactions!$D$4:$D$153,"Expense",Transactions!$E$4:$E$153,$A20,Transactions!$C$4:$C$153,">="&DATE(YEAR(Assumptions!$B$4),MONTH(Assumptions!$B$4),1),Transactions!$C$4:$C$153,"<"&DATE(YEAR(Assumptions!$B$4),MONTH(Assumptions!$B$4)+1,1),Transactions!$A$4:$A$153,Assumptions!$B$3,Transactions!$K$4:$K$153,"<0")=0,"",IFERROR(-SUMIFS(Transactions!$K$4:$K$153,Transactions!$D$4:$D$153,"Expense",Transactions!$E$4:$E$153,$A20,Transactions!$C$4:$C$153,">="&DATE(YEAR(Assumptions!$B$4),MONTH(Assumptions!$B$4),1),Transactions!$C$4:$C$153,"<"&DATE(YEAR(Assumptions!$B$4),MONTH(Assumptions!$B$4)+1,1),Transactions!$A$4:$A$153,Assumptions!$B$3),"")))) | C20: =IF(OR(Assumptions!$B$3="",Assumptions!$B$4=""),"",IF(Assumptions!$B$3="All Facilities",IF(COUNTIFS(Transactions!$D$4:$D$153,"Expense",Transactions!$E$4:$E$153,$A20,Transactions!$C$4:$C$153,">="&DATE(YEAR(Assumptions!$B$4),MONTH(Assumptions!$B$4)-1,1),Transactions!$C$4:$C$153,"<"&DATE(YEAR(Assumptions!$B$4),MONTH(Assumptions!$B$4),1),Transactions!$K$4:$K$153,"<0")=0,"",IFERROR(-SUMIFS(Transactions!$K$4:$K$153,Transactions!$D$4:$D$153,"Expense",Transactions!$E$4:$E$153,$A20,Transactions!$C$4:$C$153,">="&DATE(YEAR(Assumptions!$B$4),MONTH(Assumptions!$B$4)-1,1),Transactions!$C$4:$C$153,"<"&DATE(YEAR(Assumptions!$B$4),MONTH(Assumptions!$B$4),1)),"")),IF(COUNTIFS(Transactions!$D$4:$D$153,"Expense",Transactions!$E$4:$E$153,$A20,Transactions!$C$4:$C$153,">="&DATE(YEAR(Assumptions!$B$4),MONTH(Assumptions!$B$4)-1,1),Transactions!$C$4:$C$153,"<"&DATE(YEAR(Assumptions!$B$4),MONTH(Assumptions!$B$4),1),Transactions!$A$4:$A$153,Assumptions!$B$3,Transactions!$K$4:$K$153,"<0")=0,"",IFERROR(-SUMIFS(Transactions!$K$4:$K$153,Transactions!$D$4:$D$153,"Expense",Transactions!$E$4:$E$153,$A20,Transactions!$C$4:$C$153,">="&DATE(YEAR(Assumptions!$B$4),MONTH(Assumptions!$B$4)-1,1),Transactions!$C$4:$C$153,"<"&DATE(YEAR(Assumptions!$B$4),MONTH(Assumptions!$B$4),1),Transactions!$A$4:$A$153,Assumptions!$B$3),"")))) | D20: =IF(AND(B20="",C20=""),"",IFERROR(IF(B20="",0,B20)-IF(C20="",0,C20),""))
A21: Total Operating Expenses | B21: =IF(COUNT(B14:B20)=0,"",SUM(B14:B20)) | C21: =IF(COUNT(C14:C20)=0,"",SUM(C14:C20)) | D21: =IF(AND(B21="",C21=""),"",IFERROR(IF(B21="",0,B21)-IF(C21="",0,C21),""))
A23: Net Operating Income | B23: =IF(AND(B11="",B21=""),"",IFERROR(IF(B11="",0,B11)-IF(B21="",0,B21),"")) | C23: =IF(AND(C11="",C21=""),"",IFERROR(IF(C11="",0,C11)-IF(C21="",0,C21),"")) | D23: =IF(AND(B23="",C23=""),"",IFERROR(IF(B23="",0,B23)-IF(C23="",0,C23),""))
A24: Operating Margin | B24: =IFERROR(IF(B11>0,B23/B11,""),"") | C24: =IFERROR(IF(C11>0,C23/C11,""),"") | D24: =IF(AND(B24="",C24=""),"",IFERROR(IF(B24="",0,B24)-IF(C24="",0,C24),""))
A25: Posted Entries | B25: =IF(OR(Assumptions!$B$3="",Assumptions!$B$4=""),"",IF(Assumptions!$B$3="All Facilities",IF(COUNTIFS(Transactions!$C$4:$C$153,">="&DATE(YEAR(Assumptions!$B$4),MONTH(Assumptions!$B$4),1),Transactions!$C$4:$C$153,"<"&DATE(YEAR(Assumptions!$B$4),MONTH(Assumptions!$B$4)+1,1),Transactions!$A$4:$A$153,"<>")=0,"",COUNTIFS(Transactions!$C$4:$C$153,">="&DATE(YEAR(Assumptions!$B$4),MONTH(Assumptions!$B$4),1),Transactions!$C$4:$C$153,"<"&DATE(YEAR(Assumptions!$B$4),MONTH(Assumptions!$B$4)+1,1),Transactions!$A$4:$A$153,"<>",Transactions!$K$4:$K$153,">0")+COUNTIFS(Transactions!$C$4:$C$153,">="&DATE(YEAR(Assumptions!$B$4),MONTH(Assumptions!$B$4),1),Transactions!$C$4:$C$153,"<"&DATE(YEAR(Assumptions!$B$4),MONTH(Assumptions!$B$4)+1,1),Transactions!$A$4:$A$153,"<>",Transactions!$K$4:$K$153,"<0")),IF(COUNTIFS(Transactions!$C$4:$C$153,">="&DATE(YEAR(Assumptions!$B$4),MONTH(Assumptions!$B$4),1),Transactions!$C$4:$C$153,"<"&DATE(YEAR(Assumptions!$B$4),MONTH(Assumptions!$B$4)+1,1),Transactions!$A$4:$A$153,Assumptions!$B$3)=0,"",COUNTIFS(Transactions!$C$4:$C$153,">="&DATE(YEAR(Assumptions!$B$4),MONTH(Assumptions!$B$4),1),Transactions!$C$4:$C$153,"<"&DATE(YEAR(Assumptions!$B$4),MONTH(Assumptions!$B$4)+1,1),Transactions!$A$4:$A$153,Assumptions!$B$3,Transactions!$K$4:$K$153,">0")+COUNTIFS(Transactions!$C$4:$C$153,">="&DATE(YEAR(Assumptions!$B$4),MONTH(Assumptions!$B$4),1),Transactions!$C$4:$C$153,"<"&DATE(YEAR(Assumptions!$B$4),MONTH(Assumptions!$B$4)+1,1),Transactions!$A$4:$A$153,Assumptions!$B$3,Transactions!$K$4:$K$153,"<0")))) | C25: =IF(OR(Assumptions!$B$3="",Assumptions!$B$4=""),"",IF(Assumptions!$B$3="All Facilities",IF(COUNTIFS(Transactions!$C$4:$C$153,">="&DATE(YEAR(Assumptions!$B$4),MONTH(Assumptions!$B$4)-1,1),Transactions!$C$4:$C$153,"<"&DATE(YEAR(Assumptions!$B$4),MONTH(Assumptions!$B$4),1),Transactions!$A$4:$A$153,"<>")=0,"",COUNTIFS(Transactions!$C$4:$C$153,">="&DATE(YEAR(Assumptions!$B$4),MONTH(Assumptions!$B$4)-1,1),Transactions!$C$4:$C$153,"<"&DATE(YEAR(Assumptions!$B$4),MONTH(Assumptions!$B$4),1),Transactions!$A$4:$A$153,"<>",Transactions!$K$4:$K$153,">0")+COUNTIFS(Transactions!$C$4:$C$153,">="&DATE(YEAR(Assumptions!$B$4),MONTH(Assumptions!$B$4)-1,1),Transactions!$C$4:$C$153,"<"&DATE(YEAR(Assumptions!$B$4),MONTH(Assumptions!$B$4),1),Transactions!$A$4:$A$153,"<>",Transactions!$K$4:$K$153,"<0")),IF(COUNTIFS(Transactions!$C$4:$C$153,">="&DATE(YEAR(Assumptions!$B$4),MONTH(Assumptions!$B$4)-1,1),Transactions!$C$4:$C$153,"<"&DATE(YEAR(Assumptions!$B$4),MONTH(Assumptions!$B$4),1),Transactions!$A$4:$A$153,Assumptions!$B$3)=0,"",COUNTIFS(Transactions!$C$4:$C$153,">="&DATE(YEAR(Assumptions!$B$4),MONTH(Assumptions!$B$4)-1,1),Transactions!$C$4:$C$153,"<"&DATE(YEAR(Assumptions!$B$4),MONTH(Assumptions!$B$4),1),Transactions!$A$4:$A$153,Assumptions!$B$3,Transactions!$K$4:$K$153,">0")+COUNTIFS(Transactions!$C$4:$C$153,">="&DATE(YEAR(Assumptions!$B$4),MONTH(Assumptions!$B$4)-1,1),Transactions!$C$4:$C$153,"<"&DATE(YEAR(Assumptions!$B$4),MONTH(Assumptions!$B$4),1),Transactions!$A$4:$A$153,Assumptions!$B$3,Transactions!$K$4:$K$153,"<0")))) | D25: =IF(AND(B25="",C25=""),"",IFERROR(IF(B25="",0,B25)-IF(C25="",0,C25),""))
A26: Items for Review | B26: =IF(OR(Assumptions!$B$3="",Assumptions!$B$4=""),"",IF(Assumptions!$B$3="All Facilities",IF(COUNTIFS(Transactions!$C$4:$C$153,">="&DATE(YEAR(Assumptions!$B$4),MONTH(Assumptions!$B$4),1),Transactions!$C$4:$C$153,"<"&DATE(YEAR(Assumptions!$B$4),MONTH(Assumptions!$B$4)+1,1),Transactions!$A$4:$A$153,"<>")=0,"",COUNTIFS(Transactions!$C$4:$C$153,">="&DATE(YEAR(Assumptions!$B$4),MONTH(Assumptions!$B$4),1),Transactions!$C$4:$C$153,"<"&DATE(YEAR(Assumptions!$B$4),MONTH(Assumptions!$B$4)+1,1),Transactions!$A$4:$A$153,"<>",Transactions!$L$4:$L$153,"?*")),IF(COUNTIFS(Transactions!$C$4:$C$153,">="&DATE(YEAR(Assumptions!$B$4),MONTH(Assumptions!$B$4),1),Transactions!$C$4:$C$153,"<"&DATE(YEAR(Assumptions!$B$4),MONTH(Assumptions!$B$4)+1,1),Transactions!$A$4:$A$153,Assumptions!$B$3)=0,"",COUNTIFS(Transactions!$C$4:$C$153,">="&DATE(YEAR(Assumptions!$B$4),MONTH(Assumptions!$B$4),1),Transactions!$C$4:$C$153,"<"&DATE(YEAR(Assumptions!$B$4),MONTH(Assumptions!$B$4)+1,1),Transactions!$A$4:$A$153,Assumptions!$B$3,Transactions!$L$4:$L$153,"?*")))) | C26: =IF(OR(Assumptions!$B$3="",Assumptions!$B$4=""),"",IF(Assumptions!$B$3="All Facilities",IF(COUNTIFS(Transactions!$C$4:$C$153,">="&DATE(YEAR(Assumptions!$B$4),MONTH(Assumptions!$B$4)-1,1),Transactions!$C$4:$C$153,"<"&DATE(YEAR(Assumptions!$B$4),MONTH(Assumptions!$B$4),1),Transactions!$A$4:$A$153,"<>")=0,"",COUNTIFS(Transactions!$C$4:$C$153,">="&DATE(YEAR(Assumptions!$B$4),MONTH(Assumptions!$B$4)-1,1),Transactions!$C$4:$C$153,"<"&DATE(YEAR(Assumptions!$B$4),MONTH(Assumptions!$B$4),1),Transactions!$A$4:$A$153,"<>",Transactions!$L$4:$L$153,"?*")),IF(COUNTIFS(Transactions!$C$4:$C$153,">="&DATE(YEAR(Assumptions!$B$4),MONTH(Assumptions!$B$4)-1,1),Transactions!$C$4:$C$153,"<"&DATE(YEAR(Assumptions!$B$4),MONTH(Assumptions!$B$4),1),Transactions!$A$4:$A$153,Assumptions!$B$3)=0,"",COUNTIFS(Transactions!$C$4:$C$153,">="&DATE(YEAR(Assumptions!$B$4),MONTH(Assumptions!$B$4)-1,1),Transactions!$C$4:$C$153,"<"&DATE(YEAR(Assumptions!$B$4),MONTH(Assumptions!$B$4),1),Transactions!$A$4:$A$153,Assumptions!$B$3,Transactions!$L$4:$L$153,"?*")))) | D26: =IF(AND(B26="",C26=""),"",IFERROR(IF(B26="",0,B26)-IF(C26="",0,C26),""))
F29: Metric | G29: Current Period
F30: Total Income | G30: =IF(B11="","",B11)
F31: Operating Expenses | G31: =IF(B21="","",B21)
F32: Net Operating Income | G32: =IF(B23="","",B23)

Sheet Transactions
A1: Self Storage Profit and Loss Statement — Monthly Records
A2: Enter one line for each monthly income or operating expense item. Yellow cells are editable; review messages request human review.
A3: Facility | B3: Unit | C3: Period | D3: Entry Type | E3: Category | F3: Amount | G3: Owner | H3: Status | I3: Due Date | J3: Notes | K3: Included Amount | L3: Review
A4: Fictional Cedar Lantern Storage | C4: 46266 | D4: Income | E4: Rental Income | F4: 19800 | G4: Avery Quill (Fictional) | H4: Received | I4: 46266 | J4: Fictional monthly rent posting for occupied units. | K4: =IF(COUNTA($A4:$J4)=0,"",IF(OR($D4="",$E4="",$F4="",$H4=""),"",IF(AND($D4="Income",$H4="Received",COUNTIF(Assumptions!$F$3:$F$6,$E4)>0),$F4,IF(AND($D4="Expense",$H4="Paid",COUNTIF(Assumptions!$G$3:$G$9,$E4)>0),-$F4,"")))) | L4: =IF(COUNTA($A4:$J4)=0,"",IF(OR($A4="",$C4="",$D4="",$E4="",$F4="",$G4="",$H4=""),"Review missing required fields",IF(DAY($C4)<>1,"Review period: use first day",IF(OR(AND($D4="Income",COUNTIF(Assumptions!$F$3:$F$6,$E4)=0),AND($D4="Expense",COUNTIF(Assumptions!$G$3:$G$9,$E4)=0)),"Review type and category",IF(OR(AND($D4="Income",NOT(OR($H4="Received",$H4="Pending",$H4="Void"))),AND($D4="Expense",NOT(OR($H4="Paid",$H4="Pending",$H4="Void")))),"Review type and status",IF(AND($H4="Pending",$I4<>"",$I4<TODAY()-Assumptions!$B$6),"Review past due",IF($F4>Assumptions!$B$5,"Review large amount","")))))))
A5: Fictional Cedar Lantern Storage | B5: C-204 | C5: 46266 | D5: Income | E5: Late & Admin Fees | F5: 640 | G5: Avery Quill (Fictional) | H5: Received | I5: 46271 | J5: Fictional monthly fee total associated with unit C-204 and other units. | K5: =IF(COUNTA($A5:$J5)=0,"",IF(OR($D5="",$E5="",$F5="",$H5=""),"",IF(AND($D5="Income",$H5="Received",COUNTIF(Assumptions!$F$3:$F$6,$E5)>0),$F5,IF(AND($D5="Expense",$H5="Paid",COUNTIF(Assumptions!$G$3:$G$9,$E5)>0),-$F5,"")))) | L5: =IF(COUNTA($A5:$J5)=0,"",IF(OR($A5="",$C5="",$D5="",$E5="",$F5="",$G5="",$H5=""),"Review missing required fields",IF(DAY($C5)<>1,"Review period: use first day",IF(OR(AND($D5="Income",COUNTIF(Assumptions!$F$3:$F$6,$E5)=0),AND($D5="Expense",COUNTIF(Assumptions!$G$3:$G$9,$E5)=0)),"Review type and category",IF(OR(AND($D5="Income",NOT(OR($H5="Received",$H5="Pending",$H5="Void"))),AND($D5="Expense",NOT(OR($H5="Paid",$H5="Pending",$H5="Void")))),"Review type and status",IF(AND($H5="Pending",$I5<>"",$I5<TODAY()-Assumptions!$B$6),"Review past due",IF($F5>Assumptions!$B$5,"Review large amount","")))))))
A6: Fictional Cedar Lantern Storage | C6: 46266 | D6: Income | E6: Merchandise Sales | F6: 315 | G6: Jordan Pike (Fictional) | H6: Received | I6: 46271 | J6: Fictional boxes and packing supplies total. | K6: =IF(COUNTA($A6:$J6)=0,"",IF(OR($D6="",$E6="",$F6="",$H6=""),"",IF(AND($D6="Income",$H6="Received",COUNTIF(Assumptions!$F$3:$F$6,$E6)>0),$F6,IF(AND($D6="Expense",$H6="Paid",COUNTIF(Assumptions!$G$3:$G$9,$E6)>0),-$F6,"")))) | L6: =IF(COUNTA($A6:$J6)=0,"",IF(OR($A6="",$C6="",$D6="",$E6="",$F6="",$G6="",$H6=""),"Review missing required fields",IF(DAY($C6)<>1,"Review period: use first day",IF(OR(AND($D6="Income",COUNTIF(Assumptions!$F$3:$F$6,$E6)=0),AND($D6="Expense",COUNTIF(Assumptions!$G$3:$G$9,$E6)=0)),"Review type and category",IF(OR(AND($D6="Income",NOT(OR($H6="Received",$H6="Pending",$H6="Void"))),AND($D6="Expense",NOT(OR($H6="Paid",$H6="Pending",$H6="Void")))),"Review type and status",IF(AND($H6="Pending",$I6<>"",$I6<TODAY()-Assumptions!$B$6),"Review past due",IF($F6>Assumptions!$B$5,"Review large amount","")))))))
A7: Fictional Cedar Lantern Storage | C7: 46266 | D7: Expense | E7: Payroll | F7: 5900 | G7: Morgan Vale (Fictional) | H7: Paid | I7: 46281 | J7: Fictional facility payroll expense. | K7: =IF(COUNTA($A7:$J7)=0,"",IF(OR($D7="",$E7="",$F7="",$H7=""),"",IF(AND($D7="Income",$H7="Received",COUNTIF(Assumptions!$F$3:$F$6,$E7)>0),$F7,IF(AND($D7="Expense",$H7="Paid",COUNTIF(Assumptions!$G$3:$G$9,$E7)>0),-$F7,"")))) | L7: =IF(COUNTA($A7:$J7)=0,"",IF(OR($A7="",$C7="",$D7="",$E7="",$F7="",$G7="",$H7=""),"Review missing required fields",IF(DAY($C7)<>1,"Review period: use first day",IF(OR(AND($D7="Income",COUNTIF(Assumptions!$F$3:$F$6,$E7)=0),AND($D7="Expense",COUNTIF(Assumptions!$G$3:$G$9,$E7)=0)),"Review type and category",IF(OR(AND($D7="Income",NOT(OR($H7="Received",$H7="Pending",$H7="Void"))),AND($D7="Expense",NOT(OR($H7="Paid",$H7="Pending",$H7="Void")))),"Review type and status",IF(AND($H7="Pending",$I7<>"",$I7<TODAY()-Assumptions!$B$6),"Review past due",IF($F7>Assumptions!$B$5,"Review large amount","")))))))
A8: Fictional Cedar Lantern Storage | C8: 46266 | D8: Expense | E8: Utilities | F8: 1740 | G8: Morgan Vale (Fictional) | H8: Paid | I8: 46284 | J8: Fictional electricity, water, and communications expense. | K8: =IF(COUNTA($A8:$J8)=0,"",IF(OR($D8="",$E8="",$F8="",$H8=""),"",IF(AND($D8="Income",$H8="Received",COUNTIF(Assumptions!$F$3:$F$6,$E8)>0),$F8,IF(AND($D8="Expense",$H8="Paid",COUNTIF(Assumptions!$G$3:$G$9,$E8)>0),-$F8,"")))) | L8: =IF(COUNTA($A8:$J8)=0,"",IF(OR($A8="",$C8="",$D8="",$E8="",$F8="",$G8="",$H8=""),"Review missing required fields",IF(DAY($C8)<>1,"Review period: use first day",IF(OR(AND($D8="Income",COUNTIF(Assumptions!$F$3:$F$6,$E8)=0),AND($D8="Expense",COUNTIF(Assumptions!$G$3:$G$9,$E8)=0)),"Review type and category",IF(OR(AND($D8="Income",NOT(OR($H8="Received",$H8="Pending",$H8="Void"))),AND($D8="Expense",NOT(OR($H8="Paid",$H8="Pending",$H8="Void")))),"Review type and status",IF(AND($H8="Pending",$I8<>"",$I8<TODAY()-Assumptions!$B$6),"Review past due",IF($F8>Assumptions!$B$5,"Review large amount","")))))))
A9: Fictional Cedar Lantern Storage | B9: B-118 | C9: 46266 | D9: Expense | E9: Repairs & Maintenance | F9: 890 | G9: Riley North (Fictional) | H9: Pending | I9: 46269 | J9: Fictional roll-up door adjustment awaiting review. | K9: =IF(COUNTA($A9:$J9)=0,"",IF(OR($D9="",$E9="",$F9="",$H9=""),"",IF(AND($D9="Income",$H9="Received",COUNTIF(Assumptions!$F$3:$F$6,$E9)>0),$F9,IF(AND($D9="Expense",$H9="Paid",COUNTIF(Assumptions!$G$3:$G$9,$E9)>0),-$F9,"")))) | L9: =IF(COUNTA($A9:$J9)=0,"",IF(OR($A9="",$C9="",$D9="",$E9="",$F9="",$G9="",$H9=""),"Review missing required fields",IF(DAY($C9)<>1,"Review period: use first day",IF(OR(AND($D9="Income",COUNTIF(Assumptions!$F$3:$F$6,$E9)=0),AND($D9="Expense",COUNTIF(Assumptions!$G$3:$G$9,$E9)=0)),"Review type and category",IF(OR(AND($D9="Income",NOT(OR($H9="Received",$H9="Pending",$H9="Void"))),AND($D9="Expense",NOT(OR($H9="Paid",$H9="Pending",$H9="Void")))),"Review type and status",IF(AND($H9="Pending",$I9<>"",$I9<TODAY()-Assumptions!$B$6),"Review past due",IF($F9>Assumptions!$B$5,"Review large amount","")))))))
A10: Fictional Blue Heron Mini Storage | C10: 46266 | D10: Income | E10: Rental Income | F10: 20000 | G10: Jordan Pike (Fictional) | H10: Received | I10: 46266 | J10: Fictional monthly rent posting at the review-threshold boundary. | K10: =IF(COUNTA($A10:$J10)=0,"",IF(OR($D10="",$E10="",$F10="",$H10=""),"",IF(AND($D10="Income",$H10="Received",COUNTIF(Assumptions!$F$3:$F$6,$E10)>0),$F10,IF(AND($D10="Expense",$H10="Paid",COUNTIF(Assumptions!$G$3:$G$9,$E10)>0),-$F10,"")))) | L10: =IF(COUNTA($A10:$J10)=0,"",IF(OR($A10="",$C10="",$D10="",$E10="",$F10="",$G10="",$H10=""),"Review missing required fields",IF(DAY($C10)<>1,"Review period: use first day",IF(OR(AND($D10="Income",COUNTIF(Assumptions!$F$3:$F$6,$E10)=0),AND($D10="Expense",COUNTIF(Assumptions!$G$3:$G$9,$E10)=0)),"Review type and category",IF(OR(AND($D10="Income",NOT(OR($H10="Received",$H10="Pending",$H10="Void"))),AND($D10="Expense",NOT(OR($H10="Paid",$H10="Pending",$H10="Void")))),"Review type and status",IF(AND($H10="Pending",$I10<>"",$I10<TODAY()-Assumptions!$B$6),"Review past due",IF($F10>Assumptions!$B$5,"Review large amount","")))))))
A11: Fictional Blue Heron Mini Storage | C11: 46266 | D11: Expense | E11: Payroll | F11: 5000 | G11: Morgan Vale (Fictional) | H11: Paid | I11: 46281 | J11: Fictional facility payroll expense. | K11: =IF(COUNTA($A11:$J11)=0,"",IF(OR($D11="",$E11="",$F11="",$H11=""),"",IF(AND($D11="Income",$H11="Received",COUNTIF(Assumptions!$F$3:$F$6,$E11)>0),$F11,IF(AND($D11="Expense",$H11="Paid",COUNTIF(Assumptions!$G$3:$G$9,$E11)>0),-$F11,"")))) | L11: =IF(COUNTA($A11:$J11)=0,"",IF(OR($A11="",$C11="",$D11="",$E11="",$F11="",$G11="",$H11=""),"Review missing required fields",IF(DAY($C11)<>1,"Review period: use first day",IF(OR(AND($D11="Income",COUNTIF(Assumptions!$F$3:$F$6,$E11)=0),AND($D11="Expense",COUNTIF(Assumptions!$G$3:$G$9,$E11)=0)),"Review type and category",IF(OR(AND($D11="Income",NOT(OR($H11="Received",$H11="Pending",$H11="Void"))),AND($D11="Expense",NOT(OR($H11="Paid",$H11="Pending",$H11="Void")))),"Review type and status",IF(AND($H11="Pending",$I11<>"",$I11<TODAY()-Assumptions!$B$6),"Review past due",IF($F11>Assumptions!$B$5,"Review large amount","")))))))
A12: Fictional Cedar Lantern Storage | C12: 46235 | D12: Income | E12: Rental Income | F12: 18950 | G12: Avery Quill (Fictional) | H12: Received | I12: 46235 | J12: Fictional prior-month rent posting. | K12: =IF(COUNTA($A12:$J12)=0,"",IF(OR($D12="",$E12="",$F12="",$H12=""),"",IF(AND($D12="Income",$H12="Received",COUNTIF(Assumptions!$F$3:$F$6,$E12)>0),$F12,IF(AND($D12="Expense",$H12="Paid",COUNTIF(Assumptions!$G$3:$G$9,$E12)>0),-$F12,"")))) | L12: =IF(COUNTA($A12:$J12)=0,"",IF(OR($A12="",$C12="",$D12="",$E12="",$F12="",$G12="",$H12=""),"Review missing required fields",IF(DAY($C12)<>1,"Review period: use first day",IF(OR(AND($D12="Income",COUNTIF(Assumptions!$F$3:$F$6,$E12)=0),AND($D12="Expense",COUNTIF(Assumptions!$G$3:$G$9,$E12)=0)),"Review type and category",IF(OR(AND($D12="Income",NOT(OR($H12="Received",$H12="Pending",$H12="Void"))),AND($D12="Expense",NOT(OR($H12="Paid",$H12="Pending",$H12="Void")))),"Review type and status",IF(AND($H12="Pending",$I12<>"",$I12<TODAY()-Assumptions!$B$6),"Review past due",IF($F12>Assumptions!$B$5,"Review large amount","")))))))
A13: Fictional Cedar Lantern Storage | C13: 46235 | D13: Expense | E13: Utilities | F13: 1610 | G13: Morgan Vale (Fictional) | H13: Paid | I13: 46253 | J13: Fictional prior-month utility expense. | K13: =IF(COUNTA($A13:$J13)=0,"",IF(OR($D13="",$E13="",$F13="",$H13=""),"",IF(AND($D13="Income",$H13="Received",COUNTIF(Assumptions!$F$3:$F$6,$E13)>0),$F13,IF(AND($D13="Expense",$H13="Paid",COUNTIF(Assumptions!$G$3:$G$9,$E13)>0),-$F13,"")))) | L13: =IF(COUNTA($A13:$J13)=0,"",IF(OR($A13="",$C13="",$D13="",$E13="",$F13="",$G13="",$H13=""),"Review missing required fields",IF(DAY($C13)<>1,"Review period: use first day",IF(OR(AND($D13="Income",COUNTIF(Assumptions!$F$3:$F$6,$E13)=0),AND($D13="Expense",COUNTIF(Assumptions!$G$3:$G$9,$E13)=0)),"Review type and category",IF(OR(AND($D13="Income",NOT(OR($H13="Received",$H13="Pending",$H13="Void"))),AND($D13="Expense",NOT(OR($H13="Paid",$H13="Pending",$H13="Void")))),"Review type and status",IF(AND($H13="Pending",$I13<>"",$I13<TODAY()-Assumptions!$B$6),"Review past due",IF($F13>Assumptions!$B$5,"Review large amount","")))))))
K14: =IF(COUNTA($A14:$J14)=0,"",IF(OR($D14="",$E14="",$F14="",$H14=""),"",IF(AND($D14="Income",$H14="Received",COUNTIF(Assumptions!$F$3:$F$6,$E14)>0),$F14,IF(AND($D14="Expense",$H14="Paid",COUNTIF(Assumptions!$G$3:$G$9,$E14)>0),-$F14,"")))) | L14: =IF(COUNTA($A14:$J14)=0,"",IF(OR($A14="",$C14="",$D14="",$E14="",$F14="",$G14="",$H14=""),"Review missing required fields",IF(DAY($C14)<>1,"Review period: use first day",IF(OR(AND($D14="Income",COUNTIF(Assumptions!$F$3:$F$6,$E14)=0),AND($D14="Expense",COUNTIF(Assumptions!$G$3:$G$9,$E14)=0)),"Review type and category",IF(OR(AND($D14="Income",NOT(OR($H14="Received",$H14="Pending",$H14="Void"))),AND($D14="Expense",NOT(OR($H14="Paid",$H14="Pending",$H14="Void")))),"Review type and status",IF(AND($H14="Pending",$I14<>"",$I14<TODAY()-Assumptions!$B$6),"Review past due",IF($F14>Assumptions!$B$5,"Review large amount","")))))))
K15: =IF(COUNTA($A15:$J15)=0,"",IF(OR($D15="",$E15="",$F15="",$H15=""),"",IF(AND($D15="Income",$H15="Received",COUNTIF(Assumptions!$F$3:$F$6,$E15)>0),$F15,IF(AND($D15="Expense",$H15="Paid",COUNTIF(Assumptions!$G$3:$G$9,$E15)>0),-$F15,"")))) | L15: =IF(COUNTA($A15:$J15)=0,"",IF(OR($A15="",$C15="",$D15="",$E15="",$F15="",$G15="",$H15=""),"Review missing required fields",IF(DAY($C15)<>1,"Review period: use first day",IF(OR(AND($D15="Income",COUNTIF(Assumptions!$F$3:$F$6,$E15)=0),AND($D15="Expense",COUNTIF(Assumptions!$G$3:$G$9,$E15)=0)),"Review type and category",IF(OR(AND($D15="Income",NOT(OR($H15="Received",$H15="Pending",$H15="Void"))),AND($D15="Expense",NOT(OR($H15="Paid",$H15="Pending",$H15="Void")))),"Review type and status",IF(AND($H15="Pending",$I15<>"",$I15<TODAY()-Assumptions!$B$6),"Review past due",IF($F15>Assumptions!$B$5,"Review large amount","")))))))
K16: =IF(COUNTA($A16:$J16)=0,"",IF(OR($D16="",$E16="",$F16="",$H16=""),"",IF(AND($D16="Income",$H16="Received",COUNTIF(Assumptions!$F$3:$F$6,$E16)>0),$F16,IF(AND($D16="Expense",$H16="Paid",COUNTIF(Assumptions!$G$3:$G$9,$E16)>0),-$F16,"")))) | L16: =IF(COUNTA($A16:$J16)=0,"",IF(OR($A16="",$C16="",$D16="",$E16="",$F16="",$G16="",$H16=""),"Review missing required fields",IF(DAY($C16)<>1,"Review period: use first day",IF(OR(AND($D16="Income",COUNTIF(Assumptions!$F$3:$F$6,$E16)=0),AND($D16="Expense",COUNTIF(Assumptions!$G$3:$G$9,$E16)=0)),"Review type and category",IF(OR(AND($D16="Income",NOT(OR($H16="Received",$H16="Pending",$H16="Void"))),AND($D16="Expense",NOT(OR($H16="Paid",$H16="Pending",$H16="Void")))),"Review type and status",IF(AND($H16="Pending",$I16<>"",$I16<TODAY()-Assumptions!$B$6),"Review past due",IF($F16>Assumptions!$B$5,"Review large amount","")))))))
K17: =IF(COUNTA($A17:$J17)=0,"",IF(OR($D17="",$E17="",$F17="",$H17=""),"",IF(AND($D17="Income",$H17="Received",COUNTIF(Assumptions!$F$3:$F$6,$E17)>0),$F17,IF(AND($D17="Expense",$H17="Paid",COUNTIF(Assumptions!$G$3:$G$9,$E17)>0),-$F17,"")))) | L17: =IF(COUNTA($A17:$J17)=0,"",IF(OR($A17="",$C17="",$D17="",$E17="",$F17="",$G17="",$H17=""),"Review missing required fields",IF(DAY($C17)<>1,"Review period: use first day",IF(OR(AND($D17="Income",COUNTIF(Assumptions!$F$3:$F$6,$E17)=0),AND($D17="Expense",COUNTIF(Assumptions!$G$3:$G$9,$E17)=0)),"Review type and category",IF(OR(AND($D17="Income",NOT(OR($H17="Received",$H17="Pending",$H17="Void"))),AND($D17="Expense",NOT(OR($H17="Paid",$H17="Pending",$H17="Void")))),"Review type and status",IF(AND($H17="Pending",$I17<>"",$I17<TODAY()-Assumptions!$B$6),"Review past due",IF($F17>Assumptions!$B$5,"Review large amount","")))))))
K18: =IF(COUNTA($A18:$J18)=0,"",IF(OR($D18="",$E18="",$F18="",$H18=""),"",IF(AND($D18="Income",$H18="Received",COUNTIF(Assumptions!$F$3:$F$6,$E18)>0),$F18,IF(AND($D18="Expense",$H18="Paid",COUNTIF(Assumptions!$G$3:$G$9,$E18)>0),-$F18,"")))) | L18: =IF(COUNTA($A18:$J18)=0,"",IF(OR($A18="",$C18="",$D18="",$E18="",$F18="",$G18="",$H18=""),"Review missing required fields",IF(DAY($C18)<>1,"Review period: use first day",IF(OR(AND($D18="Income",COUNTIF(Assumptions!$F$3:$F$6,$E18)=0),AND($D18="Expense",COUNTIF(Assumptions!$G$3:$G$9,$E18)=0)),"Review type and category",IF(OR(AND($D18="Income",NOT(OR($H18="Received",$H18="Pending",$H18="Void"))),AND($D18="Expense",NOT(OR($H18="Paid",$H18="Pending",$H18="Void")))),"Review type and status",IF(AND($H18="Pending",$I18<>"",$I18<TODAY()-Assumptions!$B$6),"Review past due",IF($F18>Assumptions!$B$5,"Review large amount","")))))))
K19: =IF(COUNTA($A19:$J19)=0,"",IF(OR($D19="",$E19="",$F19="",$H19=""),"",IF(AND($D19="Income",$H19="Received",COUNTIF(Assumptions!$F$3:$F$6,$E19)>0),$F19,IF(AND($D19="Expense",$H19="Paid",COUNTIF(Assumptions!$G$3:$G$9,$E19)>0),-$F19,"")))) | L19: =IF(COUNTA($A19:$J19)=0,"",IF(OR($A19="",$C19="",$D19="",$E19="",$F19="",$G19="",$H19=""),"Review missing required fields",IF(DAY($C19)<>1,"Review period: use first day",IF(OR(AND($D19="Income",COUNTIF(Assumptions!$F$3:$F$6,$E19)=0),AND($D19="Expense",COUNTIF(Assumptions!$G$3:$G$9,$E19)=0)),"Review type and category",IF(OR(AND($D19="Income",NOT(OR($H19="Received",$H19="Pending",$H19="Void"))),AND($D19="Expense",NOT(OR($H19="Paid",$H19="Pending",$H19="Void")))),"Review type and status",IF(AND($H19="Pending",$I19<>"",$I19<TODAY()-Assumptions!$B$6),"Review past due",IF($F19>Assumptions!$B$5,"Review large amount","")))))))
K20: =IF(COUNTA($A20:$J20)=0,"",IF(OR($D20="",$E20="",$F20="",$H20=""),"",IF(AND($D20="Income",$H20="Received",COUNTIF(Assumptions!$F$3:$F$6,$E20)>0),$F20,IF(AND($D20="Expense",$H20="Paid",COUNTIF(Assumptions!$G$3:$G$9,$E20)>0),-$F20,"")))) | L20: =IF(COUNTA($A20:$J20)=0,"",IF(OR($A20="",$C20="",$D20="",$E20="",$F20="",$G20="",$H20=""),"Review missing required fields",IF(DAY($C20)<>1,"Review period: use first day",IF(OR(AND($D20="Income",COUNTIF(Assumptions!$F$3:$F$6,$E20)=0),AND($D20="Expense",COUNTIF(Assumptions!$G$3:$G$9,$E20)=0)),"Review type and category",IF(OR(AND($D20="Income",NOT(OR($H20="Received",$H20="Pending",$H20="Void"))),AND($D20="Expense",NOT(OR($H20="Paid",$H20="Pending",$H20="Void")))),"Review type and status",IF(AND($H20="Pending",$I20<>"",$I20<TODAY()-Assumptions!$B$6),"Review past due",IF($F20>Assumptions!$B$5,"Review large amount","")))))))
K21: =IF(COUNTA($A21:$J21)=0,"",IF(OR($D21="",$E21="",$F21="",$H21=""),"",IF(AND($D21="Income",$H21="Received",COUNTIF(Assumptions!$F$3:$F$6,$E21)>0),$F21,IF(AND($D21="Expense",$H21="Paid",COUNTIF(Assumptions!$G$3:$G$9,$E21)>0),-$F21,"")))) | L21: =IF(COUNTA($A21:$J21)=0,"",IF(OR($A21="",$C21="",$D21="",$E21="",$F21="",$G21="",$H21=""),"Review missing required fields",IF(DAY($C21)<>1,"Review period: use first day",IF(OR(AND($D21="Income",COUNTIF(Assumptions!$F$3:$F$6,$E21)=0),AND($D21="Expense",COUNTIF(Assumptions!$G$3:$G$9,$E21)=0)),"Review type and category",IF(OR(AND($D21="Income",NOT(OR($H21="Received",$H21="Pending",$H21="Void"))),AND($D21="Expense",NOT(OR($H21="Paid",$H21="Pending",$H21="Void")))),"Review type and status",IF(AND($H21="Pending",$I21<>"",$I21<TODAY()-Assumptions!$B$6),"Review past due",IF($F21>Assumptions!$B$5,"Review large amount","")))))))
K22: =IF(COUNTA($A22:$J22)=0,"",IF(OR($D22="",$E22="",$F22="",$H22=""),"",IF(AND($D22="Income",$H22="Received",COUNTIF(Assumptions!$F$3:$F$6,$E22)>0),$F22,IF(AND($D22="Expense",$H22="Paid",COUNTIF(Assumptions!$G$3:$G$9,$E22)>0),-$F22,"")))) | L22: =IF(COUNTA($A22:$J22)=0,"",IF(OR($A22="",$C22="",$D22="",$E22="",$F22="",$G22="",$H22=""),"Review missing required fields",IF(DAY($C22)<>1,"Review period: use first day",IF(OR(AND($D22="Income",COUNTIF(Assumptions!$F$3:$F$6,$E22)=0),AND($D22="Expense",COUNTIF(Assumptions!$G$3:$G$9,$E22)=0)),"Review type and category",IF(OR(AND($D22="Income",NOT(OR($H22="Received",$H22="Pending",$H22="Void"))),AND($D22="Expense",NOT(OR($H22="Paid",$H22="Pending",$H22="Void")))),"Review type and status",IF(AND($H22="Pending",$I22<>"",$I22<TODAY()-Assumptions!$B$6),"Review past due",IF($F22>Assumptions!$B$5,"Review large amount","")))))))
K23: =IF(COUNTA($A23:$J23)=0,"",IF(OR($D23="",$E23="",$F23="",$H23=""),"",IF(AND($D23="Income",$H23="Received",COUNTIF(Assumptions!$F$3:$F$6,$E23)>0),$F23,IF(AND($D23="Expense",$H23="Paid",COUNTIF(Assumptions!$G$3:$G$9,$E23)>0),-$F23,"")))) | L23: =IF(COUNTA($A23:$J23)=0,"",IF(OR($A23="",$C23="",$D23="",$E23="",$F23="",$G23="",$H23=""),"Review missing required fields",IF(DAY($C23)<>1,"Review period: use first day",IF(OR(AND($D23="Income",COUNTIF(Assumptions!$F$3:$F$6,$E23)=0),AND($D23="Expense",COUNTIF(Assumptions!$G$3:$G$9,$E23)=0)),"Review type and category",IF(OR(AND($D23="Income",NOT(OR($H23="Received",$H23="Pending",$H23="Void"))),AND($D23="Expense",NOT(OR($H23="Paid",$H23="Pending",$H23="Void")))),"Review type and status",IF(AND($H23="Pending",$I23<>"",$I23<TODAY()-Assumptions!$B$6),"Review past due",IF($F23>Assumptions!$B$5,"Review large amount","")))))))
K24: =IF(COUNTA($A24:$J24)=0,"",IF(OR($D24="",$E24="",$F24="",$H24=""),"",IF(AND($D24="Income",$H24="Received",COUNTIF(Assumptions!$F$3:$F$6,$E24)>0),$F24,IF(AND($D24="Expense",$H24="Paid",COUNTIF(Assumptions!$G$3:$G$9,$E24)>0),-$F24,"")))) | L24: =IF(COUNTA($A24:$J24)=0,"",IF(OR($A24="",$C24="",$D24="",$E24="",$F24="",$G24="",$H24=""),"Review missing required fields",IF(DAY($C24)<>1,"Review period: use first day",IF(OR(AND($D24="Income",COUNTIF(Assumptions!$F$3:$F$6,$E24)=0),AND($D24="Expense",COUNTIF(Assumptions!$G$3:$G$9,$E24)=0)),"Review type and category",IF(OR(AND($D24="Income",NOT(OR($H24="Received",$H24="Pending",$H24="Void"))),AND($D24="Expense",NOT(OR($H24="Paid",$H24="Pending",$H24="Void")))),"Review type and status",IF(AND($H24="Pending",$I24<>"",$I24<TODAY()-Assumptions!$B$6),"Review past due",IF($F24>Assumptions!$B$5,"Review large amount","")))))))
K25: =IF(COUNTA($A25:$J25)=0,"",IF(OR($D25="",$E25="",$F25="",$H25=""),"",IF(AND($D25="Income",$H25="Received",COUNTIF(Assumptions!$F$3:$F$6,$E25)>0),$F25,IF(AND($D25="Expense",$H25="Paid",COUNTIF(Assumptions!$G$3:$G$9,$E25)>0),-$F25,"")))) | L25: =IF(COUNTA($A25:$J25)=0,"",IF(OR($A25="",$C25="",$D25="",$E25="",$F25="",$G25="",$H25=""),"Review missing required fields",IF(DAY($C25)<>1,"Review period: use first day",IF(OR(AND($D25="Income",COUNTIF(Assumptions!$F$3:$F$6,$E25)=0),AND($D25="Expense",COUNTIF(Assumptions!$G$3:$G$9,$E25)=0)),"Review type and category",IF(OR(AND($D25="Income",NOT(OR($H25="Received",$H25="Pending",$H25="Void"))),AND($D25="Expense",NOT(OR($H25="Paid",$H25="Pending",$H25="Void")))),"Review type and status",IF(AND($H25="Pending",$I25<>"",$I25<TODAY()-Assumptions!$B$6),"Review past due",IF($F25>Assumptions!$B$5,"Review large amount","")))))))
... K153: =IF(COUNTA($A153:$J153)=0,"",IF(OR($D153="",$E153="",$F153="",$H153=""),"",IF(AND($D153="Income",$H153="Received",COUNTIF(Assumptions!$F$3:$F$6,$E153)>0),$F153,IF(AND($D153="Expense",$H153="Paid",COUNTIF(Assumptions!$G$3:$G$9,$E153)>0),-$F153,"")))) | L153: =IF(COUNTA($A153:$J153)=0,"",IF(OR($A153="",$C153="",$D153="",$E153="",$F153="",$G153="",$H153=""),"Review missing required fields",IF(DAY($C153)<>1,"Review period: use first day",IF(OR(AND($D153="Income",COUNTIF(Assumptions!$F$3:$F$6,$E153)=0),AND($D153="Expense",COUNTIF(Assumptions!$G$3:$G$9,$E153)=0)),"Review type and category",IF(OR(AND($D153="Income",NOT(OR($H153="Received",$H153="Pending",$H153="Void"))),AND($D153="Expense",NOT(OR($H153="Paid",$H153="Pending",$H153="Void")))),"Review type and status",IF(AND($H153="Pending",$I153<>"",$I153<TODAY()-Assumptions!$B$6),"Review past due",IF($F153>Assumptions!$B$5,"Review large amount","")))))))

Sheet Assumptions
A1: Self Storage Profit and Loss Statement — Assumptions
A2: Setting | B2: Value | D2: Entry Types | E2: Statuses | F2: Income Categories | G2: Expense Categories | H2: All Categories | I2: Facilities | J2: Owners | K2: Facility Selections
A3: Selected Facility | B3: All Facilities | D3: Income | E3: Received | F3: Rental Income | G3: Payroll | H3: Rental Income | I3: Fictional Cedar Lantern Storage | J3: Avery Quill (Fictional) | K3: All Facilities
A4: Statement Period | B4: 46266 | D4: Expense | E4: Paid | F4: Late & Admin Fees | G4: Utilities | H4: Late & Admin Fees | I4: Fictional Blue Heron Mini Storage | J4: Jordan Pike (Fictional) | K4: =I3
