Workbook

Sheet Summary
A1: Self Storage Pro Forma Summary
A2: Calculated indicators for Cedar Lantern Storage - Lake Briar (Fictional).
A3: Facility | B3: =IFERROR('Assumptions'!$B$4,"") | D3: Projection Year | E3: Average Occupancy | F3: Scheduled Rental Income | G3: Effective Gross Income | H3: Net Operating Income | I3: Cash Flow After Debt Service
A4: Projection Start | B4: =IFERROR('Assumptions'!$B$5,"") | D4: =IF(COUNT('Monthly Pro Forma'!$A$5:$A$16)=0,"","Year 1") | E4: =IFERROR(AVERAGE('Monthly Pro Forma'!$E$5:$E$16),"") | F4: =IF(COUNT('Monthly Pro Forma'!$A$5:$A$16)=0,"",IFERROR(SUM('Monthly Pro Forma'!$G$5:$G$16),"")) | G4: =IF(COUNT('Monthly Pro Forma'!$A$5:$A$16)=0,"",IFERROR(SUM('Monthly Pro Forma'!$J$5:$J$16),"")) | H4: =IF(COUNT('Monthly Pro Forma'!$A$5:$A$16)=0,"",IFERROR(SUM('Monthly Pro Forma'!$N$5:$N$16),"")) | I4: =IF(COUNT('Monthly Pro Forma'!$A$5:$A$16)=0,"",IFERROR(SUM('Monthly Pro Forma'!$P$5:$P$16),""))
A5: Projection Months | B5: =IFERROR('Assumptions'!$B$6,"") | D5: =IF(COUNT('Monthly Pro Forma'!$A$17:$A$28)=0,"","Year 2") | E5: =IFERROR(AVERAGE('Monthly Pro Forma'!$E$17:$E$28),"") | F5: =IF(COUNT('Monthly Pro Forma'!$A$17:$A$28)=0,"",IFERROR(SUM('Monthly Pro Forma'!$G$17:$G$28),"")) | G5: =IF(COUNT('Monthly Pro Forma'!$A$17:$A$28)=0,"",IFERROR(SUM('Monthly Pro Forma'!$J$17:$J$28),"")) | H5: =IF(COUNT('Monthly Pro Forma'!$A$17:$A$28)=0,"",IFERROR(SUM('Monthly Pro Forma'!$N$17:$N$28),"")) | I5: =IF(COUNT('Monthly Pro Forma'!$A$17:$A$28)=0,"",IFERROR(SUM('Monthly Pro Forma'!$P$17:$P$28),""))
A6: Included Unit Types | B6: =IFERROR(COUNTIFS('Unit Mix'!$A$5:$A$104,'Assumptions'!$B$4,'Unit Mix'!$I$5:$I$104,"Included"),"") | D6: =IF(COUNT('Monthly Pro Forma'!$A$29:$A$40)=0,"","Year 3") | E6: =IFERROR(AVERAGE('Monthly Pro Forma'!$E$29:$E$40),"") | F6: =IF(COUNT('Monthly Pro Forma'!$A$29:$A$40)=0,"",IFERROR(SUM('Monthly Pro Forma'!$G$29:$G$40),"")) | G6: =IF(COUNT('Monthly Pro Forma'!$A$29:$A$40)=0,"",IFERROR(SUM('Monthly Pro Forma'!$J$29:$J$40),"")) | H6: =IF(COUNT('Monthly Pro Forma'!$A$29:$A$40)=0,"",IFERROR(SUM('Monthly Pro Forma'!$N$29:$N$40),"")) | I6: =IF(COUNT('Monthly Pro Forma'!$A$29:$A$40)=0,"",IFERROR(SUM('Monthly Pro Forma'!$P$29:$P$40),""))
A7: Available Units | B7: =IF(COUNT('Monthly Pro Forma'!$A$5:$A$104)=0,"",IFERROR(INDEX('Monthly Pro Forma'!$C$5:$C$104,1),"")) | D7: =IF(COUNT('Monthly Pro Forma'!$A$41:$A$52)=0,"","Year 4") | E7: =IFERROR(AVERAGE('Monthly Pro Forma'!$E$41:$E$52),"") | F7: =IF(COUNT('Monthly Pro Forma'!$A$41:$A$52)=0,"",IFERROR(SUM('Monthly Pro Forma'!$G$41:$G$52),"")) | G7: =IF(COUNT('Monthly Pro Forma'!$A$41:$A$52)=0,"",IFERROR(SUM('Monthly Pro Forma'!$J$41:$J$52),"")) | H7: =IF(COUNT('Monthly Pro Forma'!$A$41:$A$52)=0,"",IFERROR(SUM('Monthly Pro Forma'!$N$41:$N$52),"")) | I7: =IF(COUNT('Monthly Pro Forma'!$A$41:$A$52)=0,"",IFERROR(SUM('Monthly Pro Forma'!$P$41:$P$52),""))
A8: Rentable Square Feet | B8: =IFERROR(SUMIFS('Unit Mix'!$K$5:$K$104,'Unit Mix'!$A$5:$A$104,'Assumptions'!$B$4,'Unit Mix'!$I$5:$I$104,"Included"),"") | D8: =IF(COUNT('Monthly Pro Forma'!$A$53:$A$64)=0,"","Year 5") | E8: =IFERROR(AVERAGE('Monthly Pro Forma'!$E$53:$E$64),"") | F8: =IF(COUNT('Monthly Pro Forma'!$A$53:$A$64)=0,"",IFERROR(SUM('Monthly Pro Forma'!$G$53:$G$64),"")) | G8: =IF(COUNT('Monthly Pro Forma'!$A$53:$A$64)=0,"",IFERROR(SUM('Monthly Pro Forma'!$J$53:$J$64),"")) | H8: =IF(COUNT('Monthly Pro Forma'!$A$53:$A$64)=0,"",IFERROR(SUM('Monthly Pro Forma'!$N$53:$N$64),"")) | I8: =IF(COUNT('Monthly Pro Forma'!$A$53:$A$64)=0,"",IFERROR(SUM('Monthly Pro Forma'!$P$53:$P$64),""))
A9: Month 1 Occupancy | B9: =IFERROR(INDEX('Monthly Pro Forma'!$E$5:$E$104,1),"")
A10: Final Projected Month Occupancy | B10: =IFERROR(INDEX('Monthly Pro Forma'!$E$5:$E$104,'Assumptions'!$B$6),"")
A11: Five-Year Effective Gross Income | B11: =IF(COUNT('Monthly Pro Forma'!$J$5:$J$104)=0,"",SUM('Monthly Pro Forma'!$J$5:$J$104))
A12: Five-Year Net Operating Income | B12: =IF(COUNT('Monthly Pro Forma'!$N$5:$N$104)=0,"",SUM('Monthly Pro Forma'!$N$5:$N$104))
A13: Five-Year Cash Flow After Debt Service | B13: =IF(COUNT('Monthly Pro Forma'!$P$5:$P$104)=0,"",SUM('Monthly Pro Forma'!$P$5:$P$104))
A14: Unit Mix Rows Marked Review | B14: =IFERROR(COUNTIFS('Unit Mix'!$A$5:$A$104,'Assumptions'!$B$4,'Unit Mix'!$I$5:$I$104,"Review"),"")
A15: Monthly Periods Marked Review | B15: =IFERROR(COUNTIF('Monthly Pro Forma'!$Q$5:$Q$104,"Review"),"")

Sheet Unit Mix
A1: Self Storage Pro Forma Unit Mix
A2: Yellow cells are editable inputs. Rows marked Review are excluded from the monthly scenario until reviewed.
A4: Facility | B4: Unit Type | C4: Size (Square Feet) | D4: Units | E4: Monthly Rent per Unit | F4: Starting Occupancy | G4: Stabilized Occupancy | H4: Owner | I4: Status | J4: Notes | K4: Rentable Square Feet | L4: Stabilized Monthly Rent
A5: Cedar Lantern Storage - Lake Briar (Fictional) | B5: 5 x 5 Climate-Controlled | C5: 25 | D5: 24 | E5: 59 | F5: 0.62 | G5: 0.9 | H5: Facility Manager | I5: Included | J5: Interior climate-controlled wing. | K5: =IF(OR($A5="",$C5="",$D5=""),"",IFERROR($C5*$D5,"")) | L5: =IF(OR($A5="",$D5="",$E5="",$G5="",$I5<>"Included"),"",IFERROR($D5*$E5*$G5,""))
A6: Cedar Lantern Storage - Lake Briar (Fictional) | B6: 5 x 10 Climate-Controlled | C6: 50 | D6: 40 | E6: 89 | F6: 0.65 | G6: 0.92 | H6: Facility Manager | I6: Included | J6: Near the fictional office corridor. | K6: =IF(OR($A6="",$C6="",$D6=""),"",IFERROR($C6*$D6,"")) | L6: =IF(OR($A6="",$D6="",$E6="",$G6="",$I6<>"Included"),"",IFERROR($D6*$E6*$G6,""))
A7: Cedar Lantern Storage - Lake Briar (Fictional) | B7: 10 x 10 Climate-Controlled | C7: 100 | D7: 48 | E7: 149 | F7: 0.7 | G7: 0.94 | H7: Regional Operator | I7: Included | J7: Core climate-controlled unit type. | K7: =IF(OR($A7="",$C7="",$D7=""),"",IFERROR($C7*$D7,"")) | L7: =IF(OR($A7="",$D7="",$E7="",$G7="",$I7<>"Included"),"",IFERROR($D7*$E7*$G7,""))
A8: Cedar Lantern Storage - Lake Briar (Fictional) | B8: 10 x 15 Climate-Controlled | C8: 150 | D8: 28 | E8: 199 | F8: 0.72 | G8: 0.94 | H8: Regional Operator | I8: Included | J8: Interior large-unit category. | K8: =IF(OR($A8="",$C8="",$D8=""),"",IFERROR($C8*$D8,"")) | L8: =IF(OR($A8="",$D8="",$E8="",$G8="",$I8<>"Included"),"",IFERROR($D8*$E8*$G8,""))
A9: Cedar Lantern Storage - Lake Briar (Fictional) | B9: 10 x 20 Climate-Controlled | C9: 200 | D9: 18 | E9: 259 | F9: 0.68 | G9: 0.92 | H9: Asset Manager | I9: Included | J9: Limited large climate-controlled inventory. | K9: =IF(OR($A9="",$C9="",$D9=""),"",IFERROR($C9*$D9,"")) | L9: =IF(OR($A9="",$D9="",$E9="",$G9="",$I9<>"Included"),"",IFERROR($D9*$E9*$G9,""))
A10: Cedar Lantern Storage - Lake Briar (Fictional) | B10: 5 x 10 Drive-Up | C10: 50 | D10: 32 | E10: 79 | F10: 0.58 | G10: 0.88 | H10: Facility Manager | I10: Included | J10: Fictional east drive aisle. | K10: =IF(OR($A10="",$C10="",$D10=""),"",IFERROR($C10*$D10,"")) | L10: =IF(OR($A10="",$D10="",$E10="",$G10="",$I10<>"Included"),"",IFERROR($D10*$E10*$G10,""))
A11: Cedar Lantern Storage - Lake Briar (Fictional) | B11: 10 x 10 Drive-Up | C11: 100 | D11: 54 | E11: 129 | F11: 0.66 | G11: 0.93 | H11: Facility Manager | I11: Included | J11: Largest drive-up category. | K11: =IF(OR($A11="",$C11="",$D11=""),"",IFERROR($C11*$D11,"")) | L11: =IF(OR($A11="",$D11="",$E11="",$G11="",$I11<>"Included"),"",IFERROR($D11*$E11*$G11,""))
A12: Cedar Lantern Storage - Lake Briar (Fictional) | B12: 10 x 20 Drive-Up | C12: 200 | D12: 26 | E12: 219 | F12: 0.64 | G12: 0.91 | H12: Regional Operator | I12: Included | J12: Fictional west drive aisle. | K12: =IF(OR($A12="",$C12="",$D12=""),"",IFERROR($C12*$D12,"")) | L12: =IF(OR($A12="",$D12="",$E12="",$G12="",$I12<>"Included"),"",IFERROR($D12*$E12*$G12,""))
A13: Cedar Lantern Storage - Lake Briar (Fictional) | B13: 10 x 20 Parking | C13: 200 | D13: 20 | E13: 95 | F13: 0.5 | G13: 0.85 | H13: Asset Manager | I13: Included | J13: Open parking scenario area. | K13: =IF(OR($A13="",$C13="",$D13=""),"",IFERROR($C13*$D13,"")) | L13: =IF(OR($A13="",$D13="",$E13="",$G13="",$I13<>"Included"),"",IFERROR($D13*$E13*$G13,""))
A14: Cedar Lantern Storage - Lake Briar (Fictional) | B14: 12 x 30 Parking | C14: 360 | D14: 12 | E14: 145 | F14: 0.42 | G14: 0.8 | H14: Acquisition Analyst | I14: Review | J14: Confirm whether this fictional parking area belongs in the modeled mix. | K14: =IF(OR($A14="",$C14="",$D14=""),"",IFERROR($C14*$D14,"")) | L14: =IF(OR($A14="",$D14="",$E14="",$G14="",$I14<>"Included"),"",IFERROR($D14*$E14*$G14,""))
K15: =IF(OR($A15="",$C15="",$D15=""),"",IFERROR($C15*$D15,"")) | L15: =IF(OR($A15="",$D15="",$E15="",$G15="",$I15<>"Included"),"",IFERROR($D15*$E15*$G15,""))
K16: =IF(OR($A16="",$C16="",$D16=""),"",IFERROR($C16*$D16,"")) | L16: =IF(OR($A16="",$D16="",$E16="",$G16="",$I16<>"Included"),"",IFERROR($D16*$E16*$G16,""))
K17: =IF(OR($A17="",$C17="",$D17=""),"",IFERROR($C17*$D17,"")) | L17: =IF(OR($A17="",$D17="",$E17="",$G17="",$I17<>"Included"),"",IFERROR($D17*$E17*$G17,""))
K18: =IF(OR($A18="",$C18="",$D18=""),"",IFERROR($C18*$D18,"")) | L18: =IF(OR($A18="",$D18="",$E18="",$G18="",$I18<>"Included"),"",IFERROR($D18*$E18*$G18,""))
K19: =IF(OR($A19="",$C19="",$D19=""),"",IFERROR($C19*$D19,"")) | L19: =IF(OR($A19="",$D19="",$E19="",$G19="",$I19<>"Included"),"",IFERROR($D19*$E19*$G19,""))
K20: =IF(OR($A20="",$C20="",$D20=""),"",IFERROR($C20*$D20,"")) | L20: =IF(OR($A20="",$D20="",$E20="",$G20="",$I20<>"Included"),"",IFERROR($D20*$E20*$G20,""))
K21: =IF(OR($A21="",$C21="",$D21=""),"",IFERROR($C21*$D21,"")) | L21: =IF(OR($A21="",$D21="",$E21="",$G21="",$I21<>"Included"),"",IFERROR($D21*$E21*$G21,""))
K22: =IF(OR($A22="",$C22="",$D22=""),"",IFERROR($C22*$D22,"")) | L22: =IF(OR($A22="",$D22="",$E22="",$G22="",$I22<>"Included"),"",IFERROR($D22*$E22*$G22,""))
K23: =IF(OR($A23="",$C23="",$D23=""),"",IFERROR($C23*$D23,"")) | L23: =IF(OR($A23="",$D23="",$E23="",$G23="",$I23<>"Included"),"",IFERROR($D23*$E23*$G23,""))
K24: =IF(OR($A24="",$C24="",$D24=""),"",IFERROR($C24*$D24,"")) | L24: =IF(OR($A24="",$D24="",$E24="",$G24="",$I24<>"Included"),"",IFERROR($D24*$E24*$G24,""))
K25: =IF(OR($A25="",$C25="",$D25=""),"",IFERROR($C25*$D25,"")) | L25: =IF(OR($A25="",$D25="",$E25="",$G25="",$I25<>"Included"),"",IFERROR($D25*$E25*$G25,""))
K26: =IF(OR($A26="",$C26="",$D26=""),"",IFERROR($C26*$D26,"")) | L26: =IF(OR($A26="",$D26="",$E26="",$G26="",$I26<>"Included"),"",IFERROR($D26*$E26*$G26,""))
... K104: =IF(OR($A104="",$C104="",$D104=""),"",IFERROR($C104*$D104,"")) | L104: =IF(OR($A104="",$D104="",$E104="",$G104="",$I104<>"Included"),"",IFERROR($D104*$E104*$G104,""))

Sheet Monthly Pro Forma
A1: Five-Year Monthly Self Storage Pro Forma
A2: Calculated monthly results link the fictional unit mix to the editable assumptions. Review warnings require human evaluation.
A4: Period | B4: Month | C4: Available Units | D4: Occupied Units | E4: Occupancy | F4: Gross Potential Rent | G4: Scheduled Rental Income | H4: Ancillary Income | I4: Other Income | J4: Effective Gross Income | K4: Variable Operating Expense | L4: Fixed Operating Expense | M4: Replacement Reserve | N4: Net Operating Income | O4: Debt Service | P4: Cash Flow After Debt Service | Q4: Review Status
A5: =IF(1<='Assumptions'!$B$6,1,"") | B5: =IF($A5="","",IFERROR(EDATE('Assumptions'!$B$5,$A5-1),"")) | C5: =IF($A5="","",IFERROR(SUMIFS('Unit Mix'!$D$5:$D$104,'Unit Mix'!$A$5:$A$104,'Assumptions'!$B$4,'Unit Mix'!$I$5:$I$104,"Included"),"")) | D5: =IF(OR($A5="",$C5=0),"",IFERROR(SUMPRODUCT(('Unit Mix'!$A$5:$A$104='Assumptions'!$B$4)*('Unit Mix'!$I$5:$I$104="Included")*'Unit Mix'!$D$5:$D$104*('Unit Mix'!$F$5:$F$104+MIN(1,IFERROR(($A5-1)/'Assumptions'!$B$8,0))*('Unit Mix'!$G$5:$G$104-'Unit Mix'!$F$5:$F$104))),"")) | E5: =IF(OR($A5="",$C5=0),"",IFERROR($D5/$C5,"")) | F5: =IF(OR($A5="",$C5=0),"",IFERROR(SUMPRODUCT(('Unit Mix'!$A$5:$A$104='Assumptions'!$B$4)*('Unit Mix'!$I$5:$I$104="Included")*'Unit Mix'!$D$5:$D$104*'Unit Mix'!$E$5:$E$104)*(1+'Assumptions'!$B$7)^(($A5-1)/12),"")) | G5: =IF(OR($A5="",$C5=0),"",IFERROR(SUMPRODUCT(('Unit Mix'!$A$5:$A$104='Assumptions'!$B$4)*('Unit Mix'!$I$5:$I$104="Included")*'Unit Mix'!$D$5:$D$104*'Unit Mix'!$E$5:$E$104*('Unit Mix'!$F$5:$F$104+MIN(1,IFERROR(($A5-1)/'Assumptions'!$B$8,0))*('Unit Mix'!$G$5:$G$104-'Unit Mix'!$F$5:$F$104)))*(1+'Assumptions'!$B$7)^(($A5-1)/12),"")) | H5: =IF($G5="","",IFERROR($D5*'Assumptions'!$B$9*(1+'Assumptions'!$B$10)^(($A5-1)/12),"")) | I5: =IF($G5="","",IFERROR($G5*'Assumptions'!$B$11,"")) | J5: =IF($G5="","",IFERROR(SUM($G5:$I5),"")) | K5: =IF($J5="","",IFERROR($J5*'Assumptions'!$B$12,"")) | L5: =IF($J5="","",IFERROR('Assumptions'!$B$13*(1+'Assumptions'!$B$14)^(($A5-1)/12),"")) | M5: =IF($J5="","",IFERROR('Assumptions'!$B$15,"")) | N5: =IF($J5="","",IFERROR($J5-SUM($K5:$M5),"")) | O5: =IF($N5="","",IFERROR('Assumptions'!$B$16,"")) | P5: =IF($N5="","",IFERROR($N5-$O5,"")) | Q5: =IF($A5="","",IF($C5=0,"Review",IF(OR($E5<'Assumptions'!$B$18,$P5<'Assumptions'!$B$17),"Review","OK")))
A6: =IF(2<='Assumptions'!$B$6,2,"") | B6: =IF($A6="","",IFERROR(EDATE('Assumptions'!$B$5,$A6-1),"")) | C6: =IF($A6="","",IFERROR(SUMIFS('Unit Mix'!$D$5:$D$104,'Unit Mix'!$A$5:$A$104,'Assumptions'!$B$4,'Unit Mix'!$I$5:$I$104,"Included"),"")) | D6: =IF(OR($A6="",$C6=0),"",IFERROR(SUMPRODUCT(('Unit Mix'!$A$5:$A$104='Assumptions'!$B$4)*('Unit Mix'!$I$5:$I$104="Included")*'Unit Mix'!$D$5:$D$104*('Unit Mix'!$F$5:$F$104+MIN(1,IFERROR(($A6-1)/'Assumptions'!$B$8,0))*('Unit Mix'!$G$5:$G$104-'Unit Mix'!$F$5:$F$104))),"")) | E6: =IF(OR($A6="",$C6=0),"",IFERROR($D6/$C6,"")) | F6: =IF(OR($A6="",$C6=0),"",IFERROR(SUMPRODUCT(('Unit Mix'!$A$5:$A$104='Assumptions'!$B$4)*('Unit Mix'!$I$5:$I$104="Included")*'Unit Mix'!$D$5:$D$104*'Unit Mix'!$E$5:$E$104)*(1+'Assumptions'!$B$7)^(($A6-1)/12),"")) | G6: =IF(OR($A6="",$C6=0),"",IFERROR(SUMPRODUCT(('Unit Mix'!$A$5:$A$104='Assumptions'!$B$4)*('Unit Mix'!$I$5:$I$104="Included")*'Unit Mix'!$D$5:$D$104*'Unit Mix'!$E$5:$E$104*('Unit Mix'!$F$5:$F$104+MIN(1,IFERROR(($A6-1)/'Assumptions'!$B$8,0))*('Unit Mix'!$G$5:$G$104-'Unit Mix'!$F$5:$F$104)))*(1+'Assumptions'!$B$7)^(($A6-1)/12),"")) | H6: =IF($G6="","",IFERROR($D6*'Assumptions'!$B$9*(1+'Assumptions'!$B$10)^(($A6-1)/12),"")) | I6: =IF($G6="","",IFERROR($G6*'Assumptions'!$B$11,"")) | J6: =IF($G6="","",IFERROR(SUM($G6:$I6),"")) | K6: =IF($J6="","",IFERROR($J6*'Assumptions'!$B$12,"")) | L6: =IF($J6="","",IFERROR('Assumptions'!$B$13*(1+'Assumptions'!$B$14)^(($A6-1)/12),"")) | M6: =IF($J6="","",IFERROR('Assumptions'!$B$15,"")) | N6: =IF($J6="","",IFERROR($J6-SUM($K6:$M6),"")) | O6: =IF($N6="","",IFERROR('Assumptions'!$B$16,"")) | P6: =IF($N6="","",IFERROR($N6-$O6,"")) | Q6: =IF($A6="","",IF($C6=0,"Review",IF(OR($E6<'Assumptions'!$B$18,$P6<'Assumptions'!$B$17),"Review","OK")))
A7: =IF(3<='Assumptions'!$B$6,3,"") | B7: =IF($A7="","",IFERROR(EDATE('Assumptions'!$B$5,$A7-1),"")) | C7: =IF($A7="","",IFERROR(SUMIFS('Unit Mix'!$D$5:$D$104,'Unit Mix'!$A$5:$A$104,'Assumptions'!$B$4,'Unit Mix'!$I$5:$I$104,"Included"),"")) | D7: =IF(OR($A7="",$C7=0),"",IFERROR(SUMPRODUCT(('Unit Mix'!$A$5:$A$104='Assumptions'!$B$4)*('Unit Mix'!$I$5:$I$104="Included")*'Unit Mix'!$D$5:$D$104*('Unit Mix'!$F$5:$F$104+MIN(1,IFERROR(($A7-1)/'Assumptions'!$B$8,0))*('Unit Mix'!$G$5:$G$104-'Unit Mix'!$F$5:$F$104))),"")) | E7: =IF(OR($A7="",$C7=0),"",IFERROR($D7/$C7,"")) | F7: =IF(OR($A7="",$C7=0),"",IFERROR(SUMPRODUCT(('Unit Mix'!$A$5:$A$104='Assumptions'!$B$4)*('Unit Mix'!$I$5:$I$104="Included")*'Unit Mix'!$D$5:$D$104*'Unit Mix'!$E$5:$E$104)*(1+'Assumptions'!$B$7)^(($A7-1)/12),"")) | G7: =IF(OR($A7="",$C7=0),"",IFERROR(SUMPRODUCT(('Unit Mix'!$A$5:$A$104='Assumptions'!$B$4)*('Unit Mix'!$I$5:$I$104="Included")*'Unit Mix'!$D$5:$D$104*'Unit Mix'!$E$5:$E$104*('Unit Mix'!$F$5:$F$104+MIN(1,IFERROR(($A7-1)/'Assumptions'!$B$8,0))*('Unit Mix'!$G$5:$G$104-'Unit Mix'!$F$5:$F$104)))*(1+'Assumptions'!$B$7)^(($A7-1)/12),"")) | H7: =IF($G7="","",IFERROR($D7*'Assumptions'!$B$9*(1+'Assumptions'!$B$10)^(($A7-1)/12),"")) | I7: =IF($G7="","",IFERROR($G7*'Assumptions'!$B$11,"")) | J7: =IF($G7="","",IFERROR(SUM($G7:$I7),"")) | K7: =IF($J7="","",IFERROR($J7*'Assumptions'!$B$12,"")) | L7: =IF($J7="","",IFERROR('Assumptions'!$B$13*(1+'Assumptions'!$B$14)^(($A7-1)/12),"")) | M7: =IF($J7="","",IFERROR('Assumptions'!$B$15,"")) | N7: =IF($J7="","",IFERROR($J7-SUM($K7:$M7),"")) | O7: =IF($N7="","",IFERROR('Assumptions'!$B$16,"")) | P7: =IF($N7="","",IFERROR($N7-$O7,"")) | Q7: =IF($A7="","",IF($C7=0,"Review",IF(OR($E7<'Assumptions'!$B$18,$P7<'Assumptions'!$B$17),"Review","OK")))
A8: =IF(4<='Assumptions'!$B$6,4,"") | B8: =IF($A8="","",IFERROR(EDATE('Assumptions'!$B$5,$A8-1),"")) | C8: =IF($A8="","",IFERROR(SUMIFS('Unit Mix'!$D$5:$D$104,'Unit Mix'!$A$5:$A$104,'Assumptions'!$B$4,'Unit Mix'!$I$5:$I$104,"Included"),"")) | D8: =IF(OR($A8="",$C8=0),"",IFERROR(SUMPRODUCT(('Unit Mix'!$A$5:$A$104='Assumptions'!$B$4)*('Unit Mix'!$I$5:$I$104="Included")*'Unit Mix'!$D$5:$D$104*('Unit Mix'!$F$5:$F$104+MIN(1,IFERROR(($A8-1)/'Assumptions'!$B$8,0))*('Unit Mix'!$G$5:$G$104-'Unit Mix'!$F$5:$F$104))),"")) | E8: =IF(OR($A8="",$C8=0),"",IFERROR($D8/$C8,"")) | F8: =IF(OR($A8="",$C8=0),"",IFERROR(SUMPRODUCT(('Unit Mix'!$A$5:$A$104='Assumptions'!$B$4)*('Unit Mix'!$I$5:$I$104="Included")*'Unit Mix'!$D$5:$D$104*'Unit Mix'!$E$5:$E$104)*(1+'Assumptions'!$B$7)^(($A8-1)/12),"")) | G8: =IF(OR($A8="",$C8=0),"",IFERROR(SUMPRODUCT(('Unit Mix'!$A$5:$A$104='Assumptions'!$B$4)*('Unit Mix'!$I$5:$I$104="Included")*'Unit Mix'!$D$5:$D$104*'Unit Mix'!$E$5:$E$104*('Unit Mix'!$F$5:$F$104+MIN(1,IFERROR(($A8-1)/'Assumptions'!$B$8,0))*('Unit Mix'!$G$5:$G$104-'Unit Mix'!$F$5:$F$104)))*(1+'Assumptions'!$B$7)^(($A8-1)/12),"")) | H8: =IF($G8="","",IFERROR($D8*'Assumptions'!$B$9*(1+'Assumptions'!$B$10)^(($A8-1)/12),"")) | I8: =IF($G8="","",IFERROR($G8*'Assumptions'!$B$11,"")) | J8: =IF($G8="","",IFERROR(SUM($G8:$I8),"")) | K8: =IF($J8="","",IFERROR($J8*'Assumptions'!$B$12,"")) | L8: =IF($J8="","",IFERROR('Assumptions'!$B$13*(1+'Assumptions'!$B$14)^(($A8-1)/12),"")) | M8: =IF($J8="","",IFERROR('Assumptions'!$B$15,"")) | N8: =IF($J8="","",IFERROR($J8-SUM($K8:$M8),"")) | O8: =IF($N8="","",IFERROR('Assumptions'!$B$16,"")) | P8: =IF($N8="","",IFERROR($N8-$O8,"")) | Q8: =IF($A8="","",IF($C8=0,"Review",IF(OR($E8<'Assumptions'!$B$18,$P8<'Assumptions'!$B$17),"Review","OK")))
A9: =IF(5<='Assumptions'!$B$6,5,"") | B9: =IF($A9="","",IFERROR(EDATE('Assumptions'!$B$5,$A9-1),"")) | C9: =IF($A9="","",IFERROR(SUMIFS('Unit Mix'!$D$5:$D$104,'Unit Mix'!$A$5:$A$104,'Assumptions'!$B$4,'Unit Mix'!$I$5:$I$104,"Included"),"")) | D9: =IF(OR($A9="",$C9=0),"",IFERROR(SUMPRODUCT(('Unit Mix'!$A$5:$A$104='Assumptions'!$B$4)*('Unit Mix'!$I$5:$I$104="Included")*'Unit Mix'!$D$5:$D$104*('Unit Mix'!$F$5:$F$104+MIN(1,IFERROR(($A9-1)/'Assumptions'!$B$8,0))*('Unit Mix'!$G$5:$G$104-'Unit Mix'!$F$5:$F$104))),"")) | E9: =IF(OR($A9="",$C9=0),"",IFERROR($D9/$C9,"")) | F9: =IF(OR($A9="",$C9=0),"",IFERROR(SUMPRODUCT(('Unit Mix'!$A$5:$A$104='Assumptions'!$B$4)*('Unit Mix'!$I$5:$I$104="Included")*'Unit Mix'!$D$5:$D$104*'Unit Mix'!$E$5:$E$104)*(1+'Assumptions'!$B$7)^(($A9-1)/12),"")) | G9: =IF(OR($A9="",$C9=0),"",IFERROR(SUMPRODUCT(('Unit Mix'!$A$5:$A$104='Assumptions'!$B$4)*('Unit Mix'!$I$5:$I$104="Included")*'Unit Mix'!$D$5:$D$104*'Unit Mix'!$E$5:$E$104*('Unit Mix'!$F$5:$F$104+MIN(1,IFERROR(($A9-1)/'Assumptions'!$B$8,0))*('Unit Mix'!$G$5:$G$104-'Unit Mix'!$F$5:$F$104)))*(1+'Assumptions'!$B$7)^(($A9-1)/12),"")) | H9: =IF($G9="","",IFERROR($D9*'Assumptions'!$B$9*(1+'Assumptions'!$B$10)^(($A9-1)/12),"")) | I9: =IF($G9="","",IFERROR($G9*'Assumptions'!$B$11,"")) | J9: =IF($G9="","",IFERROR(SUM($G9:$I9),"")) | K9: =IF($J9="","",IFERROR($J9*'Assumptions'!$B$12,"")) | L9: =IF($J9="","",IFERROR('Assumptions'!$B$13*(1+'Assumptions'!$B$14)^(($A9-1)/12),"")) | M9: =IF($J9="","",IFERROR('Assumptions'!$B$15,"")) | N9: =IF($J9="","",IFERROR($J9-SUM($K9:$M9),"")) | O9: =IF($N9="","",IFERROR('Assumptions'!$B$16,"")) | P9: =IF($N9="","",IFERROR($N9-$O9,"")) | Q9: =IF($A9="","",IF($C9=0,"Review",IF(OR($E9<'Assumptions'!$B$18,$P9<'Assumptions'!$B$17),"Review","OK")))
A10: =IF(6<='Assumptions'!$B$6,6,"") | B10: =IF($A10="","",IFERROR(EDATE('Assumptions'!$B$5,$A10-1),"")) | C10: =IF($A10="","",IFERROR(SUMIFS('Unit Mix'!$D$5:$D$104,'Unit Mix'!$A$5:$A$104,'Assumptions'!$B$4,'Unit Mix'!$I$5:$I$104,"Included"),"")) | D10: =IF(OR($A10="",$C10=0),"",IFERROR(SUMPRODUCT(('Unit Mix'!$A$5:$A$104='Assumptions'!$B$4)*('Unit Mix'!$I$5:$I$104="Included")*'Unit Mix'!$D$5:$D$104*('Unit Mix'!$F$5:$F$104+MIN(1,IFERROR(($A10-1)/'Assumptions'!$B$8,0))*('Unit Mix'!$G$5:$G$104-'Unit Mix'!$F$5:$F$104))),"")) | E10: =IF(OR($A10="",$C10=0),"",IFERROR($D10/$C10,"")) | F10: =IF(OR($A10="",$C10=0),"",IFERROR(SUMPRODUCT(('Unit Mix'!$A$5:$A$104='Assumptions'!$B$4)*('Unit Mix'!$I$5:$I$104="Included")*'Unit Mix'!$D$5:$D$104*'Unit Mix'!$E$5:$E$104)*(1+'Assumptions'!$B$7)^(($A10-1)/12),"")) | G10: =IF(OR($A10="",$C10=0),"",IFERROR(SUMPRODUCT(('Unit Mix'!$A$5:$A$104='Assumptions'!$B$4)*('Unit Mix'!$I$5:$I$104="Included")*'Unit Mix'!$D$5:$D$104*'Unit Mix'!$E$5:$E$104*('Unit Mix'!$F$5:$F$104+MIN(1,IFERROR(($A10-1)/'Assumptions'!$B$8,0))*('Unit Mix'!$G$5:$G$104-'Unit Mix'!$F$5:$F$104)))*(1+'Assumptions'!$B$7)^(($A10-1)/12),"")) | H10: =IF($G10="","",IFERROR($D10*'Assumptions'!$B$9*(1+'Assumptions'!$B$10)^(($A10-1)/12),"")) | I10: =IF($G10="","",IFERROR($G10*'Assumptions'!$B$11,"")) | J10: =IF($G10="","",IFERROR(SUM($G10:$I10),"")) | K10: =IF($J10="","",IFERROR($J10*'Assumptions'!$B$12,"")) | L10: =IF($J10="","",IFERROR('Assumptions'!$B$13*(1+'Assumptions'!$B$14)^(($A10-1)/12),"")) | M10: =IF($J10="","",IFERROR('Assumptions'!$B$15,"")) | N10: =IF($J10="","",IFERROR($J10-SUM($K10:$M10),"")) | O10: =IF($N10="","",IFERROR('Assumptions'!$B$16,"")) | P10: =IF($N10="","",IFERROR($N10-$O10,"")) | Q10: =IF($A10="","",IF($C10=0,"Review",IF(OR($E10<'Assumptions'!$B$18,$P10<'Assumptions'!$B$17),"Review","OK")))
A11: =IF(7<='Assumptions'!$B$6,7,"") | B11: =IF($A11="","",IFERROR(EDATE('Assumptions'!$B$5,$A11-1),"")) | C11: =IF($A11="","",IFERROR(SUMIFS('Unit Mix'!$D$5:$D$104,'Unit Mix'!$A$5:$A$104,'Assumptions'!$B$4,'Unit Mix'!$I$5:$I$104,"Included"),"")) | D11: =IF(OR($A11="",$C11=0),"",IFERROR(SUMPRODUCT(('Unit Mix'!$A$5:$A$104='Assumptions'!$B$4)*('Unit Mix'!$I$5:$I$104="Included")*'Unit Mix'!$D$5:$D$104*('Unit Mix'!$F$5:$F$104+MIN(1,IFERROR(($A11-1)/'Assumptions'!$B$8,0))*('Unit Mix'!$G$5:$G$104-'Unit Mix'!$F$5:$F$104))),"")) | E11: =IF(OR($A11="",$C11=0),"",IFERROR($D11/$C11,"")) | F11: =IF(OR($A11="",$C11=0),"",IFERROR(SUMPRODUCT(('Unit Mix'!$A$5:$A$104='Assumptions'!$B$4)*('Unit Mix'!$I$5:$I$104="Included")*'Unit Mix'!$D$5:$D$104*'Unit Mix'!$E$5:$E$104)*(1+'Assumptions'!$B$7)^(($A11-1)/12),"")) | G11: =IF(OR($A11="",$C11=0),"",IFERROR(SUMPRODUCT(('Unit Mix'!$A$5:$A$104='Assumptions'!$B$4)*('Unit Mix'!$I$5:$I$104="Included")*'Unit Mix'!$D$5:$D$104*'Unit Mix'!$E$5:$E$104*('Unit Mix'!$F$5:$F$104+MIN(1,IFERROR(($A11-1)/'Assumptions'!$B$8,0))*('Unit Mix'!$G$5:$G$104-'Unit Mix'!$F$5:$F$104)))*(1+'Assumptions'!$B$7)^(($A11-1)/12),"")) | H11: =IF($G11="","",IFERROR($D11*'Assumptions'!$B$9*(1+'Assumptions'!$B$10)^(($A11-1)/12),"")) | I11: =IF($G11="","",IFERROR($G11*'Assumptions'!$B$11,"")) | J11: =IF($G11="","",IFERROR(SUM($G11:$I11),"")) | K11: =IF($J11="","",IFERROR($J11*'Assumptions'!$B$12,"")) | L11: =IF($J11="","",IFERROR('Assumptions'!$B$13*(1+'Assumptions'!$B$14)^(($A11-1)/12),"")) | M11: =IF($J11="","",IFERROR('Assumptions'!$B$15,"")) | N11: =IF($J11="","",IFERROR($J11-SUM($K11:$M11),"")) | O11: =IF($N11="","",IFERROR('Assumptions'!$B$16,"")) | P11: =IF($N11="","",IFERROR($N11-$O11,"")) | Q11: =IF($A11="","",IF($C11=0,"Review",IF(OR($E11<'Assumptions'!$B$18,$P11<'Assumptions'!$B$17),"Review","OK")))
A12: =IF(8<='Assumptions'!$B$6,8,"") | B12: =IF($A12="","",IFERROR(EDATE('Assumptions'!$B$5,$A12-1),"")) | C12: =IF($A12="","",IFERROR(SUMIFS('Unit Mix'!$D$5:$D$104,'Unit Mix'!$A$5:$A$104,'Assumptions'!$B$4,'Unit Mix'!$I$5:$I$104,"Included"),"")) | D12: =IF(OR($A12="",$C12=0),"",IFERROR(SUMPRODUCT(('Unit Mix'!$A$5:$A$104='Assumptions'!$B$4)*('Unit Mix'!$I$5:$I$104="Included")*'Unit Mix'!$D$5:$D$104*('Unit Mix'!$F$5:$F$104+MIN(1,IFERROR(($A12-1)/'Assumptions'!$B$8,0))*('Unit Mix'!$G$5:$G$104-'Unit Mix'!$F$5:$F$104))),"")) | E12: =IF(OR($A12="",$C12=0),"",IFERROR($D12/$C12,"")) | F12: =IF(OR($A12="",$C12=0),"",IFERROR(SUMPRODUCT(('Unit Mix'!$A$5:$A$104='Assumptions'!$B$4)*('Unit Mix'!$I$5:$I$104="Included")*'Unit Mix'!$D$5:$D$104*'Unit Mix'!$E$5:$E$104)*(1+'Assumptions'!$B$7)^(($A12-1)/12),"")) | G12: =IF(OR($A12="",$C12=0),"",IFERROR(SUMPRODUCT(('Unit Mix'!$A$5:$A$104='Assumptions'!$B$4)*('Unit Mix'!$I$5:$I$104="Included")*'Unit Mix'!$D$5:$D$104*'Unit Mix'!$E$5:$E$104*('Unit Mix'!$F$5:$F$104+MIN(1,IFERROR(($A12-1)/'Assumptions'!$B$8,0))*('Unit Mix'!$G$5:$G$104-'Unit Mix'!$F$5:$F$104)))*(1+'Assumptions'!$B$7)^(($A12-1)/12),"")) | H12: =IF($G12="","",IFERROR($D12*'Assumptions'!$B$9*(1+'Assumptions'!$B$10)^(($A12-1)/12),"")) | I12: =IF($G12="","",IFERROR($G12*'Assumptions'!$B$11,"")) | J12: =IF($G12="","",IFERROR(SUM($G12:$I12),"")) | K12: =IF($J12="","",IFERROR($J12*'Assumptions'!$B$12,"")) | L12: =IF($J12="","",IFERROR('Assumptions'!$B$13*(1+'Assumptions'!$B$14)^(($A12-1)/12),"")) | M12: =IF($J12="","",IFERROR('Assumptions'!$B$15,"")) | N12: =IF($J12="","",IFERROR($J12-SUM($K12:$M12),"")) | O12: =IF($N12="","",IFERROR('Assumptions'!$B$16,"")) | P12: =IF($N12="","",IFERROR($N12-$O12,"")) | Q12: =IF($A12="","",IF($C12=0,"Review",IF(OR($E12<'Assumptions'!$B$18,$P12<'Assumptions'!$B$17),"Review","OK")))
A13: =IF(9<='Assumptions'!$B$6,9,"") | B13: =IF($A13="","",IFERROR(EDATE('Assumptions'!$B$5,$A13-1),"")) | C13: =IF($A13="","",IFERROR(SUMIFS('Unit Mix'!$D$5:$D$104,'Unit Mix'!$A$5:$A$104,'Assumptions'!$B$4,'Unit Mix'!$I$5:$I$104,"Included"),"")) | D13: =IF(OR($A13="",$C13=0),"",IFERROR(SUMPRODUCT(('Unit Mix'!$A$5:$A$104='Assumptions'!$B$4)*('Unit Mix'!$I$5:$I$104="Included")*'Unit Mix'!$D$5:$D$104*('Unit Mix'!$F$5:$F$104+MIN(1,IFERROR(($A13-1)/'Assumptions'!$B$8,0))*('Unit Mix'!$G$5:$G$104-'Unit Mix'!$F$5:$F$104))),"")) | E13: =IF(OR($A13="",$C13=0),"",IFERROR($D13/$C13,"")) | F13: =IF(OR($A13="",$C13=0),"",IFERROR(SUMPRODUCT(('Unit Mix'!$A$5:$A$104='Assumptions'!$B$4)*('Unit Mix'!$I$5:$I$104="Included")*'Unit Mix'!$D$5:$D$104*'Unit Mix'!$E$5:$E$104)*(1+'Assumptions'!$B$7)^(($A13-1)/12),"")) | G13: =IF(OR($A13="",$C13=0),"",IFERROR(SUMPRODUCT(('Unit Mix'!$A$5:$A$104='Assumptions'!$B$4)*('Unit Mix'!$I$5:$I$104="Included")*'Unit Mix'!$D$5:$D$104*'Unit Mix'!$E$5:$E$104*('Unit Mix'!$F$5:$F$104+MIN(1,IFERROR(($A13-1)/'Assumptions'!$B$8,0))*('Unit Mix'!$G$5:$G$104-'Unit Mix'!$F$5:$F$104)))*(1+'Assumptions'!$B$7)^(($A13-1)/12),"")) | H13: =IF($G13="","",IFERROR($D13*'Assumptions'!$B$9*(1+'Assumptions'!$B$10)^(($A13-1)/12),"")) | I13: =IF($G13="","",IFERROR($G13*'Assumptions'!$B$11,"")) | J13: =IF($G13="","",IFERROR(SUM($G13:$I13),"")) | K13: =IF($J13="","",IFERROR($J13*'Assumptions'!$B$12,"")) | L13: =IF($J13="","",IFERROR('Assumptions'!$B$13*(1+'Assumptions'!$B$14)^(($A13-1)/12),"")) | M13: =IF($J13="","",IFERROR('Assumptions'!$B$15,"")) | N13: =IF($J13="","",IFERROR($J13-SUM($K13:$M13),"")) | O13: =IF($N13="","",IFERROR('Assumptions'!$B$16,"")) | P13: =IF($N13="","",IFERROR($N13-$O13,"")) | Q13: =IF($A13="","",IF($C13=0,"Review",IF(OR($E13<'Assumptions'!$B$18,$P13<'Assumptions'!$B$17),"Review","OK")))
A14: =IF(10<='Assumptions'!$B$6,10,"") | B14: =IF($A14="","",IFERROR(EDATE('Assumptions'!$B$5,$A14-1),"")) | C14: =IF($A14="","",IFERROR(SUMIFS('Unit Mix'!$D$5:$D$104,'Unit Mix'!$A$5:$A$104,'Assumptions'!$B$4,'Unit Mix'!$I$5:$I$104,"Included"),"")) | D14: =IF(OR($A14="",$C14=0),"",IFERROR(SUMPRODUCT(('Unit Mix'!$A$5:$A$104='Assumptions'!$B$4)*('Unit Mix'!$I$5:$I$104="Included")*'Unit Mix'!$D$5:$D$104*('Unit Mix'!$F$5:$F$104+MIN(1,IFERROR(($A14-1)/'Assumptions'!$B$8,0))*('Unit Mix'!$G$5:$G$104-'Unit Mix'!$F$5:$F$104))),"")) | E14: =IF(OR($A14="",$C14=0),"",IFERROR($D14/$C14,"")) | F14: =IF(OR($A14="",$C14=0),"",IFERROR(SUMPRODUCT(('Unit Mix'!$A$5:$A$104='Assumptions'!$B$4)*('Unit Mix'!$I$5:$I$104="Included")*'Unit Mix'!$D$5:$D$104*'Unit Mix'!$E$5:$E$104)*(1+'Assumptions'!$B$7)^(($A14-1)/12),"")) | G14: =IF(OR($A14="",$C14=0),"",IFERROR(SUMPRODUCT(('Unit Mix'!$A$5:$A$104='Assumptions'!$B$4)*('Unit Mix'!$I$5:$I$104="Included")*'Unit Mix'!$D$5:$D$104*'Unit Mix'!$E$5:$E$104*('Unit Mix'!$F$5:$F$104+MIN(1,IFERROR(($A14-1)/'Assumptions'!$B$8,0))*('Unit Mix'!$G$5:$G$104-'Unit Mix'!$F$5:$F$104)))*(1+'Assumptions'!$B$7)^(($A14-1)/12),"")) | H14: =IF($G14="","",IFERROR($D14*'Assumptions'!$B$9*(1+'Assumptions'!$B$10)^(($A14-1)/12),"")) | I14: =IF($G14="","",IFERROR($G14*'Assumptions'!$B$11,"")) | J14: =IF($G14="","",IFERROR(SUM($G14:$I14),"")) | K14: =IF($J14="","",IFERROR($J14*'Assumptions'!$B$12,"")) | L14: =IF($J14="","",IFERROR('Assumptions'!$B$13*(1+'Assumptions'!$B$14)^(($A14-1)/12),"")) | M14: =IF($J14="","",IFERROR('Assumptions'!$B$15,"")) | N14: =IF($J14="","",IFERROR($J14-SUM($K14:$M14),"")) | O14: =IF($N14="","",IFERROR('Assumptions'!$B$16,"")) | P14: =IF($N14="","",IFERROR($N14-$O14,"")) | Q14: =IF($A14="","",IF($C14=0,"Review",IF(OR($E14<'Assumptions'!$B$18,$P14<'Assumptions'!$B$17),"Review","OK")))
A15: =IF(11<='Assumptions'!$B$6,11,"") | B15: =IF($A15="","",IFERROR(EDATE('Assumptions'!$B$5,$A15-1),"")) | C15: =IF($A15="","",IFERROR(SUMIFS('Unit Mix'!$D$5:$D$104,'Unit Mix'!$A$5:$A$104,'Assumptions'!$B$4,'Unit Mix'!$I$5:$I$104,"Included"),"")) | D15: =IF(OR($A15="",$C15=0),"",IFERROR(SUMPRODUCT(('Unit Mix'!$A$5:$A$104='Assumptions'!$B$4)*('Unit Mix'!$I$5:$I$104="Included")*'Unit Mix'!$D$5:$D$104*('Unit Mix'!$F$5:$F$104+MIN(1,IFERROR(($A15-1)/'Assumptions'!$B$8,0))*('Unit Mix'!$G$5:$G$104-'Unit Mix'!$F$5:$F$104))),"")) | E15: =IF(OR($A15="",$C15=0),"",IFERROR($D15/$C15,"")) | F15: =IF(OR($A15="",$C15=0),"",IFERROR(SUMPRODUCT(('Unit Mix'!$A$5:$A$104='Assumptions'!$B$4)*('Unit Mix'!$I$5:$I$104="Included")*'Unit Mix'!$D$5:$D$104*'Unit Mix'!$E$5:$E$104)*(1+'Assumptions'!$B$7)^(($A15-1)/12),"")) | G15: =IF(OR($A15="",$C15=0),"",IFERROR(SUMPRODUCT(('Unit Mix'!$A$5:$A$104='Assumptions'!$B$4)*('Unit Mix'!$I$5:$I$104="Included")*'Unit Mix'!$D$5:$D$104*'Unit Mix'!$E$5:$E$104*('Unit Mix'!$F$5:$F$104+MIN(1,IFERROR(($A15-1)/'Assumptions'!$B$8,0))*('Unit Mix'!$G$5:$G$104-'Unit Mix'!$F$5:$F$104)))*(1+'Assumptions'!$B$7)^(($A15-1)/12),"")) | H15: =IF($G15="","",IFERROR($D15*'Assumptions'!$B$9*(1+'Assumptions'!$B$10)^(($A15-1)/12),"")) | I15: =IF($G15="","",IFERROR($G15*'Assumptions'!$B$11,"")) | J15: =IF($G15="","",IFERROR(SUM($G15:$I15),"")) | K15: =IF($J15="","",IFERROR($J15*'Assumptions'!$B$12,"")) | L15: =IF($J15="","",IFERROR('Assumptions'!$B$13*(1+'Assumptions'!$B$14)^(($A15-1)/12),"")) | M15: =IF($J15="","",IFERROR('Assumptions'!$B$15,"")) | N15: =IF($J15="","",IFERROR($J15-SUM($K15:$M15),"")) | O15: =IF($N15="","",IFERROR('Assumptions'!$B$16,"")) | P15: =IF($N15="","",IFERROR($N15-$O15,"")) | Q15: =IF($A15="","",IF($C15=0,"Review",IF(OR($E15<'Assumptions'!$B$18,$P15<'Assumptions'!$B$17),"Review","OK")))
A16: =IF(12<='Assumptions'!$B$6,12,"") | B16: =IF($A16="","",IFERROR(EDATE('Assumptions'!$B$5,$A16-1),"")) | C16: =IF($A16="","",IFERROR(SUMIFS('Unit Mix'!$D$5:$D$104,'Unit Mix'!$A$5:$A$104,'Assumptions'!$B$4,'Unit Mix'!$I$5:$I$104,"Included"),"")) | D16: =IF(OR($A16="",$C16=0),"",IFERROR(SUMPRODUCT(('Unit Mix'!$A$5:$A$104='Assumptions'!$B$4)*('Unit Mix'!$I$5:$I$104="Included")*'Unit Mix'!$D$5:$D$104*('Unit Mix'!$F$5:$F$104+MIN(1,IFERROR(($A16-1)/'Assumptions'!$B$8,0))*('Unit Mix'!$G$5:$G$104-'Unit Mix'!$F$5:$F$104))),"")) | E16: =IF(OR($A16="",$C16=0),"",IFERROR($D16/$C16,"")) | F16: =IF(OR($A16="",$C16=0),"",IFERROR(SUMPRODUCT(('Unit Mix'!$A$5:$A$104='Assumptions'!$B$4)*('Unit Mix'!$I$5:$I$104="Included")*'Unit Mix'!$D$5:$D$104*'Unit Mix'!$E$5:$E$104)*(1+'Assumptions'!$B$7)^(($A16-1)/12),"")) | G16: =IF(OR($A16="",$C16=0),"",IFERROR(SUMPRODUCT(('Unit Mix'!$A$5:$A$104='Assumptions'!$B$4)*('Unit Mix'!$I$5:$I$104="Included")*'Unit Mix'!$D$5:$D$104*'Unit Mix'!$E$5:$E$104*('Unit Mix'!$F$5:$F$104+MIN(1,IFERROR(($A16-1)/'Assumptions'!$B$8,0))*('Unit Mix'!$G$5:$G$104-'Unit Mix'!$F$5:$F$104)))*(1+'Assumptions'!$B$7)^(($A16-1)/12),"")) | H16: =IF($G16="","",IFERROR($D16*'Assumptions'!$B$9*(1+'Assumptions'!$B$10)^(($A16-1)/12),"")) | I16: =IF($G16="","",IFERROR($G16*'Assumptions'!$B$11,"")) | J16: =IF($G16="","",IFERROR(SUM($G16:$I16),"")) | K16: =IF($J16="","",IFERROR($J16*'Assumptions'!$B$12,"")) | L16: =IF($J16="","",IFERROR('Assumptions'!$B$13*(1+'Assumptions'!$B$14)^(($A16-1)/12),"")) | M16: =IF($J16="","",IFERROR('Assumptions'!$B$15,"")) | N16: =IF($J16="","",IFERROR($J16-SUM($K16:$M16),"")) | O16: =IF($N16="","",IFERROR('Assumptions'!$B$16,"")) | P16: =IF($N16="","",IFERROR($N16-$O16,"")) | Q16: =IF($A16="","",IF($C16=0,"Review",IF(OR($E16<'Assumptions'!$B$18,$P16<'Assumptions'!$B$17),"Review","OK")))
A17: =IF(13<='Assumptions'!$B$6,13,"") | B17: =IF($A17="","",IFERROR(EDATE('Assumptions'!$B$5,$A17-1),"")) | C17: =IF($A17="","",IFERROR(SUMIFS('Unit Mix'!$D$5:$D$104,'Unit Mix'!$A$5:$A$104,'Assumptions'!$B$4,'Unit Mix'!$I$5:$I$104,"Included"),"")) | D17: =IF(OR($A17="",$C17=0),"",IFERROR(SUMPRODUCT(('Unit Mix'!$A$5:$A$104='Assumptions'!$B$4)*('Unit Mix'!$I$5:$I$104="Included")*'Unit Mix'!$D$5:$D$104*('Unit Mix'!$F$5:$F$104+MIN(1,IFERROR(($A17-1)/'Assumptions'!$B$8,0))*('Unit Mix'!$G$5:$G$104-'Unit Mix'!$F$5:$F$104))),"")) | E17: =IF(OR($A17="",$C17=0),"",IFERROR($D17/$C17,"")) | F17: =IF(OR($A17="",$C17=0),"",IFERROR(SUMPRODUCT(('Unit Mix'!$A$5:$A$104='Assumptions'!$B$4)*('Unit Mix'!$I$5:$I$104="Included")*'Unit Mix'!$D$5:$D$104*'Unit Mix'!$E$5:$E$104)*(1+'Assumptions'!$B$7)^(($A17-1)/12),"")) | G17: =IF(OR($A17="",$C17=0),"",IFERROR(SUMPRODUCT(('Unit Mix'!$A$5:$A$104='Assumptions'!$B$4)*('Unit Mix'!$I$5:$I$104="Included")*'Unit Mix'!$D$5:$D$104*'Unit Mix'!$E$5:$E$104*('Unit Mix'!$F$5:$F$104+MIN(1,IFERROR(($A17-1)/'Assumptions'!$B$8,0))*('Unit Mix'!$G$5:$G$104-'Unit Mix'!$F$5:$F$104)))*(1+'Assumptions'!$B$7)^(($A17-1)/12),"")) | H17: =IF($G17="","",IFERROR($D17*'Assumptions'!$B$9*(1+'Assumptions'!$B$10)^(($A17-1)/12),"")) | I17: =IF($G17="","",IFERROR($G17*'Assumptions'!$B$11,"")) | J17: =IF($G17="","",IFERROR(SUM($G17:$I17),"")) | K17: =IF($J17="","",IFERROR($J17*'Assumptions'!$B$12,"")) | L17: =IF($J17="","",IFERROR('Assumptions'!$B$13*(1+'Assumptions'!$B$14)^(($A17-1)/12),"")) | M17: =IF($J17="","",IFERROR('Assumptions'!$B$15,"")) | N17: =IF($J17="","",IFERROR($J17-SUM($K17:$M17),"")) | O17: =IF($N17="","",IFERROR('Assumptions'!$B$16,"")) | P17: =IF($N17="","",IFERROR($N17-$O17,"")) | Q17: =IF($A17="","",IF($C17=0,"Review",IF(OR($E17<'Assumptions'!$B$18,$P17<'Assumptions'!$B$17),"Review","OK")))
A18: =IF(14<='Assumptions'!$B$6,14,"") | B18: =IF($A18="","",IFERROR(EDATE('Assumptions'!$B$5,$A18-1),"")) | C18: =IF($A18="","",IFERROR(SUMIFS('Unit Mix'!$D$5:$D$104,'Unit Mix'!$A$5:$A$104,'Assumptions'!$B$4,'Unit Mix'!$I$5:$I$104,"Included"),"")) | D18: =IF(OR($A18="",$C18=0),"",IFERROR(SUMPRODUCT(('Unit Mix'!$A$5:$A$104='Assumptions'!$B$4)*('Unit Mix'!$I$5:$I$104="Included")*'Unit Mix'!$D$5:$D$104*('Unit Mix'!$F$5:$F$104+MIN(1,IFERROR(($A18-1)/'Assumptions'!$B$8,0))*('Unit Mix'!$G$5:$G$104-'Unit Mix'!$F$5:$F$104))),"")) | E18: =IF(OR($A18="",$C18=0),"",IFERROR($D18/$C18,"")) | F18: =IF(OR($A18="",$C18=0),"",IFERROR(SUMPRODUCT(('Unit Mix'!$A$5:$A$104='Assumptions'!$B$4)*('Unit Mix'!$I$5:$I$104="Included")*'Unit Mix'!$D$5:$D$104*'Unit Mix'!$E$5:$E$104)*(1+'Assumptions'!$B$7)^(($A18-1)/12),"")) | G18: =IF(OR($A18="",$C18=0),"",IFERROR(SUMPRODUCT(('Unit Mix'!$A$5:$A$104='Assumptions'!$B$4)*('Unit Mix'!$I$5:$I$104="Included")*'Unit Mix'!$D$5:$D$104*'Unit Mix'!$E$5:$E$104*('Unit Mix'!$F$5:$F$104+MIN(1,IFERROR(($A18-1)/'Assumptions'!$B$8,0))*('Unit Mix'!$G$5:$G$104-'Unit Mix'!$F$5:$F$104)))*(1+'Assumptions'!$B$7)^(($A18-1)/12),"")) | H18: =IF($G18="","",IFERROR($D18*'Assumptions'!$B$9*(1+'Assumptions'!$B$10)^(($A18-1)/12),"")) | I18: =IF($G18="","",IFERROR($G18*'Assumptions'!$B$11,"")) | J18: =IF($G18="","",IFERROR(SUM($G18:$I18),"")) | K18: =IF($J18="","",IFERROR($J18*'Assumptions'!$B$12,"")) | L18: =IF($J18="","",IFERROR('Assumptions'!$B$13*(1+'Assumptions'!$B$14)^(($A18-1)/12),"")) | M18: =IF($J18="","",IFERROR('Assumptions'!$B$15,"")) | N18: =IF($J18="","",IFERROR($J18-SUM($K18:$M18),"")) | O18: =IF($N18="","",IFERROR('Assumptions'!$B$16,"")) | P18: =IF($N18="","",IFERROR($N18-$O18,"")) | Q18: =IF($A18="","",IF($C18=0,"Review",IF(OR($E18<'Assumptions'!$B$18,$P18<'Assumptions'!$B$17),"Review","OK")))
A19: =IF(15<='Assumptions'!$B$6,15,"") | B19: =IF($A19="","",IFERROR(EDATE('Assumptions'!$B$5,$A19-1),"")) | C19: =IF($A19="","",IFERROR(SUMIFS('Unit Mix'!$D$5:$D$104,'Unit Mix'!$A$5:$A$104,'Assumptions'!$B$4,'Unit Mix'!$I$5:$I$104,"Included"),"")) | D19: =IF(OR($A19="",$C19=0),"",IFERROR(SUMPRODUCT(('Unit Mix'!$A$5:$A$104='Assumptions'!$B$4)*('Unit Mix'!$I$5:$I$104="Included")*'Unit Mix'!$D$5:$D$104*('Unit Mix'!$F$5:$F$104+MIN(1,IFERROR(($A19-1)/'Assumptions'!$B$8,0))*('Unit Mix'!$G$5:$G$104-'Unit Mix'!$F$5:$F$104))),"")) | E19: =IF(OR($A19="",$C19=0),"",IFERROR($D19/$C19,"")) | F19: =IF(OR($A19="",$C19=0),"",IFERROR(SUMPRODUCT(('Unit Mix'!$A$5:$A$104='Assumptions'!$B$4)*('Unit Mix'!$I$5:$I$104="Included")*'Unit Mix'!$D$5:$D$104*'Unit Mix'!$E$5:$E$104)*(1+'Assumptions'!$B$7)^(($A19-1)/12),"")) | G19: =IF(OR($A19="",$C19=0),"",IFERROR(SUMPRODUCT(('Unit Mix'!$A$5:$A$104='Assumptions'!$B$4)*('Unit Mix'!$I$5:$I$104="Included")*'Unit Mix'!$D$5:$D$104*'Unit Mix'!$E$5:$E$104*('Unit Mix'!$F$5:$F$104+MIN(1,IFERROR(($A19-1)/'Assumptions'!$B$8,0))*('Unit Mix'!$G$5:$G$104-'Unit Mix'!$F$5:$F$104)))*(1+'Assumptions'!$B$7)^(($A19-1)/12),"")) | H19: =IF($G19="","",IFERROR($D19*'Assumptions'!$B$9*(1+'Assumptions'!$B$10)^(($A19-1)/12),"")) | I19: =IF($G19="","",IFERROR($G19*'Assumptions'!$B$11,"")) | J19: =IF($G19="","",IFERROR(SUM($G19:$I19),"")) | K19: =IF($J19="","",IFERROR($J19*'Assumptions'!$B$12,"")) | L19: =IF($J19="","",IFERROR('Assumptions'!$B$13*(1+'Assumptions'!$B$14)^(($A19-1)/12),"")) | M19: =IF($J19="","",IFERROR('Assumptions'!$B$15,"")) | N19: =IF($J19="","",IFERROR($J19-SUM($K19:$M19),"")) | O19: =IF($N19="","",IFERROR('Assumptions'!$B$16,"")) | P19: =IF($N19="","",IFERROR($N19-$O19,"")) | Q19: =IF($A19="","",IF($C19=0,"Review",IF(OR($E19<'Assumptions'!$B$18,$P19<'Assumptions'!$B$17),"Review","OK")))
A20: =IF(16<='Assumptions'!$B$6,16,"") | B20: =IF($A20="","",IFERROR(EDATE('Assumptions'!$B$5,$A20-1),"")) | C20: =IF($A20="","",IFERROR(SUMIFS('Unit Mix'!$D$5:$D$104,'Unit Mix'!$A$5:$A$104,'Assumptions'!$B$4,'Unit Mix'!$I$5:$I$104,"Included"),"")) | D20: =IF(OR($A20="",$C20=0),"",IFERROR(SUMPRODUCT(('Unit Mix'!$A$5:$A$104='Assumptions'!$B$4)*('Unit Mix'!$I$5:$I$104="Included")*'Unit Mix'!$D$5:$D$104*('Unit Mix'!$F$5:$F$104+MIN(1,IFERROR(($A20-1)/'Assumptions'!$B$8,0))*('Unit Mix'!$G$5:$G$104-'Unit Mix'!$F$5:$F$104))),"")) | E20: =IF(OR($A20="",$C20=0),"",IFERROR($D20/$C20,"")) | F20: =IF(OR($A20="",$C20=0),"",IFERROR(SUMPRODUCT(('Unit Mix'!$A$5:$A$104='Assumptions'!$B$4)*('Unit Mix'!$I$5:$I$104="Included")*'Unit Mix'!$D$5:$D$104*'Unit Mix'!$E$5:$E$104)*(1+'Assumptions'!$B$7)^(($A20-1)/12),"")) | G20: =IF(OR($A20="",$C20=0),"",IFERROR(SUMPRODUCT(('Unit Mix'!$A$5:$A$104='Assumptions'!$B$4)*('Unit Mix'!$I$5:$I$104="Included")*'Unit Mix'!$D$5:$D$104*'Unit Mix'!$E$5:$E$104*('Unit Mix'!$F$5:$F$104+MIN(1,IFERROR(($A20-1)/'Assumptions'!$B$8,0))*('Unit Mix'!$G$5:$G$104-'Unit Mix'!$F$5:$F$104)))*(1+'Assumptions'!$B$7)^(($A20-1)/12),"")) | H20: =IF($G20="","",IFERROR($D20*'Assumptions'!$B$9*(1+'Assumptions'!$B$10)^(($A20-1)/12),"")) | I20: =IF($G20="","",IFERROR($G20*'Assumptions'!$B$11,"")) | J20: =IF($G20="","",IFERROR(SUM($G20:$I20),"")) | K20: =IF($J20="","",IFERROR($J20*'Assumptions'!$B$12,"")) | L20: =IF($J20="","",IFERROR('Assumptions'!$B$13*(1+'Assumptions'!$B$14)^(($A20-1)/12),"")) | M20: =IF($J20="","",IFERROR('Assumptions'!$B$15,"")) | N20: =IF($J20="","",IFERROR($J20-SUM($K20:$M20),"")) | O20: =IF($N20="","",IFERROR('Assumptions'!$B$16,"")) | P20: =IF($N20="","",IFERROR($N20-$O20,"")) | Q20: =IF($A20="","",IF($C20=0,"Review",IF(OR($E20<'Assumptions'!$B$18,$P20<'Assumptions'!$B$17),"Review","OK")))
A21: =IF(17<='Assumptions'!$B$6,17,"") | B21: =IF($A21="","",IFERROR(EDATE('Assumptions'!$B$5,$A21-1),"")) | C21: =IF($A21="","",IFERROR(SUMIFS('Unit Mix'!$D$5:$D$104,'Unit Mix'!$A$5:$A$104,'Assumptions'!$B$4,'Unit Mix'!$I$5:$I$104,"Included"),"")) | D21: =IF(OR($A21="",$C21=0),"",IFERROR(SUMPRODUCT(('Unit Mix'!$A$5:$A$104='Assumptions'!$B$4)*('Unit Mix'!$I$5:$I$104="Included")*'Unit Mix'!$D$5:$D$104*('Unit Mix'!$F$5:$F$104+MIN(1,IFERROR(($A21-1)/'Assumptions'!$B$8,0))*('Unit Mix'!$G$5:$G$104-'Unit Mix'!$F$5:$F$104))),"")) | E21: =IF(OR($A21="",$C21=0),"",IFERROR($D21/$C21,"")) | F21: =IF(OR($A21="",$C21=0),"",IFERROR(SUMPRODUCT(('Unit Mix'!$A$5:$A$104='Assumptions'!$B$4)*('Unit Mix'!$I$5:$I$104="Included")*'Unit Mix'!$D$5:$D$104*'Unit Mix'!$E$5:$E$104)*(1+'Assumptions'!$B$7)^(($A21-1)/12),"")) | G21: =IF(OR($A21="",$C21=0),"",IFERROR(SUMPRODUCT(('Unit Mix'!$A$5:$A$104='Assumptions'!$B$4)*('Unit Mix'!$I$5:$I$104="Included")*'Unit Mix'!$D$5:$D$104*'Unit Mix'!$E$5:$E$104*('Unit Mix'!$F$5:$F$104+MIN(1,IFERROR(($A21-1)/'Assumptions'!$B$8,0))*('Unit Mix'!$G$5:$G$104-'Unit Mix'!$F$5:$F$104)))*(1+'Assumptions'!$B$7)^(($A21-1)/12),"")) | H21: =IF($G21="","",IFERROR($D21*'Assumptions'!$B$9*(1+'Assumptions'!$B$10)^(($A21-1)/12),"")) | I21: =IF($G21="","",IFERROR($G21*'Assumptions'!$B$11,"")) | J21: =IF($G21="","",IFERROR(SUM($G21:$I21),"")) | K21: =IF($J21="","",IFERROR($J21*'Assumptions'!$B$12,"")) | L21: =IF($J21="","",IFERROR('Assumptions'!$B$13*(1+'Assumptions'!$B$14)^(($A21-1)/12),"")) | M21: =IF($J21="","",IFERROR('Assumptions'!$B$15,"")) | N21: =IF($J21="","",IFERROR($J21-SUM($K21:$M21),"")) | O21: =IF($N21="","",IFERROR('Assumptions'!$B$16,"")) | P21: =IF($N21="","",IFERROR($N21-$O21,"")) | Q21: =IF($A21="","",IF($C21=0,"Review",IF(OR($E21<'Assumptions'!$B$18,$P21<'Assumptions'!$B$17),"Review","OK")))
A22: =IF(18<='Assumptions'!$B$6,18,"") | B22: =IF($A22="","",IFERROR(EDATE('Assumptions'!$B$5,$A22-1),"")) | C22: =IF($A22="","",IFERROR(SUMIFS('Unit Mix'!$D$5:$D$104,'Unit Mix'!$A$5:$A$104,'Assumptions'!$B$4,'Unit Mix'!$I$5:$I$104,"Included"),"")) | D22: =IF(OR($A22="",$C22=0),"",IFERROR(SUMPRODUCT(('Unit Mix'!$A$5:$A$104='Assumptions'!$B$4)*('Unit Mix'!$I$5:$I$104="Included")*'Unit Mix'!$D$5:$D$104*('Unit Mix'!$F$5:$F$104+MIN(1,IFERROR(($A22-1)/'Assumptions'!$B$8,0))*('Unit Mix'!$G$5:$G$104-'Unit Mix'!$F$5:$F$104))),"")) | E22: =IF(OR($A22="",$C22=0),"",IFERROR($D22/$C22,"")) | F22: =IF(OR($A22="",$C22=0),"",IFERROR(SUMPRODUCT(('Unit Mix'!$A$5:$A$104='Assumptions'!$B$4)*('Unit Mix'!$I$5:$I$104="Included")*'Unit Mix'!$D$5:$D$104*'Unit Mix'!$E$5:$E$104)*(1+'Assumptions'!$B$7)^(($A22-1)/12),"")) | G22: =IF(OR($A22="",$C22=0),"",IFERROR(SUMPRODUCT(('Unit Mix'!$A$5:$A$104='Assumptions'!$B$4)*('Unit Mix'!$I$5:$I$104="Included")*'Unit Mix'!$D$5:$D$104*'Unit Mix'!$E$5:$E$104*('Unit Mix'!$F$5:$F$104+MIN(1,IFERROR(($A22-1)/'Assumptions'!$B$8,0))*('Unit Mix'!$G$5:$G$104-'Unit Mix'!$F$5:$F$104)))*(1+'Assumptions'!$B$7)^(($A22-1)/12),"")) | H22: =IF($G22="","",IFERROR($D22*'Assumptions'!$B$9*(1+'Assumptions'!$B$10)^(($A22-1)/12),"")) | I22: =IF($G22="","",IFERROR($G22*'Assumptions'!$B$11,"")) | J22: =IF($G22="","",IFERROR(SUM($G22:$I22),"")) | K22: =IF($J22="","",IFERROR($J22*'Assumptions'!$B$12,"")) | L22: =IF($J22="","",IFERROR('Assumptions'!$B$13*(1+'Assumptions'!$B$14)^(($A22-1)/12),"")) | M22: =IF($J22="","",IFERROR('Assumptions'!$B$15,"")) | N22: =IF($J22="","",IFERROR($J22-SUM($K22:$M22),"")) | O22: =IF($N22="","",IFERROR('Assumptions'!$B$16,"")) | P22: =IF($N22="","",IFERROR($N22-$O22,"")) | Q22: =IF($A22="","",IF($C22=0,"Review",IF(OR($E22<'Assumptions'!$B$18,$P22<'Assumptions'!$B$17),"Review","OK")))
A23: =IF(19<='Assumptions'!$B$6,19,"") | B23: =IF($A23="","",IFERROR(EDATE('Assumptions'!$B$5,$A23-1),"")) | C23: =IF($A23="","",IFERROR(SUMIFS('Unit Mix'!$D$5:$D$104,'Unit Mix'!$A$5:$A$104,'Assumptions'!$B$4,'Unit Mix'!$I$5:$I$104,"Included"),"")) | D23: =IF(OR($A23="",$C23=0),"",IFERROR(SUMPRODUCT(('Unit Mix'!$A$5:$A$104='Assumptions'!$B$4)*('Unit Mix'!$I$5:$I$104="Included")*'Unit Mix'!$D$5:$D$104*('Unit Mix'!$F$5:$F$104+MIN(1,IFERROR(($A23-1)/'Assumptions'!$B$8,0))*('Unit Mix'!$G$5:$G$104-'Unit Mix'!$F$5:$F$104))),"")) | E23: =IF(OR($A23="",$C23=0),"",IFERROR($D23/$C23,"")) | F23: =IF(OR($A23="",$C23=0),"",IFERROR(SUMPRODUCT(('Unit Mix'!$A$5:$A$104='Assumptions'!$B$4)*('Unit Mix'!$I$5:$I$104="Included")*'Unit Mix'!$D$5:$D$104*'Unit Mix'!$E$5:$E$104)*(1+'Assumptions'!$B$7)^(($A23-1)/12),"")) | G23: =IF(OR($A23="",$C23=0),"",IFERROR(SUMPRODUCT(('Unit Mix'!$A$5:$A$104='Assumptions'!$B$4)*('Unit Mix'!$I$5:$I$104="Included")*'Unit Mix'!$D$5:$D$104*'Unit Mix'!$E$5:$E$104*('Unit Mix'!$F$5:$F$104+MIN(1,IFERROR(($A23-1)/'Assumptions'!$B$8,0))*('Unit Mix'!$G$5:$G$104-'Unit Mix'!$F$5:$F$104)))*(1+'Assumptions'!$B$7)^(($A23-1)/12),"")) | H23: =IF($G23="","",IFERROR($D23*'Assumptions'!$B$9*(1+'Assumptions'!$B$10)^(($A23-1)/12),"")) | I23: =IF($G23="","",IFERROR($G23*'Assumptions'!$B$11,"")) | J23: =IF($G23="","",IFERROR(SUM($G23:$I23),"")) | K23: =IF($J23="","",IFERROR($J23*'Assumptions'!$B$12,"")) | L23: =IF($J23="","",IFERROR('Assumptions'!$B$13*(1+'Assumptions'!$B$14)^(($A23-1)/12),"")) | M23: =IF($J23="","",IFERROR('Assumptions'!$B$15,"")) | N23: =IF($J23="","",IFERROR($J23-SUM($K23:$M23),"")) | O23: =IF($N23="","",IFERROR('Assumptions'!$B$16,"")) | P23: =IF($N23="","",IFERROR($N23-$O23,"")) | Q23: =IF($A23="","",IF($C23=0,"Review",IF(OR($E23<'Assumptions'!$B$18,$P23<'Assumptions'!$B$17),"Review","OK")))
A24: =IF(20<='Assumptions'!$B$6,20,"") | B24: =IF($A24="","",IFERROR(EDATE('Assumptions'!$B$5,$A24-1),"")) | C24: =IF($A24="","",IFERROR(SUMIFS('Unit Mix'!$D$5:$D$104,'Unit Mix'!$A$5:$A$104,'Assumptions'!$B$4,'Unit Mix'!$I$5:$I$104,"Included"),"")) | D24: =IF(OR($A24="",$C24=0),"",IFERROR(SUMPRODUCT(('Unit Mix'!$A$5:$A$104='Assumptions'!$B$4)*('Unit Mix'!$I$5:$I$104="Included")*'Unit Mix'!$D$5:$D$104*('Unit Mix'!$F$5:$F$104+MIN(1,IFERROR(($A24-1)/'Assumptions'!$B$8,0))*('Unit Mix'!$G$5:$G$104-'Unit Mix'!$F$5:$F$104))),"")) | E24: =IF(OR($A24="",$C24=0),"",IFERROR($D24/$C24,"")) | F24: =IF(OR($A24="",$C24=0),"",IFERROR(SUMPRODUCT(('Unit Mix'!$A$5:$A$104='Assumptions'!$B$4)*('Unit Mix'!$I$5:$I$104="Included")*'Unit Mix'!$D$5:$D$104*'Unit Mix'!$E$5:$E$104)*(1+'Assumptions'!$B$7)^(($A24-1)/12),"")) | G24: =IF(OR($A24="",$C24=0),"",IFERROR(SUMPRODUCT(('Unit Mix'!$A$5:$A$104='Assumptions'!$B$4)*('Unit Mix'!$I$5:$I$104="Included")*'Unit Mix'!$D$5:$D$104*'Unit Mix'!$E$5:$E$104*('Unit Mix'!$F$5:$F$104+MIN(1,IFERROR(($A24-1)/'Assumptions'!$B$8,0))*('Unit Mix'!$G$5:$G$104-'Unit Mix'!$F$5:$F$104)))*(1+'Assumptions'!$B$7)^(($A24-1)/12),"")) | H24: =IF($G24="","",IFERROR($D24*'Assumptions'!$B$9*(1+'Assumptions'!$B$10)^(($A24-1)/12),"")) | I24: =IF($G24="","",IFERROR($G24*'Assumptions'!$B$11,"")) | J24: =IF($G24="","",IFERROR(SUM($G24:$I24),"")) | K24: =IF($J24="","",IFERROR($J24*'Assumptions'!$B$12,"")) | L24: =IF($J24="","",IFERROR('Assumptions'!$B$13*(1+'Assumptions'!$B$14)^(($A24-1)/12),"")) | M24: =IF($J24="","",IFERROR('Assumptions'!$B$15,"")) | N24: =IF($J24="","",IFERROR($J24-SUM($K24:$M24),"")) | O24: =IF($N24="","",IFERROR('Assumptions'!$B$16,"")) | P24: =IF($N24="","",IFERROR($N24-$O24,"")) | Q24: =IF($A24="","",IF($C24=0,"Review",IF(OR($E24<'Assumptions'!$B$18,$P24<'Assumptions'!$B$17),"Review","OK")))
A25: =IF(21<='Assumptions'!$B$6,21,"") | B25: =IF($A25="","",IFERROR(EDATE('Assumptions'!$B$5,$A25-1),"")) | C25: =IF($A25="","",IFERROR(SUMIFS('Unit Mix'!$D$5:$D$104,'Unit Mix'!$A$5:$A$104,'Assumptions'!$B$4,'Unit Mix'!$I$5:$I$104,"Included"),"")) | D25: =IF(OR($A25="",$C25=0),"",IFERROR(SUMPRODUCT(('Unit Mix'!$A$5:$A$104='Assumptions'!$B$4)*('Unit Mix'!$I$5:$I$104="Included")*'Unit Mix'!$D$5:$D$104*('Unit Mix'!$F$5:$F$104+MIN(1,IFERROR(($A25-1)/'Assumptions'!$B$8,0))*('Unit Mix'!$G$5:$G$104-'Unit Mix'!$F$5:$F$104))),"")) | E25: =IF(OR($A25="",$C25=0),"",IFERROR($D25/$C25,"")) | F25: =IF(OR($A25="",$C25=0),"",IFERROR(SUMPRODUCT(('Unit Mix'!$A$5:$A$104='Assumptions'!$B$4)*('Unit Mix'!$I$5:$I$104="Included")*'Unit Mix'!$D$5:$D$104*'Unit Mix'!$E$5:$E$104)*(1+'Assumptions'!$B$7)^(($A25-1)/12),"")) | G25: =IF(OR($A25="",$C25=0),"",IFERROR(SUMPRODUCT(('Unit Mix'!$A$5:$A$104='Assumptions'!$B$4)*('Unit Mix'!$I$5:$I$104="Included")*'Unit Mix'!$D$5:$D$104*'Unit Mix'!$E$5:$E$104*('Unit Mix'!$F$5:$F$104+MIN(1,IFERROR(($A25-1)/'Assumptions'!$B$8,0))*('Unit Mix'!$G$5:$G$104-'Unit Mix'!$F$5:$F$104)))*(1+'Assumptions'!$B$7)^(($A25-1)/12),"")) | H25: =IF($G25="","",IFERROR($D25*'Assumptions'!$B$9*(1+'Assumptions'!$B$10)^(($A25-1)/12),"")) | I25: =IF($G25="","",IFERROR($G25*'Assumptions'!$B$11,"")) | J25: =IF($G25="","",IFERROR(SUM($G25:$I25),"")) | K25: =IF($J25="","",IFERROR($J25*'Assumptions'!$B$12,"")) | L25: =IF($J25="","",IFERROR('Assumptions'!$B$13*(1+'Assumptions'!$B$14)^(($A25-1)/12),"")) | M25: =IF($J25="","",IFERROR('Assumptions'!$B$15,"")) | N25: =IF($J25="","",IFERROR($J25-SUM($K25:$M25),"")) | O25: =IF($N25="","",IFERROR('Assumptions'!$B$16,"")) | P25: =IF($N25="","",IFERROR($N25-$O25,"")) | Q25: =IF($A25="","",IF($C25=0,"Review",IF(OR($E25<'Assumptions'!$B$18,$P25<'Assumptions'!$B$17),"Review","OK")))
A26: =IF(22<='Assumptions'!$B$6,22,"") | B26: =IF($A26="","",IFERROR(EDATE('Assumptions'!$B$5,$A26-1),"")) | C26: =IF($A26="","",IFERROR(SUMIFS('Unit Mix'!$D$5:$D$104,'Unit Mix'!$A$5:$A$104,'Assumptions'!$B$4,'Unit Mix'!$I$5:$I$104,"Included"),"")) | D26: =IF(OR($A26="",$C26=0),"",IFERROR(SUMPRODUCT(('Unit Mix'!$A$5:$A$104='Assumptions'!$B$4)*('Unit Mix'!$I$5:$I$104="Included")*'Unit Mix'!$D$5:$D$104*('Unit Mix'!$F$5:$F$104+MIN(1,IFERROR(($A26-1)/'Assumptions'!$B$8,0))*('Unit Mix'!$G$5:$G$104-'Unit Mix'!$F$5:$F$104))),"")) | E26: =IF(OR($A26="",$C26=0),"",IFERROR($D26/$C26,"")) | F26: =IF(OR($A26="",$C26=0),"",IFERROR(SUMPRODUCT(('Unit Mix'!$A$5:$A$104='Assumptions'!$B$4)*('Unit Mix'!$I$5:$I$104="Included")*'Unit Mix'!$D$5:$D$104*'Unit Mix'!$E$5:$E$104)*(1+'Assumptions'!$B$7)^(($A26-1)/12),"")) | G26: =IF(OR($A26="",$C26=0),"",IFERROR(SUMPRODUCT(('Unit Mix'!$A$5:$A$104='Assumptions'!$B$4)*('Unit Mix'!$I$5:$I$104="Included")*'Unit Mix'!$D$5:$D$104*'Unit Mix'!$E$5:$E$104*('Unit Mix'!$F$5:$F$104+MIN(1,IFERROR(($A26-1)/'Assumptions'!$B$8,0))*('Unit Mix'!$G$5:$G$104-'Unit Mix'!$F$5:$F$104)))*(1+'Assumptions'!$B$7)^(($A26-1)/12),"")) | H26: =IF($G26="","",IFERROR($D26*'Assumptions'!$B$9*(1+'Assumptions'!$B$10)^(($A26-1)/12),"")) | I26: =IF($G26="","",IFERROR($G26*'Assumptions'!$B$11,"")) | J26: =IF($G26="","",IFERROR(SUM($G26:$I26),"")) | K26: =IF($J26="","",IFERROR($J26*'Assumptions'!$B$12,"")) | L26: =IF($J26="","",IFERROR('Assumptions'!$B$13*(1+'Assumptions'!$B$14)^(($A26-1)/12),"")) | M26: =IF($J26="","",IFERROR('Assumptions'!$B$15,"")) | N26: =IF($J26="","",IFERROR($J26-SUM($K26:$M26),"")) | O26: =IF($N26="","",IFERROR('Assumptions'!$B$16,"")) | P26: =IF($N26="","",IFERROR($N26-$O26,"")) | Q26: =IF($A26="","",IF($C26=0,"Review",IF(OR($E26<'Assumptions'!$B$18,$P26<'Assumptions'!$B$17),"Review","OK")))
A27: =IF(23<='Assumptions'!$B$6,23,"") | B27: =IF($A27="","",IFERROR(EDATE('Assumptions'!$B$5,$A27-1),"")) | C27: =IF($A27="","",IFERROR(SUMIFS('Unit Mix'!$D$5:$D$104,'Unit Mix'!$A$5:$A$104,'Assumptions'!$B$4,'Unit Mix'!$I$5:$I$104,"Included"),"")) | D27: =IF(OR($A27="",$C27=0),"",IFERROR(SUMPRODUCT(('Unit Mix'!$A$5:$A$104='Assumptions'!$B$4)*('Unit Mix'!$I$5:$I$104="Included")*'Unit Mix'!$D$5:$D$104*('Unit Mix'!$F$5:$F$104+MIN(1,IFERROR(($A27-1)/'Assumptions'!$B$8,0))*('Unit Mix'!$G$5:$G$104-'Unit Mix'!$F$5:$F$104))),"")) | E27: =IF(OR($A27="",$C27=0),"",IFERROR($D27/$C27,"")) | F27: =IF(OR($A27="",$C27=0),"",IFERROR(SUMPRODUCT(('Unit Mix'!$A$5:$A$104='Assumptions'!$B$4)*('Unit Mix'!$I$5:$I$104="Included")*'Unit Mix'!$D$5:$D$104*'Unit Mix'!$E$5:$E$104)*(1+'Assumptions'!$B$7)^(($A27-1)/12),"")) | G27: =IF(OR($A27="",$C27=0),"",IFERROR(SUMPRODUCT(('Unit Mix'!$A$5:$A$104='Assumptions'!$B$4)*('Unit Mix'!$I$5:$I$104="Included")*'Unit Mix'!$D$5:$D$104*'Unit Mix'!$E$5:$E$104*('Unit Mix'!$F$5:$F$104+MIN(1,IFERROR(($A27-1)/'Assumptions'!$B$8,0))*('Unit Mix'!$G$5:$G$104-'Unit Mix'!$F$5:$F$104)))*(1+'Assumptions'!$B$7)^(($A27-1)/12),"")) | H27: =IF($G27="","",IFERROR($D27*'Assumptions'!$B$9*(1+'Assumptions'!$B$10)^(($A27-1)/12),"")) | I27: =IF($G27="","",IFERROR($G27*'Assumptions'!$B$11,"")) | J27: =IF($G27="","",IFERROR(SUM($G27:$I27),"")) | K27: =IF($J27="","",IFERROR($J27*'Assumptions'!$B$12,"")) | L27: =IF($J27="","",IFERROR('Assumptions'!$B$13*(1+'Assumptions'!$B$14)^(($A27-1)/12),"")) | M27: =IF($J27="","",IFERROR('Assumptions'!$B$15,"")) | N27: =IF($J27="","",IFERROR($J27-SUM($K27:$M27),"")) | O27: =IF($N27="","",IFERROR('Assumptions'!$B$16,"")) | P27: =IF($N27="","",IFERROR($N27-$O27,"")) | Q27: =IF($A27="","",IF($C27=0,"Review",IF(OR($E27<'Assumptions'!$B$18,$P27<'Assumptions'!$B$17),"Review","OK")))
A28: =IF(24<='Assumptions'!$B$6,24,"") | B28: =IF($A28="","",IFERROR(EDATE('Assumptions'!$B$5,$A28-1),"")) | C28: =IF($A28="","",IFERROR(SUMIFS('Unit Mix'!$D$5:$D$104,'Unit Mix'!$A$5:$A$104,'Assumptions'!$B$4,'Unit Mix'!$I$5:$I$104,"Included"),"")) | D28: =IF(OR($A28="",$C28=0),"",IFERROR(SUMPRODUCT(('Unit Mix'!$A$5:$A$104='Assumptions'!$B$4)*('Unit Mix'!$I$5:$I$104="Included")*'Unit Mix'!$D$5:$D$104*('Unit Mix'!$F$5:$F$104+MIN(1,IFERROR(($A28-1)/'Assumptions'!$B$8,0))*('Unit Mix'!$G$5:$G$104-'Unit Mix'!$F$5:$F$104))),"")) | E28: =IF(OR($A28="",$C28=0),"",IFERROR($D28/$C28,"")) | F28: =IF(OR($A28="",$C28=0),"",IFERROR(SUMPRODUCT(('Unit Mix'!$A$5:$A$104='Assumptions'!$B$4)*('Unit Mix'!$I$5:$I$104="Included")*'Unit Mix'!$D$5:$D$104*'Unit Mix'!$E$5:$E$104)*(1+'Assumptions'!$B$7)^(($A28-1)/12),"")) | G28: =IF(OR($A28="",$C28=0),"",IFERROR(SUMPRODUCT(('Unit Mix'!$A$5:$A$104='Assumptions'!$B$4)*('Unit Mix'!$I$5:$I$104="Included")*'Unit Mix'!$D$5:$D$104*'Unit Mix'!$E$5:$E$104*('Unit Mix'!$F$5:$F$104+MIN(1,IFERROR(($A28-1)/'Assumptions'!$B$8,0))*('Unit Mix'!$G$5:$G$104-'Unit Mix'!$F$5:$F$104)))*(1+'Assumptions'!$B$7)^(($A28-1)/12),"")) | H28: =IF($G28="","",IFERROR($D28*'Assumptions'!$B$9*(1+'Assumptions'!$B$10)^(($A28-1)/12),"")) | I28: =IF($G28="","",IFERROR($G28*'Assumptions'!$B$11,"")) | J28: =IF($G28="","",IFERROR(SUM($G28:$I28),"")) | K28: =IF($J28="","",IFERROR($J28*'Assumptions'!$B$12,"")) | L28: =IF($J28="","",IFERROR('Assumptions'!$B$13*(1+'Assumptions'!$B$14)^(($A28-1)/12),"")) | M28: =IF($J28="","",IFERROR('Assumptions'!$B$15,"")) | N28: =IF($J28="","",IFERROR($J28-SUM($K28:$M28),"")) | O28: =IF($N28="","",IFERROR('Assumptions'!$B$16,"")) | P28: =IF($N28="","",IFERROR($N28-$O28,"")) | Q28: =IF($A28="","",IF($C28=0,"Review",IF(OR($E28<'Assumptions'!$B$18,$P28<'Assumptions'!$B$17),"Review","OK")))
A29: =IF(25<='Assumptions'!$B$6,25,"") | B29: =IF($A29="","",IFERROR(EDATE('Assumptions'!$B$5,$A29-1),"")) | C29: =IF($A29="","",IFERROR(SUMIFS('Unit Mix'!$D$5:$D$104,'Unit Mix'!$A$5:$A$104,'Assumptions'!$B$4,'Unit Mix'!$I$5:$I$104,"Included"),"")) | D29: =IF(OR($A29="",$C29=0),"",IFERROR(SUMPRODUCT(('Unit Mix'!$A$5:$A$104='Assumptions'!$B$4)*('Unit Mix'!$I$5:$I$104="Included")*'Unit Mix'!$D$5:$D$104*('Unit Mix'!$F$5:$F$104+MIN(1,IFERROR(($A29-1)/'Assumptions'!$B$8,0))*('Unit Mix'!$G$5:$G$104-'Unit Mix'!$F$5:$F$104))),"")) | E29: =IF(OR($A29="",$C29=0),"",IFERROR($D29/$C29,"")) | F29: =IF(OR($A29="",$C29=0),"",IFERROR(SUMPRODUCT(('Unit Mix'!$A$5:$A$104='Assumptions'!$B$4)*('Unit Mix'!$I$5:$I$104="Included")*'Unit Mix'!$D$5:$D$104*'Unit Mix'!$E$5:$E$104)*(1+'Assumptions'!$B$7)^(($A29-1)/12),"")) | G29: =IF(OR($A29="",$C29=0),"",IFERROR(SUMPRODUCT(('Unit Mix'!$A$5:$A$104='Assumptions'!$B$4)*('Unit Mix'!$I$5:$I$104="Included")*'Unit Mix'!$D$5:$D$104*'Unit Mix'!$E$5:$E$104*('Unit Mix'!$F$5:$F$104+MIN(1,IFERROR(($A29-1)/'Assumptions'!$B$8,0))*('Unit Mix'!$G$5:$G$104-'Unit Mix'!$F$5:$F$104)))*(1+'Assumptions'!$B$7)^(($A29-1)/12),"")) | H29: =IF($G29="","",IFERROR($D29*'Assumptions'!$B$9*(1+'Assumptions'!$B$10)^(($A29-1)/12),"")) | I29: =IF($G29="","",IFERROR($G29*'Assumptions'!$B$11,"")) | J29: =IF($G29="","",IFERROR(SUM($G29:$I29),"")) | K29: =IF($J29="","",IFERROR($J29*'Assumptions'!$B$12,"")) | L29: =IF($J29="","",IFERROR('Assumptions'!$B$13*(1+'Assumptions'!$B$14)^(($A29-1)/12),"")) | M29: =IF($J29="","",IFERROR('Assumptions'!$B$15,"")) | N29: =IF($J29="","",IFERROR($J29-SUM($K29:$M29),"")) | O29: =IF($N29="","",IFERROR('Assumptions'!$B$16,"")) | P29: =IF($N29="","",IFERROR($N29-$O29,"")) | Q29: =IF($A29="","",IF($C29=0,"Review",IF(OR($E29<'Assumptions'!$B$18,$P29<'Assumptions'!$B$17),"Review","OK")))
A30: =IF(26<='Assumptions'!$B$6,26,"") | B30: =IF($A30="","",IFERROR(EDATE('Assumptions'!$B$5,$A30-1),"")) | C30: =IF($A30="","",IFERROR(SUMIFS('Unit Mix'!$D$5:$D$104,'Unit Mix'!$A$5:$A$104,'Assumptions'!$B$4,'Unit Mix'!$I$5:$I$104,"Included"),"")) | D30: =IF(OR($A30="",$C30=0),"",IFERROR(SUMPRODUCT(('Unit Mix'!$A$5:$A$104='Assumptions'!$B$4)*('Unit Mix'!$I$5:$I$104="Included")*'Unit Mix'!$D$5:$D$104*('Unit Mix'!$F$5:$F$104+MIN(1,IFERROR(($A30-1)/'Assumptions'!$B$8,0))*('Unit Mix'!$G$5:$G$104-'Unit Mix'!$F$5:$F$104))),"")) | E30: =IF(OR($A30="",$C30=0),"",IFERROR($D30/$C30,"")) | F30: =IF(OR($A30="",$C30=0),"",IFERROR(SUMPRODUCT(('Unit Mix'!$A$5:$A$104='Assumptions'!$B$4)*('Unit Mix'!$I$5:$I$104="Included")*'Unit Mix'!$D$5:$D$104*'Unit Mix'!$E$5:$E$104)*(1+'Assumptions'!$B$7)^(($A30-1)/12),"")) | G30: =IF(OR($A30="",$C30=0),"",IFERROR(SUMPRODUCT(('Unit Mix'!$A$5:$A$104='Assumptions'!$B$4)*('Unit Mix'!$I$5:$I$104="Included")*'Unit Mix'!$D$5:$D$104*'Unit Mix'!$E$5:$E$104*('Unit Mix'!$F$5:$F$104+MIN(1,IFERROR(($A30-1)/'Assumptions'!$B$8,0))*('Unit Mix'!$G$5:$G$104-'Unit Mix'!$F$5:$F$104)))*(1+'Assumptions'!$B$7)^(($A30-1)/12),"")) | H30: =IF($G30="","",IFERROR($D30*'Assumptions'!$B$9*(1+'Assumptions'!$B$10)^(($A30-1)/12),"")) | I30: =IF($G30="","",IFERROR($G30*'Assumptions'!$B$11,"")) | J30: =IF($G30="","",IFERROR(SUM($G30:$I30),"")) | K30: =IF($J30="","",IFERROR($J30*'Assumptions'!$B$12,"")) | L30: =IF($J30="","",IFERROR('Assumptions'!$B$13*(1+'Assumptions'!$B$14)^(($A30-1)/12),"")) | M30: =IF($J30="","",IFERROR('Assumptions'!$B$15,"")) | N30: =IF($J30="","",IFERROR($J30-SUM($K30:$M30),"")) | O30: =IF($N30="","",IFERROR('Assumptions'!$B$16,"")) | P30: =IF($N30="","",IFERROR($N30-$O30,"")) | Q30: =IF($A30="","",IF($C30=0,"Review",IF(OR($E30<'Assumptions'!$B$18,$P30<'Assumptions'!$B$17),"Review","OK")))
