Workbook

Sheet Summary
A1: Self Storage Operating Budget Summary
A2: Calculated indicators for entered fictional budget and actual records.
A3: Selected Facility | B3: =IF(Assumptions!$B$7="","",Assumptions!$B$7) | D3: Entered Actual Lines | E3: =COUNTIFS('Budget Detail'!$A$4:$A$123,Assumptions!$B$7,'Budget Detail'!$E$4:$E$123,"<>")
A4: Report Year | B4: =IF(Assumptions!$B$4="","",Assumptions!$B$4) | D4: Budgeted Months | E4: =COUNT($D$15:$D$26)
A5: Actuals Through | B5: =IF(Assumptions!$B$5="","",Assumptions!$B$5) | D5: Review Flags | E5: =COUNTIF('Budget Detail'!$O$4:$O$123,"Review*")+COUNTIF('Budget Detail'!$O$4:$O$123,"Past due review")
A7: Budgeted Revenue | B7: =IF(COUNTIFS('Budget Detail'!$A$4:$A$123,Assumptions!$B$7,'Budget Detail'!$J$4:$J$123,"Revenue",'Budget Detail'!$D$4:$D$123,"<>")=0,"",IFERROR(SUMIFS('Budget Detail'!$D$4:$D$123,'Budget Detail'!$A$4:$A$123,Assumptions!$B$7,'Budget Detail'!$J$4:$J$123,"Revenue",'Budget Detail'!$C$4:$C$123,">="&DATE(Assumptions!$B$4,1,1),'Budget Detail'!$C$4:$C$123,"<="&DATE(Assumptions!$B$4,12,31)),"")) | D7: Budget NOI Through Cutoff | E7: =IF(B9="","",IFERROR(SUMIFS('Budget Detail'!$K$4:$K$123,'Budget Detail'!$A$4:$A$123,Assumptions!$B$7,'Budget Detail'!$C$4:$C$123,">="&DATE(Assumptions!$B$4,1,1),'Budget Detail'!$C$4:$C$123,"<="&Assumptions!$B$5),""))
A8: Budgeted Operating Expenses | B8: =IF(COUNTIFS('Budget Detail'!$A$4:$A$123,Assumptions!$B$7,'Budget Detail'!$J$4:$J$123,"Expense",'Budget Detail'!$D$4:$D$123,"<>")=0,"",IFERROR(SUMIFS('Budget Detail'!$D$4:$D$123,'Budget Detail'!$A$4:$A$123,Assumptions!$B$7,'Budget Detail'!$J$4:$J$123,"Expense",'Budget Detail'!$C$4:$C$123,">="&DATE(Assumptions!$B$4,1,1),'Budget Detail'!$C$4:$C$123,"<="&DATE(Assumptions!$B$4,12,31)),"")) | D8: NOI Variance | E8: =IF(OR(B12="",E7=""),"",B12-E7)
A9: Budgeted NOI | B9: =IF(COUNTIFS('Budget Detail'!$A$4:$A$123,Assumptions!$B$7,'Budget Detail'!$D$4:$D$123,"<>")=0,"",IFERROR(SUMIFS('Budget Detail'!$K$4:$K$123,'Budget Detail'!$A$4:$A$123,Assumptions!$B$7,'Budget Detail'!$C$4:$C$123,">="&DATE(Assumptions!$B$4,1,1),'Budget Detail'!$C$4:$C$123,"<="&DATE(Assumptions!$B$4,12,31)),"")) | D9: NOI Variance % | E9: =IF(E8="","",IFERROR(E8/ABS(E7),""))
A10: Actual Revenue Through Cutoff | B10: =IF(COUNTIFS('Budget Detail'!$A$4:$A$123,Assumptions!$B$7,'Budget Detail'!$J$4:$J$123,"Revenue",'Budget Detail'!$E$4:$E$123,"<>",'Budget Detail'!$C$4:$C$123,"<="&Assumptions!$B$5)=0,"",IFERROR(SUMIFS('Budget Detail'!$E$4:$E$123,'Budget Detail'!$A$4:$A$123,Assumptions!$B$7,'Budget Detail'!$J$4:$J$123,"Revenue",'Budget Detail'!$C$4:$C$123,"<="&Assumptions!$B$5),"")) | D10: Projected Year-End NOI | E10: =IF(B9="","",IFERROR(SUMIFS('Budget Detail'!$L$4:$L$123,'Budget Detail'!$A$4:$A$123,Assumptions!$B$7,'Budget Detail'!$C$4:$C$123,"<="&Assumptions!$B$5)+SUMIFS('Budget Detail'!$K$4:$K$123,'Budget Detail'!$A$4:$A$123,Assumptions!$B$7,'Budget Detail'!$C$4:$C$123,"<="&Assumptions!$B$5,'Budget Detail'!$E$4:$E$123,"")+SUMIFS('Budget Detail'!$K$4:$K$123,'Budget Detail'!$A$4:$A$123,Assumptions!$B$7,'Budget Detail'!$C$4:$C$123,">"&Assumptions!$B$5,'Budget Detail'!$C$4:$C$123,"<="&DATE(Assumptions!$B$4,12,31)),""))
A11: Actual Expenses Through Cutoff | B11: =IF(COUNTIFS('Budget Detail'!$A$4:$A$123,Assumptions!$B$7,'Budget Detail'!$J$4:$J$123,"Expense",'Budget Detail'!$E$4:$E$123,"<>",'Budget Detail'!$C$4:$C$123,"<="&Assumptions!$B$5)=0,"",IFERROR(SUMIFS('Budget Detail'!$E$4:$E$123,'Budget Detail'!$A$4:$A$123,Assumptions!$B$7,'Budget Detail'!$J$4:$J$123,"Expense",'Budget Detail'!$C$4:$C$123,"<="&Assumptions!$B$5),"")) | D11: Entered Budget Lines | E11: =COUNTIFS('Budget Detail'!$A$4:$A$123,Assumptions!$B$7,'Budget Detail'!$D$4:$D$123,"<>")
A12: Actual NOI Through Cutoff | B12: =IF(COUNTIFS('Budget Detail'!$A$4:$A$123,Assumptions!$B$7,'Budget Detail'!$E$4:$E$123,"<>",'Budget Detail'!$C$4:$C$123,"<="&Assumptions!$B$5)=0,"",IFERROR(SUMIFS('Budget Detail'!$L$4:$L$123,'Budget Detail'!$A$4:$A$123,Assumptions!$B$7,'Budget Detail'!$C$4:$C$123,"<="&Assumptions!$B$5),"")) | D12: Projected Account Lines | E12: =COUNT('Account Review'!$H$4:$H$15)
A14: Period | B14: Budget Revenue | C14: Budget Expenses | D14: Budget NOI | E14: Actual NOI | F14: Variance $ | G14: Variance %
A15: =DATE(Assumptions!$B$4,1,1) | B15: =IF(COUNTIFS('Budget Detail'!$A$4:$A$123,Assumptions!$B$7,'Budget Detail'!$C$4:$C$123,$A15,'Budget Detail'!$J$4:$J$123,"Revenue",'Budget Detail'!$D$4:$D$123,"<>")=0,"",IFERROR(SUMIFS('Budget Detail'!$D$4:$D$123,'Budget Detail'!$A$4:$A$123,Assumptions!$B$7,'Budget Detail'!$C$4:$C$123,$A15,'Budget Detail'!$J$4:$J$123,"Revenue"),"")) | C15: =IF(COUNTIFS('Budget Detail'!$A$4:$A$123,Assumptions!$B$7,'Budget Detail'!$C$4:$C$123,$A15,'Budget Detail'!$J$4:$J$123,"Expense",'Budget Detail'!$D$4:$D$123,"<>")=0,"",IFERROR(SUMIFS('Budget Detail'!$D$4:$D$123,'Budget Detail'!$A$4:$A$123,Assumptions!$B$7,'Budget Detail'!$C$4:$C$123,$A15,'Budget Detail'!$J$4:$J$123,"Expense"),"")) | D15: =IF(COUNTIFS('Budget Detail'!$A$4:$A$123,Assumptions!$B$7,'Budget Detail'!$C$4:$C$123,$A15,'Budget Detail'!$D$4:$D$123,"<>")=0,"",IFERROR(SUMIFS('Budget Detail'!$K$4:$K$123,'Budget Detail'!$A$4:$A$123,Assumptions!$B$7,'Budget Detail'!$C$4:$C$123,$A15),"")) | E15: =IF(COUNTIFS('Budget Detail'!$A$4:$A$123,Assumptions!$B$7,'Budget Detail'!$C$4:$C$123,$A15,'Budget Detail'!$E$4:$E$123,"<>")=0,"",IFERROR(SUMIFS('Budget Detail'!$L$4:$L$123,'Budget Detail'!$A$4:$A$123,Assumptions!$B$7,'Budget Detail'!$C$4:$C$123,$A15),"")) | F15: =IF(OR(D15="",E15=""),"",E15-D15) | G15: =IF(F15="","",IFERROR(F15/ABS(D15),""))
A16: =DATE(Assumptions!$B$4,2,1) | B16: =IF(COUNTIFS('Budget Detail'!$A$4:$A$123,Assumptions!$B$7,'Budget Detail'!$C$4:$C$123,$A16,'Budget Detail'!$J$4:$J$123,"Revenue",'Budget Detail'!$D$4:$D$123,"<>")=0,"",IFERROR(SUMIFS('Budget Detail'!$D$4:$D$123,'Budget Detail'!$A$4:$A$123,Assumptions!$B$7,'Budget Detail'!$C$4:$C$123,$A16,'Budget Detail'!$J$4:$J$123,"Revenue"),"")) | C16: =IF(COUNTIFS('Budget Detail'!$A$4:$A$123,Assumptions!$B$7,'Budget Detail'!$C$4:$C$123,$A16,'Budget Detail'!$J$4:$J$123,"Expense",'Budget Detail'!$D$4:$D$123,"<>")=0,"",IFERROR(SUMIFS('Budget Detail'!$D$4:$D$123,'Budget Detail'!$A$4:$A$123,Assumptions!$B$7,'Budget Detail'!$C$4:$C$123,$A16,'Budget Detail'!$J$4:$J$123,"Expense"),"")) | D16: =IF(COUNTIFS('Budget Detail'!$A$4:$A$123,Assumptions!$B$7,'Budget Detail'!$C$4:$C$123,$A16,'Budget Detail'!$D$4:$D$123,"<>")=0,"",IFERROR(SUMIFS('Budget Detail'!$K$4:$K$123,'Budget Detail'!$A$4:$A$123,Assumptions!$B$7,'Budget Detail'!$C$4:$C$123,$A16),"")) | E16: =IF(COUNTIFS('Budget Detail'!$A$4:$A$123,Assumptions!$B$7,'Budget Detail'!$C$4:$C$123,$A16,'Budget Detail'!$E$4:$E$123,"<>")=0,"",IFERROR(SUMIFS('Budget Detail'!$L$4:$L$123,'Budget Detail'!$A$4:$A$123,Assumptions!$B$7,'Budget Detail'!$C$4:$C$123,$A16),"")) | F16: =IF(OR(D16="",E16=""),"",E16-D16) | G16: =IF(F16="","",IFERROR(F16/ABS(D16),""))
A17: =DATE(Assumptions!$B$4,3,1) | B17: =IF(COUNTIFS('Budget Detail'!$A$4:$A$123,Assumptions!$B$7,'Budget Detail'!$C$4:$C$123,$A17,'Budget Detail'!$J$4:$J$123,"Revenue",'Budget Detail'!$D$4:$D$123,"<>")=0,"",IFERROR(SUMIFS('Budget Detail'!$D$4:$D$123,'Budget Detail'!$A$4:$A$123,Assumptions!$B$7,'Budget Detail'!$C$4:$C$123,$A17,'Budget Detail'!$J$4:$J$123,"Revenue"),"")) | C17: =IF(COUNTIFS('Budget Detail'!$A$4:$A$123,Assumptions!$B$7,'Budget Detail'!$C$4:$C$123,$A17,'Budget Detail'!$J$4:$J$123,"Expense",'Budget Detail'!$D$4:$D$123,"<>")=0,"",IFERROR(SUMIFS('Budget Detail'!$D$4:$D$123,'Budget Detail'!$A$4:$A$123,Assumptions!$B$7,'Budget Detail'!$C$4:$C$123,$A17,'Budget Detail'!$J$4:$J$123,"Expense"),"")) | D17: =IF(COUNTIFS('Budget Detail'!$A$4:$A$123,Assumptions!$B$7,'Budget Detail'!$C$4:$C$123,$A17,'Budget Detail'!$D$4:$D$123,"<>")=0,"",IFERROR(SUMIFS('Budget Detail'!$K$4:$K$123,'Budget Detail'!$A$4:$A$123,Assumptions!$B$7,'Budget Detail'!$C$4:$C$123,$A17),"")) | E17: =IF(COUNTIFS('Budget Detail'!$A$4:$A$123,Assumptions!$B$7,'Budget Detail'!$C$4:$C$123,$A17,'Budget Detail'!$E$4:$E$123,"<>")=0,"",IFERROR(SUMIFS('Budget Detail'!$L$4:$L$123,'Budget Detail'!$A$4:$A$123,Assumptions!$B$7,'Budget Detail'!$C$4:$C$123,$A17),"")) | F17: =IF(OR(D17="",E17=""),"",E17-D17) | G17: =IF(F17="","",IFERROR(F17/ABS(D17),""))
A18: =DATE(Assumptions!$B$4,4,1) | B18: =IF(COUNTIFS('Budget Detail'!$A$4:$A$123,Assumptions!$B$7,'Budget Detail'!$C$4:$C$123,$A18,'Budget Detail'!$J$4:$J$123,"Revenue",'Budget Detail'!$D$4:$D$123,"<>")=0,"",IFERROR(SUMIFS('Budget Detail'!$D$4:$D$123,'Budget Detail'!$A$4:$A$123,Assumptions!$B$7,'Budget Detail'!$C$4:$C$123,$A18,'Budget Detail'!$J$4:$J$123,"Revenue"),"")) | C18: =IF(COUNTIFS('Budget Detail'!$A$4:$A$123,Assumptions!$B$7,'Budget Detail'!$C$4:$C$123,$A18,'Budget Detail'!$J$4:$J$123,"Expense",'Budget Detail'!$D$4:$D$123,"<>")=0,"",IFERROR(SUMIFS('Budget Detail'!$D$4:$D$123,'Budget Detail'!$A$4:$A$123,Assumptions!$B$7,'Budget Detail'!$C$4:$C$123,$A18,'Budget Detail'!$J$4:$J$123,"Expense"),"")) | D18: =IF(COUNTIFS('Budget Detail'!$A$4:$A$123,Assumptions!$B$7,'Budget Detail'!$C$4:$C$123,$A18,'Budget Detail'!$D$4:$D$123,"<>")=0,"",IFERROR(SUMIFS('Budget Detail'!$K$4:$K$123,'Budget Detail'!$A$4:$A$123,Assumptions!$B$7,'Budget Detail'!$C$4:$C$123,$A18),"")) | E18: =IF(COUNTIFS('Budget Detail'!$A$4:$A$123,Assumptions!$B$7,'Budget Detail'!$C$4:$C$123,$A18,'Budget Detail'!$E$4:$E$123,"<>")=0,"",IFERROR(SUMIFS('Budget Detail'!$L$4:$L$123,'Budget Detail'!$A$4:$A$123,Assumptions!$B$7,'Budget Detail'!$C$4:$C$123,$A18),"")) | F18: =IF(OR(D18="",E18=""),"",E18-D18) | G18: =IF(F18="","",IFERROR(F18/ABS(D18),""))
A19: =DATE(Assumptions!$B$4,5,1) | B19: =IF(COUNTIFS('Budget Detail'!$A$4:$A$123,Assumptions!$B$7,'Budget Detail'!$C$4:$C$123,$A19,'Budget Detail'!$J$4:$J$123,"Revenue",'Budget Detail'!$D$4:$D$123,"<>")=0,"",IFERROR(SUMIFS('Budget Detail'!$D$4:$D$123,'Budget Detail'!$A$4:$A$123,Assumptions!$B$7,'Budget Detail'!$C$4:$C$123,$A19,'Budget Detail'!$J$4:$J$123,"Revenue"),"")) | C19: =IF(COUNTIFS('Budget Detail'!$A$4:$A$123,Assumptions!$B$7,'Budget Detail'!$C$4:$C$123,$A19,'Budget Detail'!$J$4:$J$123,"Expense",'Budget Detail'!$D$4:$D$123,"<>")=0,"",IFERROR(SUMIFS('Budget Detail'!$D$4:$D$123,'Budget Detail'!$A$4:$A$123,Assumptions!$B$7,'Budget Detail'!$C$4:$C$123,$A19,'Budget Detail'!$J$4:$J$123,"Expense"),"")) | D19: =IF(COUNTIFS('Budget Detail'!$A$4:$A$123,Assumptions!$B$7,'Budget Detail'!$C$4:$C$123,$A19,'Budget Detail'!$D$4:$D$123,"<>")=0,"",IFERROR(SUMIFS('Budget Detail'!$K$4:$K$123,'Budget Detail'!$A$4:$A$123,Assumptions!$B$7,'Budget Detail'!$C$4:$C$123,$A19),"")) | E19: =IF(COUNTIFS('Budget Detail'!$A$4:$A$123,Assumptions!$B$7,'Budget Detail'!$C$4:$C$123,$A19,'Budget Detail'!$E$4:$E$123,"<>")=0,"",IFERROR(SUMIFS('Budget Detail'!$L$4:$L$123,'Budget Detail'!$A$4:$A$123,Assumptions!$B$7,'Budget Detail'!$C$4:$C$123,$A19),"")) | F19: =IF(OR(D19="",E19=""),"",E19-D19) | G19: =IF(F19="","",IFERROR(F19/ABS(D19),""))
A20: =DATE(Assumptions!$B$4,6,1) | B20: =IF(COUNTIFS('Budget Detail'!$A$4:$A$123,Assumptions!$B$7,'Budget Detail'!$C$4:$C$123,$A20,'Budget Detail'!$J$4:$J$123,"Revenue",'Budget Detail'!$D$4:$D$123,"<>")=0,"",IFERROR(SUMIFS('Budget Detail'!$D$4:$D$123,'Budget Detail'!$A$4:$A$123,Assumptions!$B$7,'Budget Detail'!$C$4:$C$123,$A20,'Budget Detail'!$J$4:$J$123,"Revenue"),"")) | C20: =IF(COUNTIFS('Budget Detail'!$A$4:$A$123,Assumptions!$B$7,'Budget Detail'!$C$4:$C$123,$A20,'Budget Detail'!$J$4:$J$123,"Expense",'Budget Detail'!$D$4:$D$123,"<>")=0,"",IFERROR(SUMIFS('Budget Detail'!$D$4:$D$123,'Budget Detail'!$A$4:$A$123,Assumptions!$B$7,'Budget Detail'!$C$4:$C$123,$A20,'Budget Detail'!$J$4:$J$123,"Expense"),"")) | D20: =IF(COUNTIFS('Budget Detail'!$A$4:$A$123,Assumptions!$B$7,'Budget Detail'!$C$4:$C$123,$A20,'Budget Detail'!$D$4:$D$123,"<>")=0,"",IFERROR(SUMIFS('Budget Detail'!$K$4:$K$123,'Budget Detail'!$A$4:$A$123,Assumptions!$B$7,'Budget Detail'!$C$4:$C$123,$A20),"")) | E20: =IF(COUNTIFS('Budget Detail'!$A$4:$A$123,Assumptions!$B$7,'Budget Detail'!$C$4:$C$123,$A20,'Budget Detail'!$E$4:$E$123,"<>")=0,"",IFERROR(SUMIFS('Budget Detail'!$L$4:$L$123,'Budget Detail'!$A$4:$A$123,Assumptions!$B$7,'Budget Detail'!$C$4:$C$123,$A20),"")) | F20: =IF(OR(D20="",E20=""),"",E20-D20) | G20: =IF(F20="","",IFERROR(F20/ABS(D20),""))
A21: =DATE(Assumptions!$B$4,7,1) | B21: =IF(COUNTIFS('Budget Detail'!$A$4:$A$123,Assumptions!$B$7,'Budget Detail'!$C$4:$C$123,$A21,'Budget Detail'!$J$4:$J$123,"Revenue",'Budget Detail'!$D$4:$D$123,"<>")=0,"",IFERROR(SUMIFS('Budget Detail'!$D$4:$D$123,'Budget Detail'!$A$4:$A$123,Assumptions!$B$7,'Budget Detail'!$C$4:$C$123,$A21,'Budget Detail'!$J$4:$J$123,"Revenue"),"")) | C21: =IF(COUNTIFS('Budget Detail'!$A$4:$A$123,Assumptions!$B$7,'Budget Detail'!$C$4:$C$123,$A21,'Budget Detail'!$J$4:$J$123,"Expense",'Budget Detail'!$D$4:$D$123,"<>")=0,"",IFERROR(SUMIFS('Budget Detail'!$D$4:$D$123,'Budget Detail'!$A$4:$A$123,Assumptions!$B$7,'Budget Detail'!$C$4:$C$123,$A21,'Budget Detail'!$J$4:$J$123,"Expense"),"")) | D21: =IF(COUNTIFS('Budget Detail'!$A$4:$A$123,Assumptions!$B$7,'Budget Detail'!$C$4:$C$123,$A21,'Budget Detail'!$D$4:$D$123,"<>")=0,"",IFERROR(SUMIFS('Budget Detail'!$K$4:$K$123,'Budget Detail'!$A$4:$A$123,Assumptions!$B$7,'Budget Detail'!$C$4:$C$123,$A21),"")) | E21: =IF(COUNTIFS('Budget Detail'!$A$4:$A$123,Assumptions!$B$7,'Budget Detail'!$C$4:$C$123,$A21,'Budget Detail'!$E$4:$E$123,"<>")=0,"",IFERROR(SUMIFS('Budget Detail'!$L$4:$L$123,'Budget Detail'!$A$4:$A$123,Assumptions!$B$7,'Budget Detail'!$C$4:$C$123,$A21),"")) | F21: =IF(OR(D21="",E21=""),"",E21-D21) | G21: =IF(F21="","",IFERROR(F21/ABS(D21),""))
A22: =DATE(Assumptions!$B$4,8,1) | B22: =IF(COUNTIFS('Budget Detail'!$A$4:$A$123,Assumptions!$B$7,'Budget Detail'!$C$4:$C$123,$A22,'Budget Detail'!$J$4:$J$123,"Revenue",'Budget Detail'!$D$4:$D$123,"<>")=0,"",IFERROR(SUMIFS('Budget Detail'!$D$4:$D$123,'Budget Detail'!$A$4:$A$123,Assumptions!$B$7,'Budget Detail'!$C$4:$C$123,$A22,'Budget Detail'!$J$4:$J$123,"Revenue"),"")) | C22: =IF(COUNTIFS('Budget Detail'!$A$4:$A$123,Assumptions!$B$7,'Budget Detail'!$C$4:$C$123,$A22,'Budget Detail'!$J$4:$J$123,"Expense",'Budget Detail'!$D$4:$D$123,"<>")=0,"",IFERROR(SUMIFS('Budget Detail'!$D$4:$D$123,'Budget Detail'!$A$4:$A$123,Assumptions!$B$7,'Budget Detail'!$C$4:$C$123,$A22,'Budget Detail'!$J$4:$J$123,"Expense"),"")) | D22: =IF(COUNTIFS('Budget Detail'!$A$4:$A$123,Assumptions!$B$7,'Budget Detail'!$C$4:$C$123,$A22,'Budget Detail'!$D$4:$D$123,"<>")=0,"",IFERROR(SUMIFS('Budget Detail'!$K$4:$K$123,'Budget Detail'!$A$4:$A$123,Assumptions!$B$7,'Budget Detail'!$C$4:$C$123,$A22),"")) | E22: =IF(COUNTIFS('Budget Detail'!$A$4:$A$123,Assumptions!$B$7,'Budget Detail'!$C$4:$C$123,$A22,'Budget Detail'!$E$4:$E$123,"<>")=0,"",IFERROR(SUMIFS('Budget Detail'!$L$4:$L$123,'Budget Detail'!$A$4:$A$123,Assumptions!$B$7,'Budget Detail'!$C$4:$C$123,$A22),"")) | F22: =IF(OR(D22="",E22=""),"",E22-D22) | G22: =IF(F22="","",IFERROR(F22/ABS(D22),""))
A23: =DATE(Assumptions!$B$4,9,1) | B23: =IF(COUNTIFS('Budget Detail'!$A$4:$A$123,Assumptions!$B$7,'Budget Detail'!$C$4:$C$123,$A23,'Budget Detail'!$J$4:$J$123,"Revenue",'Budget Detail'!$D$4:$D$123,"<>")=0,"",IFERROR(SUMIFS('Budget Detail'!$D$4:$D$123,'Budget Detail'!$A$4:$A$123,Assumptions!$B$7,'Budget Detail'!$C$4:$C$123,$A23,'Budget Detail'!$J$4:$J$123,"Revenue"),"")) | C23: =IF(COUNTIFS('Budget Detail'!$A$4:$A$123,Assumptions!$B$7,'Budget Detail'!$C$4:$C$123,$A23,'Budget Detail'!$J$4:$J$123,"Expense",'Budget Detail'!$D$4:$D$123,"<>")=0,"",IFERROR(SUMIFS('Budget Detail'!$D$4:$D$123,'Budget Detail'!$A$4:$A$123,Assumptions!$B$7,'Budget Detail'!$C$4:$C$123,$A23,'Budget Detail'!$J$4:$J$123,"Expense"),"")) | D23: =IF(COUNTIFS('Budget Detail'!$A$4:$A$123,Assumptions!$B$7,'Budget Detail'!$C$4:$C$123,$A23,'Budget Detail'!$D$4:$D$123,"<>")=0,"",IFERROR(SUMIFS('Budget Detail'!$K$4:$K$123,'Budget Detail'!$A$4:$A$123,Assumptions!$B$7,'Budget Detail'!$C$4:$C$123,$A23),"")) | E23: =IF(COUNTIFS('Budget Detail'!$A$4:$A$123,Assumptions!$B$7,'Budget Detail'!$C$4:$C$123,$A23,'Budget Detail'!$E$4:$E$123,"<>")=0,"",IFERROR(SUMIFS('Budget Detail'!$L$4:$L$123,'Budget Detail'!$A$4:$A$123,Assumptions!$B$7,'Budget Detail'!$C$4:$C$123,$A23),"")) | F23: =IF(OR(D23="",E23=""),"",E23-D23) | G23: =IF(F23="","",IFERROR(F23/ABS(D23),""))
A24: =DATE(Assumptions!$B$4,10,1) | B24: =IF(COUNTIFS('Budget Detail'!$A$4:$A$123,Assumptions!$B$7,'Budget Detail'!$C$4:$C$123,$A24,'Budget Detail'!$J$4:$J$123,"Revenue",'Budget Detail'!$D$4:$D$123,"<>")=0,"",IFERROR(SUMIFS('Budget Detail'!$D$4:$D$123,'Budget Detail'!$A$4:$A$123,Assumptions!$B$7,'Budget Detail'!$C$4:$C$123,$A24,'Budget Detail'!$J$4:$J$123,"Revenue"),"")) | C24: =IF(COUNTIFS('Budget Detail'!$A$4:$A$123,Assumptions!$B$7,'Budget Detail'!$C$4:$C$123,$A24,'Budget Detail'!$J$4:$J$123,"Expense",'Budget Detail'!$D$4:$D$123,"<>")=0,"",IFERROR(SUMIFS('Budget Detail'!$D$4:$D$123,'Budget Detail'!$A$4:$A$123,Assumptions!$B$7,'Budget Detail'!$C$4:$C$123,$A24,'Budget Detail'!$J$4:$J$123,"Expense"),"")) | D24: =IF(COUNTIFS('Budget Detail'!$A$4:$A$123,Assumptions!$B$7,'Budget Detail'!$C$4:$C$123,$A24,'Budget Detail'!$D$4:$D$123,"<>")=0,"",IFERROR(SUMIFS('Budget Detail'!$K$4:$K$123,'Budget Detail'!$A$4:$A$123,Assumptions!$B$7,'Budget Detail'!$C$4:$C$123,$A24),"")) | E24: =IF(COUNTIFS('Budget Detail'!$A$4:$A$123,Assumptions!$B$7,'Budget Detail'!$C$4:$C$123,$A24,'Budget Detail'!$E$4:$E$123,"<>")=0,"",IFERROR(SUMIFS('Budget Detail'!$L$4:$L$123,'Budget Detail'!$A$4:$A$123,Assumptions!$B$7,'Budget Detail'!$C$4:$C$123,$A24),"")) | F24: =IF(OR(D24="",E24=""),"",E24-D24) | G24: =IF(F24="","",IFERROR(F24/ABS(D24),""))
A25: =DATE(Assumptions!$B$4,11,1) | B25: =IF(COUNTIFS('Budget Detail'!$A$4:$A$123,Assumptions!$B$7,'Budget Detail'!$C$4:$C$123,$A25,'Budget Detail'!$J$4:$J$123,"Revenue",'Budget Detail'!$D$4:$D$123,"<>")=0,"",IFERROR(SUMIFS('Budget Detail'!$D$4:$D$123,'Budget Detail'!$A$4:$A$123,Assumptions!$B$7,'Budget Detail'!$C$4:$C$123,$A25,'Budget Detail'!$J$4:$J$123,"Revenue"),"")) | C25: =IF(COUNTIFS('Budget Detail'!$A$4:$A$123,Assumptions!$B$7,'Budget Detail'!$C$4:$C$123,$A25,'Budget Detail'!$J$4:$J$123,"Expense",'Budget Detail'!$D$4:$D$123,"<>")=0,"",IFERROR(SUMIFS('Budget Detail'!$D$4:$D$123,'Budget Detail'!$A$4:$A$123,Assumptions!$B$7,'Budget Detail'!$C$4:$C$123,$A25,'Budget Detail'!$J$4:$J$123,"Expense"),"")) | D25: =IF(COUNTIFS('Budget Detail'!$A$4:$A$123,Assumptions!$B$7,'Budget Detail'!$C$4:$C$123,$A25,'Budget Detail'!$D$4:$D$123,"<>")=0,"",IFERROR(SUMIFS('Budget Detail'!$K$4:$K$123,'Budget Detail'!$A$4:$A$123,Assumptions!$B$7,'Budget Detail'!$C$4:$C$123,$A25),"")) | E25: =IF(COUNTIFS('Budget Detail'!$A$4:$A$123,Assumptions!$B$7,'Budget Detail'!$C$4:$C$123,$A25,'Budget Detail'!$E$4:$E$123,"<>")=0,"",IFERROR(SUMIFS('Budget Detail'!$L$4:$L$123,'Budget Detail'!$A$4:$A$123,Assumptions!$B$7,'Budget Detail'!$C$4:$C$123,$A25),"")) | F25: =IF(OR(D25="",E25=""),"",E25-D25) | G25: =IF(F25="","",IFERROR(F25/ABS(D25),""))
A26: =DATE(Assumptions!$B$4,12,1) | B26: =IF(COUNTIFS('Budget Detail'!$A$4:$A$123,Assumptions!$B$7,'Budget Detail'!$C$4:$C$123,$A26,'Budget Detail'!$J$4:$J$123,"Revenue",'Budget Detail'!$D$4:$D$123,"<>")=0,"",IFERROR(SUMIFS('Budget Detail'!$D$4:$D$123,'Budget Detail'!$A$4:$A$123,Assumptions!$B$7,'Budget Detail'!$C$4:$C$123,$A26,'Budget Detail'!$J$4:$J$123,"Revenue"),"")) | C26: =IF(COUNTIFS('Budget Detail'!$A$4:$A$123,Assumptions!$B$7,'Budget Detail'!$C$4:$C$123,$A26,'Budget Detail'!$J$4:$J$123,"Expense",'Budget Detail'!$D$4:$D$123,"<>")=0,"",IFERROR(SUMIFS('Budget Detail'!$D$4:$D$123,'Budget Detail'!$A$4:$A$123,Assumptions!$B$7,'Budget Detail'!$C$4:$C$123,$A26,'Budget Detail'!$J$4:$J$123,"Expense"),"")) | D26: =IF(COUNTIFS('Budget Detail'!$A$4:$A$123,Assumptions!$B$7,'Budget Detail'!$C$4:$C$123,$A26,'Budget Detail'!$D$4:$D$123,"<>")=0,"",IFERROR(SUMIFS('Budget Detail'!$K$4:$K$123,'Budget Detail'!$A$4:$A$123,Assumptions!$B$7,'Budget Detail'!$C$4:$C$123,$A26),"")) | E26: =IF(COUNTIFS('Budget Detail'!$A$4:$A$123,Assumptions!$B$7,'Budget Detail'!$C$4:$C$123,$A26,'Budget Detail'!$E$4:$E$123,"<>")=0,"",IFERROR(SUMIFS('Budget Detail'!$L$4:$L$123,'Budget Detail'!$A$4:$A$123,Assumptions!$B$7,'Budget Detail'!$C$4:$C$123,$A26),"")) | F26: =IF(OR(D26="",E26=""),"",E26-D26) | G26: =IF(F26="","",IFERROR(F26/ABS(D26),""))

Sheet Budget Detail
A1: Self Storage Operating Budget Detail
A2: Enter one fictional facility, account, and month per line. Yellow cells are editable; calculated cells request review when an entry needs attention.
A3: Facility | B3: Account | C3: Period | D3: Budget Amount | E3: Actual Amount | F3: Owner | G3: Status | H3: Due Date | I3: Notes | J3: Budget Class | K3: Net Budget | L3: Net Actual | M3: Variance $ | N3: Variance % | O3: Review Flag
A4: Fictional Cedar Lantern Storage | B4: Net Rental Revenue | C4: 46023 | D4: 46000 | E4: 45500 | F4: Alex Example | G4: Reviewed | H4: 46063 | I4: Fictional January example; complete other account lines as needed. | J4: =IF(OR(A4="",B4=""),"",IFERROR(VLOOKUP(B4,Assumptions!$F$4:$G$15,2,FALSE),"Review account")) | K4: =IF(OR(C4="",D4="",J4=""),"",IF(J4="Revenue",D4,IF(J4="Expense",-D4,""))) | L4: =IF(OR(C4="",E4="",J4=""),"",IF(J4="Revenue",E4,IF(J4="Expense",-E4,""))) | M4: =IF(OR(K4="",L4=""),"",L4-K4) | N4: =IF(OR(K4="",M4=""),"",IFERROR(M4/ABS(K4),"")) | O4: =IF(A4="","",IFERROR(IF(OR(B4="",C4="",D4="",F4="",G4=""),"Review incomplete row",IF(YEAR(C4)<>Assumptions!$B$4,"Review period",IF(J4="Review account","Review account",IF(AND(D4=0,E4<>"",E4>0),"Review unbudgeted actual",IF(AND(N4<>"",ABS(N4)>=Assumptions!$B$6),"Review variance",IF(AND(G4="Needs review",H4=""),"Review missing due date",IF(AND(G4="Needs review",H4<>"",TODAY()>H4),"Past due review",""))))))),"Review entry")) | Q4: =IF(ROW()<=6,Assumptions!D4,"") | R4: =IF(ROW()<=15,Assumptions!F4,"") | S4: =IF(ROW()<=7,Assumptions!I4,"") | T4: =IF(ROW()<=7,Assumptions!K4,"") | U4: =Assumptions!B4
A5: Fictional Cedar Lantern Storage | B5: Payroll and Benefits | C5: 46054 | D5: 13200 | E5: 13650 | F5: Morgan Example | G5: Reviewed | H5: 46091 | I5: Fictional February example; complete other account lines as needed. | J5: =IF(OR(A5="",B5=""),"",IFERROR(VLOOKUP(B5,Assumptions!$F$4:$G$15,2,FALSE),"Review account")) | K5: =IF(OR(C5="",D5="",J5=""),"",IF(J5="Revenue",D5,IF(J5="Expense",-D5,""))) | L5: =IF(OR(C5="",E5="",J5=""),"",IF(J5="Revenue",E5,IF(J5="Expense",-E5,""))) | M5: =IF(OR(K5="",L5=""),"",L5-K5) | N5: =IF(OR(K5="",M5=""),"",IFERROR(M5/ABS(K5),"")) | O5: =IF(A5="","",IFERROR(IF(OR(B5="",C5="",D5="",F5="",G5=""),"Review incomplete row",IF(YEAR(C5)<>Assumptions!$B$4,"Review period",IF(J5="Review account","Review account",IF(AND(D5=0,E5<>"",E5>0),"Review unbudgeted actual",IF(AND(N5<>"",ABS(N5)>=Assumptions!$B$6),"Review variance",IF(AND(G5="Needs review",H5=""),"Review missing due date",IF(AND(G5="Needs review",H5<>"",TODAY()>H5),"Past due review",""))))))),"Review entry")) | Q5: =IF(ROW()<=6,Assumptions!D5,"") | R5: =IF(ROW()<=15,Assumptions!F5,"") | S5: =IF(ROW()<=7,Assumptions!I5,"") | T5: =IF(ROW()<=7,Assumptions!K5,"") | U5: =Assumptions!B8
A6: Fictional Cedar Lantern Storage | B6: Utilities | C6: 46082 | D6: 3800 | E6: 3650 | F6: Casey Example | G6: Reviewed | H6: 46122 | I6: Fictional March example; complete other account lines as needed. | J6: =IF(OR(A6="",B6=""),"",IFERROR(VLOOKUP(B6,Assumptions!$F$4:$G$15,2,FALSE),"Review account")) | K6: =IF(OR(C6="",D6="",J6=""),"",IF(J6="Revenue",D6,IF(J6="Expense",-D6,""))) | L6: =IF(OR(C6="",E6="",J6=""),"",IF(J6="Revenue",E6,IF(J6="Expense",-E6,""))) | M6: =IF(OR(K6="",L6=""),"",L6-K6) | N6: =IF(OR(K6="",M6=""),"",IFERROR(M6/ABS(K6),"")) | O6: =IF(A6="","",IFERROR(IF(OR(B6="",C6="",D6="",F6="",G6=""),"Review incomplete row",IF(YEAR(C6)<>Assumptions!$B$4,"Review period",IF(J6="Review account","Review account",IF(AND(D6=0,E6<>"",E6>0),"Review unbudgeted actual",IF(AND(N6<>"",ABS(N6)>=Assumptions!$B$6),"Review variance",IF(AND(G6="Needs review",H6=""),"Review missing due date",IF(AND(G6="Needs review",H6<>"",TODAY()>H6),"Past due review",""))))))),"Review entry")) | Q6: =IF(ROW()<=6,Assumptions!D6,"") | R6: =IF(ROW()<=15,Assumptions!F6,"") | S6: =IF(ROW()<=7,Assumptions!I6,"") | T6: =IF(ROW()<=7,Assumptions!K6,"")
A7: Fictional Cedar Lantern Storage | B7: Repairs and Maintenance | C7: 46113 | D7: 4500 | E7: 6100 | F7: Riley Example | G7: Reviewed | H7: 46152 | I7: Fictional April example; complete other account lines as needed. | J7: =IF(OR(A7="",B7=""),"",IFERROR(VLOOKUP(B7,Assumptions!$F$4:$G$15,2,FALSE),"Review account")) | K7: =IF(OR(C7="",D7="",J7=""),"",IF(J7="Revenue",D7,IF(J7="Expense",-D7,""))) | L7: =IF(OR(C7="",E7="",J7=""),"",IF(J7="Revenue",E7,IF(J7="Expense",-E7,""))) | M7: =IF(OR(K7="",L7=""),"",L7-K7) | N7: =IF(OR(K7="",M7=""),"",IFERROR(M7/ABS(K7),"")) | O7: =IF(A7="","",IFERROR(IF(OR(B7="",C7="",D7="",F7="",G7=""),"Review incomplete row",IF(YEAR(C7)<>Assumptions!$B$4,"Review period",IF(J7="Review account","Review account",IF(AND(D7=0,E7<>"",E7>0),"Review unbudgeted actual",IF(AND(N7<>"",ABS(N7)>=Assumptions!$B$6),"Review variance",IF(AND(G7="Needs review",H7=""),"Review missing due date",IF(AND(G7="Needs review",H7<>"",TODAY()>H7),"Past due review",""))))))),"Review entry")) | Q7: =IF(ROW()<=6,Assumptions!D6,"") | R7: =IF(ROW()<=15,Assumptions!F7,"") | S7: =IF(ROW()<=7,Assumptions!I7,"") | T7: =IF(ROW()<=7,Assumptions!K7,"")
A8: Fictional Cedar Lantern Storage | B8: Net Rental Revenue | C8: 46143 | D8: 49000 | E8: 50100 | F8: Alex Example | G8: Reviewed | H8: 46183 | I8: Fictional May example; complete other account lines as needed. | J8: =IF(OR(A8="",B8=""),"",IFERROR(VLOOKUP(B8,Assumptions!$F$4:$G$15,2,FALSE),"Review account")) | K8: =IF(OR(C8="",D8="",J8=""),"",IF(J8="Revenue",D8,IF(J8="Expense",-D8,""))) | L8: =IF(OR(C8="",E8="",J8=""),"",IF(J8="Revenue",E8,IF(J8="Expense",-E8,""))) | M8: =IF(OR(K8="",L8=""),"",L8-K8) | N8: =IF(OR(K8="",M8=""),"",IFERROR(M8/ABS(K8),"")) | O8: =IF(A8="","",IFERROR(IF(OR(B8="",C8="",D8="",F8="",G8=""),"Review incomplete row",IF(YEAR(C8)<>Assumptions!$B$4,"Review period",IF(J8="Review account","Review account",IF(AND(D8=0,E8<>"",E8>0),"Review unbudgeted actual",IF(AND(N8<>"",ABS(N8)>=Assumptions!$B$6),"Review variance",IF(AND(G8="Needs review",H8=""),"Review missing due date",IF(AND(G8="Needs review",H8<>"",TODAY()>H8),"Past due review",""))))))),"Review entry")) | Q8: =IF(ROW()<=6,Assumptions!D6,"") | R8: =IF(ROW()<=15,Assumptions!F8,"") | S8: =IF(ROW()<=7,Assumptions!I7,"") | T8: =IF(ROW()<=7,Assumptions!K7,"")
A9: Fictional Cedar Lantern Storage | B9: Insurance | C9: 46174 | D9: 4100 | E9: 4100 | F9: Morgan Example | G9: Reviewed | H9: 46213 | I9: Fictional June example; complete other account lines as needed. | J9: =IF(OR(A9="",B9=""),"",IFERROR(VLOOKUP(B9,Assumptions!$F$4:$G$15,2,FALSE),"Review account")) | K9: =IF(OR(C9="",D9="",J9=""),"",IF(J9="Revenue",D9,IF(J9="Expense",-D9,""))) | L9: =IF(OR(C9="",E9="",J9=""),"",IF(J9="Revenue",E9,IF(J9="Expense",-E9,""))) | M9: =IF(OR(K9="",L9=""),"",L9-K9) | N9: =IF(OR(K9="",M9=""),"",IFERROR(M9/ABS(K9),"")) | O9: =IF(A9="","",IFERROR(IF(OR(B9="",C9="",D9="",F9="",G9=""),"Review incomplete row",IF(YEAR(C9)<>Assumptions!$B$4,"Review period",IF(J9="Review account","Review account",IF(AND(D9=0,E9<>"",E9>0),"Review unbudgeted actual",IF(AND(N9<>"",ABS(N9)>=Assumptions!$B$6),"Review variance",IF(AND(G9="Needs review",H9=""),"Review missing due date",IF(AND(G9="Needs review",H9<>"",TODAY()>H9),"Past due review",""))))))),"Review entry")) | Q9: =IF(ROW()<=6,Assumptions!D6,"") | R9: =IF(ROW()<=15,Assumptions!F9,"") | S9: =IF(ROW()<=7,Assumptions!I7,"") | T9: =IF(ROW()<=7,Assumptions!K7,"")
A10: Fictional Cedar Lantern Storage | B10: Late and Other Fees | C10: 46204 | D10: 2600 | E10: 2750 | F10: Casey Example | G10: Reviewed | H10: 46244 | I10: Fictional July example; complete other account lines as needed. | J10: =IF(OR(A10="",B10=""),"",IFERROR(VLOOKUP(B10,Assumptions!$F$4:$G$15,2,FALSE),"Review account")) | K10: =IF(OR(C10="",D10="",J10=""),"",IF(J10="Revenue",D10,IF(J10="Expense",-D10,""))) | L10: =IF(OR(C10="",E10="",J10=""),"",IF(J10="Revenue",E10,IF(J10="Expense",-E10,""))) | M10: =IF(OR(K10="",L10=""),"",L10-K10) | N10: =IF(OR(K10="",M10=""),"",IFERROR(M10/ABS(K10),"")) | O10: =IF(A10="","",IFERROR(IF(OR(B10="",C10="",D10="",F10="",G10=""),"Review incomplete row",IF(YEAR(C10)<>Assumptions!$B$4,"Review period",IF(J10="Review account","Review account",IF(AND(D10=0,E10<>"",E10>0),"Review unbudgeted actual",IF(AND(N10<>"",ABS(N10)>=Assumptions!$B$6),"Review variance",IF(AND(G10="Needs review",H10=""),"Review missing due date",IF(AND(G10="Needs review",H10<>"",TODAY()>H10),"Past due review",""))))))),"Review entry")) | Q10: =IF(ROW()<=6,Assumptions!D6,"") | R10: =IF(ROW()<=15,Assumptions!F10,"") | S10: =IF(ROW()<=7,Assumptions!I7,"") | T10: =IF(ROW()<=7,Assumptions!K7,"")
A11: Fictional Cedar Lantern Storage | B11: Marketing | C11: 46235 | D11: 0 | E11: 2500 | F11: Riley Example | G11: Needs review | H11: 46275 | I11: Fictional August example; complete other account lines as needed. | J11: =IF(OR(A11="",B11=""),"",IFERROR(VLOOKUP(B11,Assumptions!$F$4:$G$15,2,FALSE),"Review account")) | K11: =IF(OR(C11="",D11="",J11=""),"",IF(J11="Revenue",D11,IF(J11="Expense",-D11,""))) | L11: =IF(OR(C11="",E11="",J11=""),"",IF(J11="Revenue",E11,IF(J11="Expense",-E11,""))) | M11: =IF(OR(K11="",L11=""),"",L11-K11) | N11: =IF(OR(K11="",M11=""),"",IFERROR(M11/ABS(K11),"")) | O11: =IF(A11="","",IFERROR(IF(OR(B11="",C11="",D11="",F11="",G11=""),"Review incomplete row",IF(YEAR(C11)<>Assumptions!$B$4,"Review period",IF(J11="Review account","Review account",IF(AND(D11=0,E11<>"",E11>0),"Review unbudgeted actual",IF(AND(N11<>"",ABS(N11)>=Assumptions!$B$6),"Review variance",IF(AND(G11="Needs review",H11=""),"Review missing due date",IF(AND(G11="Needs review",H11<>"",TODAY()>H11),"Past due review",""))))))),"Review entry")) | Q11: =IF(ROW()<=6,Assumptions!D6,"") | R11: =IF(ROW()<=15,Assumptions!F11,"") | S11: =IF(ROW()<=7,Assumptions!I7,"") | T11: =IF(ROW()<=7,Assumptions!K7,"")
A12: Fictional Cedar Lantern Storage | B12: Net Rental Revenue | C12: 46266 | D12: 52000 | F12: Alex Example | G12: Entered | H12: 46305 | I12: Fictional September example; complete other account lines as needed. | J12: =IF(OR(A12="",B12=""),"",IFERROR(VLOOKUP(B12,Assumptions!$F$4:$G$15,2,FALSE),"Review account")) | K12: =IF(OR(C12="",D12="",J12=""),"",IF(J12="Revenue",D12,IF(J12="Expense",-D12,""))) | L12: =IF(OR(C12="",E12="",J12=""),"",IF(J12="Revenue",E12,IF(J12="Expense",-E12,""))) | M12: =IF(OR(K12="",L12=""),"",L12-K12) | N12: =IF(OR(K12="",M12=""),"",IFERROR(M12/ABS(K12),"")) | O12: =IF(A12="","",IFERROR(IF(OR(B12="",C12="",D12="",F12="",G12=""),"Review incomplete row",IF(YEAR(C12)<>Assumptions!$B$4,"Review period",IF(J12="Review account","Review account",IF(AND(D12=0,E12<>"",E12>0),"Review unbudgeted actual",IF(AND(N12<>"",ABS(N12)>=Assumptions!$B$6),"Review variance",IF(AND(G12="Needs review",H12=""),"Review missing due date",IF(AND(G12="Needs review",H12<>"",TODAY()>H12),"Past due review",""))))))),"Review entry")) | Q12: =IF(ROW()<=6,Assumptions!D6,"") | R12: =IF(ROW()<=15,Assumptions!F12,"") | S12: =IF(ROW()<=7,Assumptions!I7,"") | T12: =IF(ROW()<=7,Assumptions!K7,"")
A13: Fictional Cedar Lantern Storage | B13: Property Taxes | C13: 46296 | D13: 12500 | F13: Morgan Example | G13: Entered | H13: 46336 | I13: Fictional October example; complete other account lines as needed. | J13: =IF(OR(A13="",B13=""),"",IFERROR(VLOOKUP(B13,Assumptions!$F$4:$G$15,2,FALSE),"Review account")) | K13: =IF(OR(C13="",D13="",J13=""),"",IF(J13="Revenue",D13,IF(J13="Expense",-D13,""))) | L13: =IF(OR(C13="",E13="",J13=""),"",IF(J13="Revenue",E13,IF(J13="Expense",-E13,""))) | M13: =IF(OR(K13="",L13=""),"",L13-K13) | N13: =IF(OR(K13="",M13=""),"",IFERROR(M13/ABS(K13),"")) | O13: =IF(A13="","",IFERROR(IF(OR(B13="",C13="",D13="",F13="",G13=""),"Review incomplete row",IF(YEAR(C13)<>Assumptions!$B$4,"Review period",IF(J13="Review account","Review account",IF(AND(D13=0,E13<>"",E13>0),"Review unbudgeted actual",IF(AND(N13<>"",ABS(N13)>=Assumptions!$B$6),"Review variance",IF(AND(G13="Needs review",H13=""),"Review missing due date",IF(AND(G13="Needs review",H13<>"",TODAY()>H13),"Past due review",""))))))),"Review entry")) | Q13: =IF(ROW()<=6,Assumptions!D6,"") | R13: =IF(ROW()<=15,Assumptions!F13,"") | S13: =IF(ROW()<=7,Assumptions!I7,"") | T13: =IF(ROW()<=7,Assumptions!K7,"")
A14: Fictional Cedar Lantern Storage | B14: Retail Merchandise | C14: 46327 | D14: 1800 | F14: Casey Example | G14: Entered | H14: 46366 | I14: Fictional November example; complete other account lines as needed. | J14: =IF(OR(A14="",B14=""),"",IFERROR(VLOOKUP(B14,Assumptions!$F$4:$G$15,2,FALSE),"Review account")) | K14: =IF(OR(C14="",D14="",J14=""),"",IF(J14="Revenue",D14,IF(J14="Expense",-D14,""))) | L14: =IF(OR(C14="",E14="",J14=""),"",IF(J14="Revenue",E14,IF(J14="Expense",-E14,""))) | M14: =IF(OR(K14="",L14=""),"",L14-K14) | N14: =IF(OR(K14="",M14=""),"",IFERROR(M14/ABS(K14),"")) | O14: =IF(A14="","",IFERROR(IF(OR(B14="",C14="",D14="",F14="",G14=""),"Review incomplete row",IF(YEAR(C14)<>Assumptions!$B$4,"Review period",IF(J14="Review account","Review account",IF(AND(D14=0,E14<>"",E14>0),"Review unbudgeted actual",IF(AND(N14<>"",ABS(N14)>=Assumptions!$B$6),"Review variance",IF(AND(G14="Needs review",H14=""),"Review missing due date",IF(AND(G14="Needs review",H14<>"",TODAY()>H14),"Past due review",""))))))),"Review entry")) | Q14: =IF(ROW()<=6,Assumptions!D6,"") | R14: =IF(ROW()<=15,Assumptions!F14,"") | S14: =IF(ROW()<=7,Assumptions!I7,"") | T14: =IF(ROW()<=7,Assumptions!K7,"")
A15: Fictional Cedar Lantern Storage | B15: Waste and Grounds | C15: 46357 | D15: 2400 | F15: Riley Example | G15: Entered | H15: 46397 | I15: Fictional December example; complete other account lines as needed. | J15: =IF(OR(A15="",B15=""),"",IFERROR(VLOOKUP(B15,Assumptions!$F$4:$G$15,2,FALSE),"Review account")) | K15: =IF(OR(C15="",D15="",J15=""),"",IF(J15="Revenue",D15,IF(J15="Expense",-D15,""))) | L15: =IF(OR(C15="",E15="",J15=""),"",IF(J15="Revenue",E15,IF(J15="Expense",-E15,""))) | M15: =IF(OR(K15="",L15=""),"",L15-K15) | N15: =IF(OR(K15="",M15=""),"",IFERROR(M15/ABS(K15),"")) | O15: =IF(A15="","",IFERROR(IF(OR(B15="",C15="",D15="",F15="",G15=""),"Review incomplete row",IF(YEAR(C15)<>Assumptions!$B$4,"Review period",IF(J15="Review account","Review account",IF(AND(D15=0,E15<>"",E15>0),"Review unbudgeted actual",IF(AND(N15<>"",ABS(N15)>=Assumptions!$B$6),"Review variance",IF(AND(G15="Needs review",H15=""),"Review missing due date",IF(AND(G15="Needs review",H15<>"",TODAY()>H15),"Past due review",""))))))),"Review entry")) | Q15: =IF(ROW()<=6,Assumptions!D6,"") | R15: =IF(ROW()<=15,Assumptions!F15,"") | S15: =IF(ROW()<=7,Assumptions!I7,"") | T15: =IF(ROW()<=7,Assumptions!K7,"")
J16: =IF(OR(A16="",B16=""),"",IFERROR(VLOOKUP(B16,Assumptions!$F$4:$G$15,2,FALSE),"Review account")) | K16: =IF(OR(C16="",D16="",J16=""),"",IF(J16="Revenue",D16,IF(J16="Expense",-D16,""))) | L16: =IF(OR(C16="",E16="",J16=""),"",IF(J16="Revenue",E16,IF(J16="Expense",-E16,""))) | M16: =IF(OR(K16="",L16=""),"",L16-K16) | N16: =IF(OR(K16="",M16=""),"",IFERROR(M16/ABS(K16),"")) | O16: =IF(A16="","",IFERROR(IF(OR(B16="",C16="",D16="",F16="",G16=""),"Review incomplete row",IF(YEAR(C16)<>Assumptions!$B$4,"Review period",IF(J16="Review account","Review account",IF(AND(D16=0,E16<>"",E16>0),"Review unbudgeted actual",IF(AND(N16<>"",ABS(N16)>=Assumptions!$B$6),"Review variance",IF(AND(G16="Needs review",H16=""),"Review missing due date",IF(AND(G16="Needs review",H16<>"",TODAY()>H16),"Past due review",""))))))),"Review entry")) | Q16: =IF(ROW()<=6,Assumptions!D6,"") | R16: =IF(ROW()<=15,Assumptions!F15,"") | S16: =IF(ROW()<=7,Assumptions!I7,"") | T16: =IF(ROW()<=7,Assumptions!K7,"")
J17: =IF(OR(A17="",B17=""),"",IFERROR(VLOOKUP(B17,Assumptions!$F$4:$G$15,2,FALSE),"Review account")) | K17: =IF(OR(C17="",D17="",J17=""),"",IF(J17="Revenue",D17,IF(J17="Expense",-D17,""))) | L17: =IF(OR(C17="",E17="",J17=""),"",IF(J17="Revenue",E17,IF(J17="Expense",-E17,""))) | M17: =IF(OR(K17="",L17=""),"",L17-K17) | N17: =IF(OR(K17="",M17=""),"",IFERROR(M17/ABS(K17),"")) | O17: =IF(A17="","",IFERROR(IF(OR(B17="",C17="",D17="",F17="",G17=""),"Review incomplete row",IF(YEAR(C17)<>Assumptions!$B$4,"Review period",IF(J17="Review account","Review account",IF(AND(D17=0,E17<>"",E17>0),"Review unbudgeted actual",IF(AND(N17<>"",ABS(N17)>=Assumptions!$B$6),"Review variance",IF(AND(G17="Needs review",H17=""),"Review missing due date",IF(AND(G17="Needs review",H17<>"",TODAY()>H17),"Past due review",""))))))),"Review entry")) | Q17: =IF(ROW()<=6,Assumptions!D6,"") | R17: =IF(ROW()<=15,Assumptions!F15,"") | S17: =IF(ROW()<=7,Assumptions!I7,"") | T17: =IF(ROW()<=7,Assumptions!K7,"")
J18: =IF(OR(A18="",B18=""),"",IFERROR(VLOOKUP(B18,Assumptions!$F$4:$G$15,2,FALSE),"Review account")) | K18: =IF(OR(C18="",D18="",J18=""),"",IF(J18="Revenue",D18,IF(J18="Expense",-D18,""))) | L18: =IF(OR(C18="",E18="",J18=""),"",IF(J18="Revenue",E18,IF(J18="Expense",-E18,""))) | M18: =IF(OR(K18="",L18=""),"",L18-K18) | N18: =IF(OR(K18="",M18=""),"",IFERROR(M18/ABS(K18),"")) | O18: =IF(A18="","",IFERROR(IF(OR(B18="",C18="",D18="",F18="",G18=""),"Review incomplete row",IF(YEAR(C18)<>Assumptions!$B$4,"Review period",IF(J18="Review account","Review account",IF(AND(D18=0,E18<>"",E18>0),"Review unbudgeted actual",IF(AND(N18<>"",ABS(N18)>=Assumptions!$B$6),"Review variance",IF(AND(G18="Needs review",H18=""),"Review missing due date",IF(AND(G18="Needs review",H18<>"",TODAY()>H18),"Past due review",""))))))),"Review entry")) | Q18: =IF(ROW()<=6,Assumptions!D6,"") | R18: =IF(ROW()<=15,Assumptions!F15,"") | S18: =IF(ROW()<=7,Assumptions!I7,"") | T18: =IF(ROW()<=7,Assumptions!K7,"")
J19: =IF(OR(A19="",B19=""),"",IFERROR(VLOOKUP(B19,Assumptions!$F$4:$G$15,2,FALSE),"Review account")) | K19: =IF(OR(C19="",D19="",J19=""),"",IF(J19="Revenue",D19,IF(J19="Expense",-D19,""))) | L19: =IF(OR(C19="",E19="",J19=""),"",IF(J19="Revenue",E19,IF(J19="Expense",-E19,""))) | M19: =IF(OR(K19="",L19=""),"",L19-K19) | N19: =IF(OR(K19="",M19=""),"",IFERROR(M19/ABS(K19),"")) | O19: =IF(A19="","",IFERROR(IF(OR(B19="",C19="",D19="",F19="",G19=""),"Review incomplete row",IF(YEAR(C19)<>Assumptions!$B$4,"Review period",IF(J19="Review account","Review account",IF(AND(D19=0,E19<>"",E19>0),"Review unbudgeted actual",IF(AND(N19<>"",ABS(N19)>=Assumptions!$B$6),"Review variance",IF(AND(G19="Needs review",H19=""),"Review missing due date",IF(AND(G19="Needs review",H19<>"",TODAY()>H19),"Past due review",""))))))),"Review entry")) | Q19: =IF(ROW()<=6,Assumptions!D6,"") | R19: =IF(ROW()<=15,Assumptions!F15,"") | S19: =IF(ROW()<=7,Assumptions!I7,"") | T19: =IF(ROW()<=7,Assumptions!K7,"")
J20: =IF(OR(A20="",B20=""),"",IFERROR(VLOOKUP(B20,Assumptions!$F$4:$G$15,2,FALSE),"Review account")) | K20: =IF(OR(C20="",D20="",J20=""),"",IF(J20="Revenue",D20,IF(J20="Expense",-D20,""))) | L20: =IF(OR(C20="",E20="",J20=""),"",IF(J20="Revenue",E20,IF(J20="Expense",-E20,""))) | M20: =IF(OR(K20="",L20=""),"",L20-K20) | N20: =IF(OR(K20="",M20=""),"",IFERROR(M20/ABS(K20),"")) | O20: =IF(A20="","",IFERROR(IF(OR(B20="",C20="",D20="",F20="",G20=""),"Review incomplete row",IF(YEAR(C20)<>Assumptions!$B$4,"Review period",IF(J20="Review account","Review account",IF(AND(D20=0,E20<>"",E20>0),"Review unbudgeted actual",IF(AND(N20<>"",ABS(N20)>=Assumptions!$B$6),"Review variance",IF(AND(G20="Needs review",H20=""),"Review missing due date",IF(AND(G20="Needs review",H20<>"",TODAY()>H20),"Past due review",""))))))),"Review entry")) | Q20: =IF(ROW()<=6,Assumptions!D6,"") | R20: =IF(ROW()<=15,Assumptions!F15,"") | S20: =IF(ROW()<=7,Assumptions!I7,"") | T20: =IF(ROW()<=7,Assumptions!K7,"")
J21: =IF(OR(A21="",B21=""),"",IFERROR(VLOOKUP(B21,Assumptions!$F$4:$G$15,2,FALSE),"Review account")) | K21: =IF(OR(C21="",D21="",J21=""),"",IF(J21="Revenue",D21,IF(J21="Expense",-D21,""))) | L21: =IF(OR(C21="",E21="",J21=""),"",IF(J21="Revenue",E21,IF(J21="Expense",-E21,""))) | M21: =IF(OR(K21="",L21=""),"",L21-K21) | N21: =IF(OR(K21="",M21=""),"",IFERROR(M21/ABS(K21),"")) | O21: =IF(A21="","",IFERROR(IF(OR(B21="",C21="",D21="",F21="",G21=""),"Review incomplete row",IF(YEAR(C21)<>Assumptions!$B$4,"Review period",IF(J21="Review account","Review account",IF(AND(D21=0,E21<>"",E21>0),"Review unbudgeted actual",IF(AND(N21<>"",ABS(N21)>=Assumptions!$B$6),"Review variance",IF(AND(G21="Needs review",H21=""),"Review missing due date",IF(AND(G21="Needs review",H21<>"",TODAY()>H21),"Past due review",""))))))),"Review entry")) | Q21: =IF(ROW()<=6,Assumptions!D6,"") | R21: =IF(ROW()<=15,Assumptions!F15,"") | S21: =IF(ROW()<=7,Assumptions!I7,"") | T21: =IF(ROW()<=7,Assumptions!K7,"")
J22: =IF(OR(A22="",B22=""),"",IFERROR(VLOOKUP(B22,Assumptions!$F$4:$G$15,2,FALSE),"Review account")) | K22: =IF(OR(C22="",D22="",J22=""),"",IF(J22="Revenue",D22,IF(J22="Expense",-D22,""))) | L22: =IF(OR(C22="",E22="",J22=""),"",IF(J22="Revenue",E22,IF(J22="Expense",-E22,""))) | M22: =IF(OR(K22="",L22=""),"",L22-K22) | N22: =IF(OR(K22="",M22=""),"",IFERROR(M22/ABS(K22),"")) | O22: =IF(A22="","",IFERROR(IF(OR(B22="",C22="",D22="",F22="",G22=""),"Review incomplete row",IF(YEAR(C22)<>Assumptions!$B$4,"Review period",IF(J22="Review account","Review account",IF(AND(D22=0,E22<>"",E22>0),"Review unbudgeted actual",IF(AND(N22<>"",ABS(N22)>=Assumptions!$B$6),"Review variance",IF(AND(G22="Needs review",H22=""),"Review missing due date",IF(AND(G22="Needs review",H22<>"",TODAY()>H22),"Past due review",""))))))),"Review entry")) | Q22: =IF(ROW()<=6,Assumptions!D6,"") | R22: =IF(ROW()<=15,Assumptions!F15,"") | S22: =IF(ROW()<=7,Assumptions!I7,"") | T22: =IF(ROW()<=7,Assumptions!K7,"")
J23: =IF(OR(A23="",B23=""),"",IFERROR(VLOOKUP(B23,Assumptions!$F$4:$G$15,2,FALSE),"Review account")) | K23: =IF(OR(C23="",D23="",J23=""),"",IF(J23="Revenue",D23,IF(J23="Expense",-D23,""))) | L23: =IF(OR(C23="",E23="",J23=""),"",IF(J23="Revenue",E23,IF(J23="Expense",-E23,""))) | M23: =IF(OR(K23="",L23=""),"",L23-K23) | N23: =IF(OR(K23="",M23=""),"",IFERROR(M23/ABS(K23),"")) | O23: =IF(A23="","",IFERROR(IF(OR(B23="",C23="",D23="",F23="",G23=""),"Review incomplete row",IF(YEAR(C23)<>Assumptions!$B$4,"Review period",IF(J23="Review account","Review account",IF(AND(D23=0,E23<>"",E23>0),"Review unbudgeted actual",IF(AND(N23<>"",ABS(N23)>=Assumptions!$B$6),"Review variance",IF(AND(G23="Needs review",H23=""),"Review missing due date",IF(AND(G23="Needs review",H23<>"",TODAY()>H23),"Past due review",""))))))),"Review entry")) | Q23: =IF(ROW()<=6,Assumptions!D6,"") | R23: =IF(ROW()<=15,Assumptions!F15,"") | S23: =IF(ROW()<=7,Assumptions!I7,"") | T23: =IF(ROW()<=7,Assumptions!K7,"")
J24: =IF(OR(A24="",B24=""),"",IFERROR(VLOOKUP(B24,Assumptions!$F$4:$G$15,2,FALSE),"Review account")) | K24: =IF(OR(C24="",D24="",J24=""),"",IF(J24="Revenue",D24,IF(J24="Expense",-D24,""))) | L24: =IF(OR(C24="",E24="",J24=""),"",IF(J24="Revenue",E24,IF(J24="Expense",-E24,""))) | M24: =IF(OR(K24="",L24=""),"",L24-K24) | N24: =IF(OR(K24="",M24=""),"",IFERROR(M24/ABS(K24),"")) | O24: =IF(A24="","",IFERROR(IF(OR(B24="",C24="",D24="",F24="",G24=""),"Review incomplete row",IF(YEAR(C24)<>Assumptions!$B$4,"Review period",IF(J24="Review account","Review account",IF(AND(D24=0,E24<>"",E24>0),"Review unbudgeted actual",IF(AND(N24<>"",ABS(N24)>=Assumptions!$B$6),"Review variance",IF(AND(G24="Needs review",H24=""),"Review missing due date",IF(AND(G24="Needs review",H24<>"",TODAY()>H24),"Past due review",""))))))),"Review entry")) | Q24: =IF(ROW()<=6,Assumptions!D6,"") | R24: =IF(ROW()<=15,Assumptions!F15,"") | S24: =IF(ROW()<=7,Assumptions!I7,"") | T24: =IF(ROW()<=7,Assumptions!K7,"")
J25: =IF(OR(A25="",B25=""),"",IFERROR(VLOOKUP(B25,Assumptions!$F$4:$G$15,2,FALSE),"Review account")) | K25: =IF(OR(C25="",D25="",J25=""),"",IF(J25="Revenue",D25,IF(J25="Expense",-D25,""))) | L25: =IF(OR(C25="",E25="",J25=""),"",IF(J25="Revenue",E25,IF(J25="Expense",-E25,""))) | M25: =IF(OR(K25="",L25=""),"",L25-K25) | N25: =IF(OR(K25="",M25=""),"",IFERROR(M25/ABS(K25),"")) | O25: =IF(A25="","",IFERROR(IF(OR(B25="",C25="",D25="",F25="",G25=""),"Review incomplete row",IF(YEAR(C25)<>Assumptions!$B$4,"Review period",IF(J25="Review account","Review account",IF(AND(D25=0,E25<>"",E25>0),"Review unbudgeted actual",IF(AND(N25<>"",ABS(N25)>=Assumptions!$B$6),"Review variance",IF(AND(G25="Needs review",H25=""),"Review missing due date",IF(AND(G25="Needs review",H25<>"",TODAY()>H25),"Past due review",""))))))),"Review entry")) | Q25: =IF(ROW()<=6,Assumptions!D6,"") | R25: =IF(ROW()<=15,Assumptions!F15,"") | S25: =IF(ROW()<=7,Assumptions!I7,"") | T25: =IF(ROW()<=7,Assumptions!K7,"")
J26: =IF(OR(A26="",B26=""),"",IFERROR(VLOOKUP(B26,Assumptions!$F$4:$G$15,2,FALSE),"Review account")) | K26: =IF(OR(C26="",D26="",J26=""),"",IF(J26="Revenue",D26,IF(J26="Expense",-D26,""))) | L26: =IF(OR(C26="",E26="",J26=""),"",IF(J26="Revenue",E26,IF(J26="Expense",-E26,""))) | M26: =IF(OR(K26="",L26=""),"",L26-K26) | N26: =IF(OR(K26="",M26=""),"",IFERROR(M26/ABS(K26),"")) | O26: =IF(A26="","",IFERROR(IF(OR(B26="",C26="",D26="",F26="",G26=""),"Review incomplete row",IF(YEAR(C26)<>Assumptions!$B$4,"Review period",IF(J26="Review account","Review account",IF(AND(D26=0,E26<>"",E26>0),"Review unbudgeted actual",IF(AND(N26<>"",ABS(N26)>=Assumptions!$B$6),"Review variance",IF(AND(G26="Needs review",H26=""),"Review missing due date",IF(AND(G26="Needs review",H26<>"",TODAY()>H26),"Past due review",""))))))),"Review entry")) | Q26: =IF(ROW()<=6,Assumptions!D6,"") | R26: =IF(ROW()<=15,Assumptions!F15,"") | S26: =IF(ROW()<=7,Assumptions!I7,"") | T26: =IF(ROW()<=7,Assumptions!K7,"")
J27: =IF(OR(A27="",B27=""),"",IFERROR(VLOOKUP(B27,Assumptions!$F$4:$G$15,2,FALSE),"Review account")) | K27: =IF(OR(C27="",D27="",J27=""),"",IF(J27="Revenue",D27,IF(J27="Expense",-D27,""))) | L27: =IF(OR(C27="",E27="",J27=""),"",IF(J27="Revenue",E27,IF(J27="Expense",-E27,""))) | M27: =IF(OR(K27="",L27=""),"",L27-K27) | N27: =IF(OR(K27="",M27=""),"",IFERROR(M27/ABS(K27),"")) | O27: =IF(A27="","",IFERROR(IF(OR(B27="",C27="",D27="",F27="",G27=""),"Review incomplete row",IF(YEAR(C27)<>Assumptions!$B$4,"Review period",IF(J27="Review account","Review account",IF(AND(D27=0,E27<>"",E27>0),"Review unbudgeted actual",IF(AND(N27<>"",ABS(N27)>=Assumptions!$B$6),"Review variance",IF(AND(G27="Needs review",H27=""),"Review missing due date",IF(AND(G27="Needs review",H27<>"",TODAY()>H27),"Past due review",""))))))),"Review entry")) | Q27: =IF(ROW()<=6,Assumptions!D6,"") | R27: =IF(ROW()<=15,Assumptions!F15,"") | S27: =IF(ROW()<=7,Assumptions!I7,"") | T27: =IF(ROW()<=7,Assumptions!K7,"")
J28: =IF(OR(A28="",B28=""),"",IFERROR(VLOOKUP(B28,Assumptions!$F$4:$G$15,2,FALSE),"Review account")) | K28: =IF(OR(C28="",D28="",J28=""),"",IF(J28="Revenue",D28,IF(J28="Expense",-D28,""))) | L28: =IF(OR(C28="",E28="",J28=""),"",IF(J28="Revenue",E28,IF(J28="Expense",-E28,""))) | M28: =IF(OR(K28="",L28=""),"",L28-K28) | N28: =IF(OR(K28="",M28=""),"",IFERROR(M28/ABS(K28),"")) | O28: =IF(A28="","",IFERROR(IF(OR(B28="",C28="",D28="",F28="",G28=""),"Review incomplete row",IF(YEAR(C28)<>Assumptions!$B$4,"Review period",IF(J28="Review account","Review account",IF(AND(D28=0,E28<>"",E28>0),"Review unbudgeted actual",IF(AND(N28<>"",ABS(N28)>=Assumptions!$B$6),"Review variance",IF(AND(G28="Needs review",H28=""),"Review missing due date",IF(AND(G28="Needs review",H28<>"",TODAY()>H28),"Past due review",""))))))),"Review entry")) | Q28: =IF(ROW()<=6,Assumptions!D6,"") | R28: =IF(ROW()<=15,Assumptions!F15,"") | S28: =IF(ROW()<=7,Assumptions!I7,"") | T28: =IF(ROW()<=7,Assumptions!K7,"")
J29: =IF(OR(A29="",B29=""),"",IFERROR(VLOOKUP(B29,Assumptions!$F$4:$G$15,2,FALSE),"Review account")) | K29: =IF(OR(C29="",D29="",J29=""),"",IF(J29="Revenue",D29,IF(J29="Expense",-D29,""))) | L29: =IF(OR(C29="",E29="",J29=""),"",IF(J29="Revenue",E29,IF(J29="Expense",-E29,""))) | M29: =IF(OR(K29="",L29=""),"",L29-K29) | N29: =IF(OR(K29="",M29=""),"",IFERROR(M29/ABS(K29),"")) | O29: =IF(A29="","",IFERROR(IF(OR(B29="",C29="",D29="",F29="",G29=""),"Review incomplete row",IF(YEAR(C29)<>Assumptions!$B$4,"Review period",IF(J29="Review account","Review account",IF(AND(D29=0,E29<>"",E29>0),"Review unbudgeted actual",IF(AND(N29<>"",ABS(N29)>=Assumptions!$B$6),"Review variance",IF(AND(G29="Needs review",H29=""),"Review missing due date",IF(AND(G29="Needs review",H29<>"",TODAY()>H29),"Past due review",""))))))),"Review entry")) | Q29: =IF(ROW()<=6,Assumptions!D6,"") | R29: =IF(ROW()<=15,Assumptions!F15,"") | S29: =IF(ROW()<=7,Assumptions!I7,"") | T29: =IF(ROW()<=7,Assumptions!K7,"")
J30: =IF(OR(A30="",B30=""),"",IFERROR(VLOOKUP(B30,Assumptions!$F$4:$G$15,2,FALSE),"Review account")) | K30: =IF(OR(C30="",D30="",J30=""),"",IF(J30="Revenue",D30,IF(J30="Expense",-D30,""))) | L30: =IF(OR(C30="",E30="",J30=""),"",IF(J30="Revenue",E30,IF(J30="Expense",-E30,""))) | M30: =IF(OR(K30="",L30=""),"",L30-K30) | N30: =IF(OR(K30="",M30=""),"",IFERROR(M30/ABS(K30),"")) | O30: =IF(A30="","",IFERROR(IF(OR(B30="",C30="",D30="",F30="",G30=""),"Review incomplete row",IF(YEAR(C30)<>Assumptions!$B$4,"Review period",IF(J30="Review account","Review account",IF(AND(D30=0,E30<>"",E30>0),"Review unbudgeted actual",IF(AND(N30<>"",ABS(N30)>=Assumptions!$B$6),"Review variance",IF(AND(G30="Needs review",H30=""),"Review missing due date",IF(AND(G30="Needs review",H30<>"",TODAY()>H30),"Past due review",""))))))),"Review entry")) | Q30: =IF(ROW()<=6,Assumptions!D6,"") | R30: =IF(ROW()<=15,Assumptions!F15,"") | S30: =IF(ROW()<=7,Assumptions!I7,"") | T30: =IF(ROW()<=7,Assumptions!K7,"")
J31: =IF(OR(A31="",B31=""),"",IFERROR(VLOOKUP(B31,Assumptions!$F$4:$G$15,2,FALSE),"Review account")) | K31: =IF(OR(C31="",D31="",J31=""),"",IF(J31="Revenue",D31,IF(J31="Expense",-D31,""))) | L31: =IF(OR(C31="",E31="",J31=""),"",IF(J31="Revenue",E31,IF(J31="Expense",-E31,""))) | M31: =IF(OR(K31="",L31=""),"",L31-K31) | N31: =IF(OR(K31="",M31=""),"",IFERROR(M31/ABS(K31),"")) | O31: =IF(A31="","",IFERROR(IF(OR(B31="",C31="",D31="",F31="",G31=""),"Review incomplete row",IF(YEAR(C31)<>Assumptions!$B$4,"Review period",IF(J31="Review account","Review account",IF(AND(D31=0,E31<>"",E31>0),"Review unbudgeted actual",IF(AND(N31<>"",ABS(N31)>=Assumptions!$B$6),"Review variance",IF(AND(G31="Needs review",H31=""),"Review missing due date",IF(AND(G31="Needs review",H31<>"",TODAY()>H31),"Past due review",""))))))),"Review entry")) | Q31: =IF(ROW()<=6,Assumptions!D6,"") | R31: =IF(ROW()<=15,Assumptions!F15,"") | S31: =IF(ROW()<=7,Assumptions!I7,"") | T31: =IF(ROW()<=7,Assumptions!K7,"")
J32: =IF(OR(A32="",B32=""),"",IFERROR(VLOOKUP(B32,Assumptions!$F$4:$G$15,2,FALSE),"Review account")) | K32: =IF(OR(C32="",D32="",J32=""),"",IF(J32="Revenue",D32,IF(J32="Expense",-D32,""))) | L32: =IF(OR(C32="",E32="",J32=""),"",IF(J32="Revenue",E32,IF(J32="Expense",-E32,""))) | M32: =IF(OR(K32="",L32=""),"",L32-K32) | N32: =IF(OR(K32="",M32=""),"",IFERROR(M32/ABS(K32),"")) | O32: =IF(A32="","",IFERROR(IF(OR(B32="",C32="",D32="",F32="",G32=""),"Review incomplete row",IF(YEAR(C32)<>Assumptions!$B$4,"Review period",IF(J32="Review account","Review account",IF(AND(D32=0,E32<>"",E32>0),"Review unbudgeted actual",IF(AND(N32<>"",ABS(N32)>=Assumptions!$B$6),"Review variance",IF(AND(G32="Needs review",H32=""),"Review missing due date",IF(AND(G32="Needs review",H32<>"",TODAY()>H32),"Past due review",""))))))),"Review entry")) | Q32: =IF(ROW()<=6,Assumptions!D6,"") | R32: =IF(ROW()<=15,Assumptions!F15,"") | S32: =IF(ROW()<=7,Assumptions!I7,"") | T32: =IF(ROW()<=7,Assumptions!K7,"")
J33: =IF(OR(A33="",B33=""),"",IFERROR(VLOOKUP(B33,Assumptions!$F$4:$G$15,2,FALSE),"Review account")) | K33: =IF(OR(C33="",D33="",J33=""),"",IF(J33="Revenue",D33,IF(J33="Expense",-D33,""))) | L33: =IF(OR(C33="",E33="",J33=""),"",IF(J33="Revenue",E33,IF(J33="Expense",-E33,""))) | M33: =IF(OR(K33="",L33=""),"",L33-K33) | N33: =IF(OR(K33="",M33=""),"",IFERROR(M33/ABS(K33),"")) | O33: =IF(A33="","",IFERROR(IF(OR(B33="",C33="",D33="",F33="",G33=""),"Review incomplete row",IF(YEAR(C33)<>Assumptions!$B$4,"Review period",IF(J33="Review account","Review account",IF(AND(D33=0,E33<>"",E33>0),"Review unbudgeted actual",IF(AND(N33<>"",ABS(N33)>=Assumptions!$B$6),"Review variance",IF(AND(G33="Needs review",H33=""),"Review missing due date",IF(AND(G33="Needs review",H33<>"",TODAY()>H33),"Past due review",""))))))),"Review entry")) | Q33: =IF(ROW()<=6,Assumptions!D6,"") | R33: =IF(ROW()<=15,Assumptions!F15,"") | S33: =IF(ROW()<=7,Assumptions!I7,"") | T33: =IF(ROW()<=7,Assumptions!K7,"")
J34: =IF(OR(A34="",B34=""),"",IFERROR(VLOOKUP(B34,Assumptions!$F$4:$G$15,2,FALSE),"Review account")) | K34: =IF(OR(C34="",D34="",J34=""),"",IF(J34="Revenue",D34,IF(J34="Expense",-D34,""))) | L34: =IF(OR(C34="",E34="",J34=""),"",IF(J34="Revenue",E34,IF(J34="Expense",-E34,""))) | M34: =IF(OR(K34="",L34=""),"",L34-K34) | N34: =IF(OR(K34="",M34=""),"",IFERROR(M34/ABS(K34),"")) | O34: =IF(A34="","",IFERROR(IF(OR(B34="",C34="",D34="",F34="",G34=""),"Review incomplete row",IF(YEAR(C34)<>Assumptions!$B$4,"Review period",IF(J34="Review account","Review account",IF(AND(D34=0,E34<>"",E34>0),"Review unbudgeted actual",IF(AND(N34<>"",ABS(N34)>=Assumptions!$B$6),"Review variance",IF(AND(G34="Needs review",H34=""),"Review missing due date",IF(AND(G34="Needs review",H34<>"",TODAY()>H34),"Past due review",""))))))),"Review entry")) | Q34: =IF(ROW()<=6,Assumptions!D6,"") | R34: =IF(ROW()<=15,Assumptions!F15,"") | S34: =IF(ROW()<=7,Assumptions!I7,"") | T34: =IF(ROW()<=7,Assumptions!K7,"")
J35: =IF(OR(A35="",B35=""),"",IFERROR(VLOOKUP(B35,Assumptions!$F$4:$G$15,2,FALSE),"Review account")) | K35: =IF(OR(C35="",D35="",J35=""),"",IF(J35="Revenue",D35,IF(J35="Expense",-D35,""))) | L35: =IF(OR(C35="",E35="",J35=""),"",IF(J35="Revenue",E35,IF(J35="Expense",-E35,""))) | M35: =IF(OR(K35="",L35=""),"",L35-K35) | N35: =IF(OR(K35="",M35=""),"",IFERROR(M35/ABS(K35),"")) | O35: =IF(A35="","",IFERROR(IF(OR(B35="",C35="",D35="",F35="",G35=""),"Review incomplete row",IF(YEAR(C35)<>Assumptions!$B$4,"Review period",IF(J35="Review account","Review account",IF(AND(D35=0,E35<>"",E35>0),"Review unbudgeted actual",IF(AND(N35<>"",ABS(N35)>=Assumptions!$B$6),"Review variance",IF(AND(G35="Needs review",H35=""),"Review missing due date",IF(AND(G35="Needs review",H35<>"",TODAY()>H35),"Past due review",""))))))),"Review entry")) | Q35: =IF(ROW()<=6,Assumptions!D6,"") | R35: =IF(ROW()<=15,Assumptions!F15,"") | S35: =IF(ROW()<=7,Assumptions!I7,"") | T35: =IF(ROW()<=7,Assumptions!K7,"")
J36: =IF(OR(A36="",B36=""),"",IFERROR(VLOOKUP(B36,Assumptions!$F$4:$G$15,2,FALSE),"Review account")) | K36: =IF(OR(C36="",D36="",J36=""),"",IF(J36="Revenue",D36,IF(J36="Expense",-D36,""))) | L36: =IF(OR(C36="",E36="",J36=""),"",IF(J36="Revenue",E36,IF(J36="Expense",-E36,""))) | M36: =IF(OR(K36="",L36=""),"",L36-K36) | N36: =IF(OR(K36="",M36=""),"",IFERROR(M36/ABS(K36),"")) | O36: =IF(A36="","",IFERROR(IF(OR(B36="",C36="",D36="",F36="",G36=""),"Review incomplete row",IF(YEAR(C36)<>Assumptions!$B$4,"Review period",IF(J36="Review account","Review account",IF(AND(D36=0,E36<>"",E36>0),"Review unbudgeted actual",IF(AND(N36<>"",ABS(N36)>=Assumptions!$B$6),"Review variance",IF(AND(G36="Needs review",H36=""),"Review missing due date",IF(AND(G36="Needs review",H36<>"",TODAY()>H36),"Past due review",""))))))),"Review entry")) | Q36: =IF(ROW()<=6,Assumptions!D6,"") | R36: =IF(ROW()<=15,Assumptions!F15,"") | S36: =IF(ROW()<=7,Assumptions!I7,"") | T36: =IF(ROW()<=7,Assumptions!K7,"")
J37: =IF(OR(A37="",B37=""),"",IFERROR(VLOOKUP(B37,Assumptions!$F$4:$G$15,2,FALSE),"Review account")) | K37: =IF(OR(C37="",D37="",J37=""),"",IF(J37="Revenue",D37,IF(J37="Expense",-D37,""))) | L37: =IF(OR(C37="",E37="",J37=""),"",IF(J37="Revenue",E37,IF(J37="Expense",-E37,""))) | M37: =IF(OR(K37="",L37=""),"",L37-K37) | N37: =IF(OR(K37="",M37=""),"",IFERROR(M37/ABS(K37),"")) | O37: =IF(A37="","",IFERROR(IF(OR(B37="",C37="",D37="",F37="",G37=""),"Review incomplete row",IF(YEAR(C37)<>Assumptions!$B$4,"Review period",IF(J37="Review account","Review account",IF(AND(D37=0,E37<>"",E37>0),"Review unbudgeted actual",IF(AND(N37<>"",ABS(N37)>=Assumptions!$B$6),"Review variance",IF(AND(G37="Needs review",H37=""),"Review missing due date",IF(AND(G37="Needs review",H37<>"",TODAY()>H37),"Past due review",""))))))),"Review entry")) | Q37: =IF(ROW()<=6,Assumptions!D6,"") | R37: =IF(ROW()<=15,Assumptions!F15,"") | S37: =IF(ROW()<=7,Assumptions!I7,"") | T37: =IF(ROW()<=7,Assumptions!K7,"")
J38: =IF(OR(A38="",B38=""),"",IFERROR(VLOOKUP(B38,Assumptions!$F$4:$G$15,2,FALSE),"Review account")) | K38: =IF(OR(C38="",D38="",J38=""),"",IF(J38="Revenue",D38,IF(J38="Expense",-D38,""))) | L38: =IF(OR(C38="",E38="",J38=""),"",IF(J38="Revenue",E38,IF(J38="Expense",-E38,""))) | M38: =IF(OR(K38="",L38=""),"",L38-K38) | N38: =IF(OR(K38="",M38=""),"",IFERROR(M38/ABS(K38),"")) | O38: =IF(A38="","",IFERROR(IF(OR(B38="",C38="",D38="",F38="",G38=""),"Review incomplete row",IF(YEAR(C38)<>Assumptions!$B$4,"Review period",IF(J38="Review account","Review account",IF(AND(D38=0,E38<>"",E38>0),"Review unbudgeted actual",IF(AND(N38<>"",ABS(N38)>=Assumptions!$B$6),"Review variance",IF(AND(G38="Needs review",H38=""),"Review missing due date",IF(AND(G38="Needs review",H38<>"",TODAY()>H38),"Past due review",""))))))),"Review entry")) | Q38: =IF(ROW()<=6,Assumptions!D6,"") | R38: =IF(ROW()<=15,Assumptions!F15,"") | S38: =IF(ROW()<=7,Assumptions!I7,"") | T38: =IF(ROW()<=7,Assumptions!K7,"")
J39: =IF(OR(A39="",B39=""),"",IFERROR(VLOOKUP(B39,Assumptions!$F$4:$G$15,2,FALSE),"Review account")) | K39: =IF(OR(C39="",D39="",J39=""),"",IF(J39="Revenue",D39,IF(J39="Expense",-D39,""))) | L39: =IF(OR(C39="",E39="",J39=""),"",IF(J39="Revenue",E39,IF(J39="Expense",-E39,""))) | M39: =IF(OR(K39="",L39=""),"",L39-K39) | N39: =IF(OR(K39="",M39=""),"",IFERROR(M39/ABS(K39),"")) | O39: =IF(A39="","",IFERROR(IF(OR(B39="",C39="",D39="",F39="",G39=""),"Review incomplete row",IF(YEAR(C39)<>Assumptions!$B$4,"Review period",IF(J39="Review account","Review account",IF(AND(D39=0,E39<>"",E39>0),"Review unbudgeted actual",IF(AND(N39<>"",ABS(N39)>=Assumptions!$B$6),"Review variance",IF(AND(G39="Needs review",H39=""),"Review missing due date",IF(AND(G39="Needs review",H39<>"",TODAY()>H39),"Past due review",""))))))),"Review entry")) | Q39: =IF(ROW()<=6,Assumptions!D6,"") | R39: =IF(ROW()<=15,Assumptions!F15,"") | S39: =IF(ROW()<=7,Assumptions!I7,"") | T39: =IF(ROW()<=7,Assumptions!K7,"")
J40: =IF(OR(A40="",B40=""),"",IFERROR(VLOOKUP(B40,Assumptions!$F$4:$G$15,2,FALSE),"Review account")) | K40: =IF(OR(C40="",D40="",J40=""),"",IF(J40="Revenue",D40,IF(J40="Expense",-D40,""))) | L40: =IF(OR(C40="",E40="",J40=""),"",IF(J40="Revenue",E40,IF(J40="Expense",-E40,""))) | M40: =IF(OR(K40="",L40=""),"",L40-K40) | N40: =IF(OR(K40="",M40=""),"",IFERROR(M40/ABS(K40),"")) | O40: =IF(A40="","",IFERROR(IF(OR(B40="",C40="",D40="",F40="",G40=""),"Review incomplete row",IF(YEAR(C40)<>Assumptions!$B$4,"Review period",IF(J40="Review account","Review account",IF(AND(D40=0,E40<>"",E40>0),"Review unbudgeted actual",IF(AND(N40<>"",ABS(N40)>=Assumptions!$B$6),"Review variance",IF(AND(G40="Needs review",H40=""),"Review missing due date",IF(AND(G40="Needs review",H40<>"",TODAY()>H40),"Past due review",""))))))),"Review entry")) | Q40: =IF(ROW()<=6,Assumptions!D6,"") | R40: =IF(ROW()<=15,Assumptions!F15,"") | S40: =IF(ROW()<=7,Assumptions!I7,"") | T40: =IF(ROW()<=7,Assumptions!K7,"")
...

Sheet Account Review
A1: Annual Budget Review by Account
A2: Calculated for the selected fictional facility. Projection uses actual amounts where entered and budget amounts for remaining lines.
A3: Account | B3: Budget Class | C3: Annual Budget | D3: Budget Through Cutoff | E3: Actual Through Cutoff | F3: Favorable Variance | G3: Variance % | H3: Year-End Projection | I3: Review Status
