Workbook

Sheet Summary
A1: Discount and Promotion Summary
A2: Indicators are calculated from the Promotions register. Review flags request human follow-up only.
A3: Workbook calculation date: | B3: =TODAY()
A4: Total Offers | B4: =COUNTIF(Promotions!$A$5:$A$204,"<>") | D4: Active Offers | E4: =COUNTIF(Promotions!$R$5:$R$204,"Active") | G4: Approved Offers | H4: =COUNTIF(Promotions!$M$5:$M$204,"Approved")
A7: Estimated Discount | B7: =SUM(Promotions!$S$5:$S$204) | D7: Estimated Promotion Revenue | E7: =SUM(Promotions!$U$5:$U$204) | G7: Items Requiring Review | H7: =COUNTIF(Promotions!$V$5:$V$204,"Review:*")
A10: Approval Rate | B10: =IFERROR(COUNTIF(Promotions!$M$5:$M$204,"Approved")/COUNTIF(Promotions!$L$5:$L$204,"Eligible"),0) | D10: Conversions Due in Window | E10: =COUNTIFS(Promotions!$R$5:$R$204,"Active",Promotions!$Q$5:$Q$204,">="&TODAY(),Promotions!$Q$5:$Q$204,"<="&TODAY()+Assumptions!$L$13) | G10: Average Estimated Discount | H10: =IFERROR(SUM(Promotions!$S$5:$S$204)/COUNTIF(Promotions!$A$5:$A$204,"<>"),0)
A13: Facility | B13: Offers | C13: Estimated Discount | D13: Due in Window
A14: =Assumptions!$A$5 | B14: =COUNTIF(Promotions!$B$5:$B$204,$A14) | C14: =SUMIF(Promotions!$B$5:$B$204,$A14,Promotions!$S$5:$S$204) | D14: =COUNTIFS(Promotions!$B$5:$B$204,$A14,Promotions!$R$5:$R$204,"Active",Promotions!$Q$5:$Q$204,">="&TODAY(),Promotions!$Q$5:$Q$204,"<="&TODAY()+Assumptions!$L$13)
A15: =Assumptions!$A$6 | B15: =COUNTIF(Promotions!$B$5:$B$204,$A15) | C15: =SUMIF(Promotions!$B$5:$B$204,$A15,Promotions!$S$5:$S$204) | D15: =COUNTIFS(Promotions!$B$5:$B$204,$A15,Promotions!$R$5:$R$204,"Active",Promotions!$Q$5:$Q$204,">="&TODAY(),Promotions!$Q$5:$Q$204,"<="&TODAY()+Assumptions!$L$13)
A16: =Assumptions!$A$7 | B16: =COUNTIF(Promotions!$B$5:$B$204,$A16) | C16: =SUMIF(Promotions!$B$5:$B$204,$A16,Promotions!$S$5:$S$204) | D16: =COUNTIFS(Promotions!$B$5:$B$204,$A16,Promotions!$R$5:$R$204,"Active",Promotions!$Q$5:$Q$204,">="&TODAY(),Promotions!$Q$5:$Q$204,"<="&TODAY()+Assumptions!$L$13)
A17: =Assumptions!$A$8 | B17: =COUNTIF(Promotions!$B$5:$B$204,$A17) | C17: =SUMIF(Promotions!$B$5:$B$204,$A17,Promotions!$S$5:$S$204) | D17: =COUNTIFS(Promotions!$B$5:$B$204,$A17,Promotions!$R$5:$R$204,"Active",Promotions!$Q$5:$Q$204,">="&TODAY(),Promotions!$Q$5:$Q$204,"<="&TODAY()+Assumptions!$L$13)
A18: =Assumptions!$A$9 | B18: =COUNTIF(Promotions!$B$5:$B$204,$A18) | C18: =SUMIF(Promotions!$B$5:$B$204,$A18,Promotions!$S$5:$S$204) | D18: =COUNTIFS(Promotions!$B$5:$B$204,$A18,Promotions!$R$5:$R$204,"Active",Promotions!$Q$5:$Q$204,">="&TODAY(),Promotions!$Q$5:$Q$204,"<="&TODAY()+Assumptions!$L$13)
A20: Estimated amounts reflect only the entered standard rate and discount period; verify offer terms before use.

Sheet Promotions
A1: Self Storage Discount and Promotion Tracker
A2: Register move-in offers, eligibility decisions, discount periods, approvals, and full-rate conversion dates.
A3: Yellow cells are editable. Calculated cells alternate light teal and white. All sample records are fictional.
A4: Offer ID | B4: Facility | C4: Unit | D4: Unit Size (sq ft) | E4: Move-In Date | F4: Promotion | G4: Standard Monthly Rate | H4: Discount Method | I4: Discount % | J4: Fixed Discount / Month | K4: Discount Period (Months) | L4: Eligibility Status | M4: Approval Status | N4: Approval Owner | O4: Offer Start | P4: Offer End | Q4: Full-Rate Conversion Due | R4: Record Status | S4: Estimated Discount | T4: Review Due Date | U4: Estimated Promotion Revenue | V4: Review Flag | W4: Notes
A5: PROMO-FIC-001 | B5: Fictional Cedar Lantern Storage — Northfield | C5: A-104 | D5: 50 | E5: 46257 | F5: Fictional Welcome 25% for 3 Months | G5: 120 | H5: Percentage | I5: 0.25 | K5: 3 | L5: Eligible | M5: Approved | N5: Jordan Vale (Fictional) | O5: 46257 | P5: =IF(OR($A5="",$O5="",$K5=""),"",IFERROR(EDATE($O5,$K5)-1,"")) | Q5: =IF($P5="","",IFERROR($P5+1,"")) | R5: Active | S5: =IF($A5="","",IFERROR(IF(OR($G5="",$H5="",$K5=""),"",IF($H5="Percentage",IF($I5="","",MIN($G5*$I5,$G5)*$K5),IF($H5="Fixed Monthly",IF($J5="","",MIN($J5,$G5)*$K5),IF($H5="First Month Free",$G5,"")))),"")) | T5: 46284 | U5: =IF(OR($A5="",$G5="",$K5="",$S5=""),"",IFERROR(MAX($G5*$K5-$S5,0),"")) | V5: =IF($A5="","",IF(OR($B5="",$C5="",$D5="",$E5="",$F5="",$G5="",$H5="",$K5="",$L5="",$M5="",$O5="",$R5=""),"Review: incomplete",IF(COUNTIF($A$5:$A$204,$A5)>1,"Review: duplicate ID",IF(AND($H5="Percentage",$I5=""),"Review: incomplete",IF(AND($H5="Fixed Monthly",$J5=""),"Review: incomplete",IF(AND($H5="First Month Free",OR($I5<>"",$J5<>"")),"Review: discount fields",IF(OR(AND($H5="Percentage",$J5<>""),AND($H5="Fixed Monthly",$I5<>"")),"Review: discount fields",IF(AND($H5="First Month Free",$K5<>1),"Review: discount period",IF(AND($E5<>"",$O5<>"",$O5<$E5),"Review: start date",IF($L5="Pending Review","Review: eligibility",IF(AND($L5="Eligible",$M5<>"Approved"),"Review: approval",IF(AND($L5="Not Eligible",$M5="Approved"),"Review: eligibility conflict",IF(AND($M5="Approved",$N5=""),"Review: approval owner",IF(AND($R5="Active",$T5=""),"Review: set due date",IF(AND($R5="Active",$Q5<>"",TODAY()>=$Q5),"Review: convert to full rate",IF(AND($R5="Active",$T5<>"",TODAY()>$T5),"Review: overdue","OK")))))))))))))))) | W5: Fictional sample reviewed against the facility's entered offer terms.
A6: PROMO-FIC-002 | B6: Fictional Bluebird Box Storage — Riverton | C6: B-210 | D6: 100 | E6: 46232 | F6: Fictional First Month Free | G6: 189 | H6: First Month Free | K6: 1 | L6: Eligible | M6: Approved | N6: Casey Rowan (Fictional) | O6: 46232 | P6: =IF(OR($A6="",$O6="",$K6=""),"",IFERROR(EDATE($O6,$K6)-1,"")) | Q6: =IF($P6="","",IFERROR($P6+1,"")) | R6: Active | S6: =IF($A6="","",IFERROR(IF(OR($G6="",$H6="",$K6=""),"",IF($H6="Percentage",IF($I6="","",MIN($G6*$I6,$G6)*$K6),IF($H6="Fixed Monthly",IF($J6="","",MIN($J6,$G6)*$K6),IF($H6="First Month Free",$G6,"")))),"")) | T6: 46272 | U6: =IF(OR($A6="",$G6="",$K6="",$S6=""),"",IFERROR(MAX($G6*$K6-$S6,0),"")) | V6: =IF($A6="","",IF(OR($B6="",$C6="",$D6="",$E6="",$F6="",$G6="",$H6="",$K6="",$L6="",$M6="",$O6="",$R6=""),"Review: incomplete",IF(COUNTIF($A$5:$A$204,$A6)>1,"Review: duplicate ID",IF(AND($H6="Percentage",$I6=""),"Review: incomplete",IF(AND($H6="Fixed Monthly",$J6=""),"Review: incomplete",IF(AND($H6="First Month Free",OR($I6<>"",$J6<>"")),"Review: discount fields",IF(OR(AND($H6="Percentage",$J6<>""),AND($H6="Fixed Monthly",$I6<>"")),"Review: discount fields",IF(AND($H6="First Month Free",$K6<>1),"Review: discount period",IF(AND($E6<>"",$O6<>"",$O6<$E6),"Review: start date",IF($L6="Pending Review","Review: eligibility",IF(AND($L6="Eligible",$M6<>"Approved"),"Review: approval",IF(AND($L6="Not Eligible",$M6="Approved"),"Review: eligibility conflict",IF(AND($M6="Approved",$N6=""),"Review: approval owner",IF(AND($R6="Active",$T6=""),"Review: set due date",IF(AND($R6="Active",$Q6<>"",TODAY()>=$Q6),"Review: convert to full rate",IF(AND($R6="Active",$T6<>"",TODAY()>$T6),"Review: overdue","OK")))))))))))))))) | W6: Sample is intentionally due for human review of full-rate conversion.
A7: PROMO-FIC-003 | B7: Fictional Juniper Key Storage — Westhaven | C7: C-018 | D7: 75 | E7: 46287 | F7: Fictional 15% New Renter Offer | G7: 155 | H7: Percentage | I7: 0.15 | K7: 2 | L7: Pending Review | M7: Pending Approval | O7: 46287 | P7: =IF(OR($A7="",$O7="",$K7=""),"",IFERROR(EDATE($O7,$K7)-1,"")) | Q7: =IF($P7="","",IFERROR($P7+1,"")) | R7: Active | S7: =IF($A7="","",IFERROR(IF(OR($G7="",$H7="",$K7=""),"",IF($H7="Percentage",IF($I7="","",MIN($G7*$I7,$G7)*$K7),IF($H7="Fixed Monthly",IF($J7="","",MIN($J7,$G7)*$K7),IF($H7="First Month Free",$G7,"")))),"")) | T7: 46280 | U7: =IF(OR($A7="",$G7="",$K7="",$S7=""),"",IFERROR(MAX($G7*$K7-$S7,0),"")) | V7: =IF($A7="","",IF(OR($B7="",$C7="",$D7="",$E7="",$F7="",$G7="",$H7="",$K7="",$L7="",$M7="",$O7="",$R7=""),"Review: incomplete",IF(COUNTIF($A$5:$A$204,$A7)>1,"Review: duplicate ID",IF(AND($H7="Percentage",$I7=""),"Review: incomplete",IF(AND($H7="Fixed Monthly",$J7=""),"Review: incomplete",IF(AND($H7="First Month Free",OR($I7<>"",$J7<>"")),"Review: discount fields",IF(OR(AND($H7="Percentage",$J7<>""),AND($H7="Fixed Monthly",$I7<>"")),"Review: discount fields",IF(AND($H7="First Month Free",$K7<>1),"Review: discount period",IF(AND($E7<>"",$O7<>"",$O7<$E7),"Review: start date",IF($L7="Pending Review","Review: eligibility",IF(AND($L7="Eligible",$M7<>"Approved"),"Review: approval",IF(AND($L7="Not Eligible",$M7="Approved"),"Review: eligibility conflict",IF(AND($M7="Approved",$N7=""),"Review: approval owner",IF(AND($R7="Active",$T7=""),"Review: set due date",IF(AND($R7="Active",$Q7<>"",TODAY()>=$Q7),"Review: convert to full rate",IF(AND($R7="Active",$T7<>"",TODAY()>$T7),"Review: overdue","OK")))))))))))))))) | W7: Eligibility remains a fictional pending human decision.
A8: PROMO-FIC-004 | B8: Fictional Maple Rocket Storage — Eastport | C8: D-044 | D8: 150 | E8: 46272 | F8: Fictional $50 Monthly Discount | G8: 245 | H8: Fixed Monthly | J8: 50 | K8: 3 | L8: Not Eligible | M8: Declined | N8: Morgan Pike (Fictional) | O8: 46272 | P8: =IF(OR($A8="",$O8="",$K8=""),"",IFERROR(EDATE($O8,$K8)-1,"")) | Q8: =IF($P8="","",IFERROR($P8+1,"")) | R8: Canceled | S8: =IF($A8="","",IFERROR(IF(OR($G8="",$H8="",$K8=""),"",IF($H8="Percentage",IF($I8="","",MIN($G8*$I8,$G8)*$K8),IF($H8="Fixed Monthly",IF($J8="","",MIN($J8,$G8)*$K8),IF($H8="First Month Free",$G8,"")))),"")) | U8: =IF(OR($A8="",$G8="",$K8="",$S8=""),"",IFERROR(MAX($G8*$K8-$S8,0),"")) | V8: =IF($A8="","",IF(OR($B8="",$C8="",$D8="",$E8="",$F8="",$G8="",$H8="",$K8="",$L8="",$M8="",$O8="",$R8=""),"Review: incomplete",IF(COUNTIF($A$5:$A$204,$A8)>1,"Review: duplicate ID",IF(AND($H8="Percentage",$I8=""),"Review: incomplete",IF(AND($H8="Fixed Monthly",$J8=""),"Review: incomplete",IF(AND($H8="First Month Free",OR($I8<>"",$J8<>"")),"Review: discount fields",IF(OR(AND($H8="Percentage",$J8<>""),AND($H8="Fixed Monthly",$I8<>"")),"Review: discount fields",IF(AND($H8="First Month Free",$K8<>1),"Review: discount period",IF(AND($E8<>"",$O8<>"",$O8<$E8),"Review: start date",IF($L8="Pending Review","Review: eligibility",IF(AND($L8="Eligible",$M8<>"Approved"),"Review: approval",IF(AND($L8="Not Eligible",$M8="Approved"),"Review: eligibility conflict",IF(AND($M8="Approved",$N8=""),"Review: approval owner",IF(AND($R8="Active",$T8=""),"Review: set due date",IF(AND($R8="Active",$Q8<>"",TODAY()>=$Q8),"Review: convert to full rate",IF(AND($R8="Active",$T8<>"",TODAY()>$T8),"Review: overdue","OK")))))))))))))))) | W8: Fictional sample retained to document a declined offer.
A9: PROMO-FIC-005 | B9: Fictional Silver Acorn Storage — Lakeview | C9: E-301 | D9: 200 | E9: 46157 | F9: Fictional $75 for 2 Months | G9: 310 | H9: Fixed Monthly | J9: 75 | K9: 2 | L9: Eligible | M9: Approved | N9: Riley Shore (Fictional) | O9: 46157 | P9: =IF(OR($A9="",$O9="",$K9=""),"",IFERROR(EDATE($O9,$K9)-1,"")) | Q9: =IF($P9="","",IFERROR($P9+1,"")) | R9: Converted to Full Rate | S9: =IF($A9="","",IFERROR(IF(OR($G9="",$H9="",$K9=""),"",IF($H9="Percentage",IF($I9="","",MIN($G9*$I9,$G9)*$K9),IF($H9="Fixed Monthly",IF($J9="","",MIN($J9,$G9)*$K9),IF($H9="First Month Free",$G9,"")))),"")) | T9: 46197 | U9: =IF(OR($A9="",$G9="",$K9="",$S9=""),"",IFERROR(MAX($G9*$K9-$S9,0),"")) | V9: =IF($A9="","",IF(OR($B9="",$C9="",$D9="",$E9="",$F9="",$G9="",$H9="",$K9="",$L9="",$M9="",$O9="",$R9=""),"Review: incomplete",IF(COUNTIF($A$5:$A$204,$A9)>1,"Review: duplicate ID",IF(AND($H9="Percentage",$I9=""),"Review: incomplete",IF(AND($H9="Fixed Monthly",$J9=""),"Review: incomplete",IF(AND($H9="First Month Free",OR($I9<>"",$J9<>"")),"Review: discount fields",IF(OR(AND($H9="Percentage",$J9<>""),AND($H9="Fixed Monthly",$I9<>"")),"Review: discount fields",IF(AND($H9="First Month Free",$K9<>1),"Review: discount period",IF(AND($E9<>"",$O9<>"",$O9<$E9),"Review: start date",IF($L9="Pending Review","Review: eligibility",IF(AND($L9="Eligible",$M9<>"Approved"),"Review: approval",IF(AND($L9="Not Eligible",$M9="Approved"),"Review: eligibility conflict",IF(AND($M9="Approved",$N9=""),"Review: approval owner",IF(AND($R9="Active",$T9=""),"Review: set due date",IF(AND($R9="Active",$Q9<>"",TODAY()>=$Q9),"Review: convert to full rate",IF(AND($R9="Active",$T9<>"",TODAY()>$T9),"Review: overdue","OK")))))))))))))))) | W9: Fictional sample marked converted after its discount period.
A10: PROMO-FIC-006 | B10: Fictional Cedar Lantern Storage — Northfield | C10: A-999 | D10: 1000 | E10: 46282 | F10: Fictional 50% Annual Introductory Offer | G10: 625 | H10: Percentage | I10: 0.5 | K10: 12 | L10: Eligible | M10: Approved | N10: Jordan Vale (Fictional) | O10: 46282 | P10: =IF(OR($A10="",$O10="",$K10=""),"",IFERROR(EDATE($O10,$K10)-1,"")) | Q10: =IF($P10="","",IFERROR($P10+1,"")) | R10: Active | S10: =IF($A10="","",IFERROR(IF(OR($G10="",$H10="",$K10=""),"",IF($H10="Percentage",IF($I10="","",MIN($G10*$I10,$G10)*$K10),IF($H10="Fixed Monthly",IF($J10="","",MIN($J10,$G10)*$K10),IF($H10="First Month Free",$G10,"")))),"")) | T10: 46279 | U10: =IF(OR($A10="",$G10="",$K10="",$S10=""),"",IFERROR(MAX($G10*$K10-$S10,0),"")) | V10: =IF($A10="","",IF(OR($B10="",$C10="",$D10="",$E10="",$F10="",$G10="",$H10="",$K10="",$L10="",$M10="",$O10="",$R10=""),"Review: incomplete",IF(COUNTIF($A$5:$A$204,$A10)>1,"Review: duplicate ID",IF(AND($H10="Percentage",$I10=""),"Review: incomplete",IF(AND($H10="Fixed Monthly",$J10=""),"Review: incomplete",IF(AND($H10="First Month Free",OR($I10<>"",$J10<>"")),"Review: discount fields",IF(OR(AND($H10="Percentage",$J10<>""),AND($H10="Fixed Monthly",$I10<>"")),"Review: discount fields",IF(AND($H10="First Month Free",$K10<>1),"Review: discount period",IF(AND($E10<>"",$O10<>"",$O10<$E10),"Review: start date",IF($L10="Pending Review","Review: eligibility",IF(AND($L10="Eligible",$M10<>"Approved"),"Review: approval",IF(AND($L10="Not Eligible",$M10="Approved"),"Review: eligibility conflict",IF(AND($M10="Approved",$N10=""),"Review: approval owner",IF(AND($R10="Active",$T10=""),"Review: set due date",IF(AND($R10="Active",$Q10<>"",TODAY()>=$Q10),"Review: convert to full rate",IF(AND($R10="Active",$T10<>"",TODAY()>$T10),"Review: overdue","OK")))))))))))))))) | W10: Fictional boundary sample uses the entered size, percentage, and month limits.
A11: PROMO-FIC-007 | B11: Fictional Bluebird Box Storage — Riverton | C11: B-011 | D11: 10 | E11: 46279 | F11: Fictional $300 Single-Month Offer | G11: 350 | H11: Fixed Monthly | J11: 300 | K11: 1 | L11: Eligible | M11: Pending Approval | O11: 46279 | P11: =IF(OR($A11="",$O11="",$K11=""),"",IFERROR(EDATE($O11,$K11)-1,"")) | Q11: =IF($P11="","",IFERROR($P11+1,"")) | R11: Active | S11: =IF($A11="","",IFERROR(IF(OR($G11="",$H11="",$K11=""),"",IF($H11="Percentage",IF($I11="","",MIN($G11*$I11,$G11)*$K11),IF($H11="Fixed Monthly",IF($J11="","",MIN($J11,$G11)*$K11),IF($H11="First Month Free",$G11,"")))),"")) | T11: 46278 | U11: =IF(OR($A11="",$G11="",$K11="",$S11=""),"",IFERROR(MAX($G11*$K11-$S11,0),"")) | V11: =IF($A11="","",IF(OR($B11="",$C11="",$D11="",$E11="",$F11="",$G11="",$H11="",$K11="",$L11="",$M11="",$O11="",$R11=""),"Review: incomplete",IF(COUNTIF($A$5:$A$204,$A11)>1,"Review: duplicate ID",IF(AND($H11="Percentage",$I11=""),"Review: incomplete",IF(AND($H11="Fixed Monthly",$J11=""),"Review: incomplete",IF(AND($H11="First Month Free",OR($I11<>"",$J11<>"")),"Review: discount fields",IF(OR(AND($H11="Percentage",$J11<>""),AND($H11="Fixed Monthly",$I11<>"")),"Review: discount fields",IF(AND($H11="First Month Free",$K11<>1),"Review: discount period",IF(AND($E11<>"",$O11<>"",$O11<$E11),"Review: start date",IF($L11="Pending Review","Review: eligibility",IF(AND($L11="Eligible",$M11<>"Approved"),"Review: approval",IF(AND($L11="Not Eligible",$M11="Approved"),"Review: eligibility conflict",IF(AND($M11="Approved",$N11=""),"Review: approval owner",IF(AND($R11="Active",$T11=""),"Review: set due date",IF(AND($R11="Active",$Q11<>"",TODAY()>=$Q11),"Review: convert to full rate",IF(AND($R11="Active",$T11<>"",TODAY()>$T11),"Review: overdue","OK")))))))))))))))) | W11: Fictional boundary sample remains pending human approval.
A12: PROMO-FIC-008 | B12: Fictional Juniper Key Storage — Westhaven | C12: C-220 | D12: 125 | E12: 46037 | F12: Fictional 10% Six-Month Offer | G12: 220 | H12: Percentage | I12: 0.1 | K12: 6 | L12: Eligible | M12: Approved | N12: Taylor Wren (Fictional) | O12: 46037 | P12: =IF(OR($A12="",$O12="",$K12=""),"",IFERROR(EDATE($O12,$K12)-1,"")) | Q12: =IF($P12="","",IFERROR($P12+1,"")) | R12: Expired | S12: =IF($A12="","",IFERROR(IF(OR($G12="",$H12="",$K12=""),"",IF($H12="Percentage",IF($I12="","",MIN($G12*$I12,$G12)*$K12),IF($H12="Fixed Monthly",IF($J12="","",MIN($J12,$G12)*$K12),IF($H12="First Month Free",$G12,"")))),"")) | T12: 46077 | U12: =IF(OR($A12="",$G12="",$K12="",$S12=""),"",IFERROR(MAX($G12*$K12-$S12,0),"")) | V12: =IF($A12="","",IF(OR($B12="",$C12="",$D12="",$E12="",$F12="",$G12="",$H12="",$K12="",$L12="",$M12="",$O12="",$R12=""),"Review: incomplete",IF(COUNTIF($A$5:$A$204,$A12)>1,"Review: duplicate ID",IF(AND($H12="Percentage",$I12=""),"Review: incomplete",IF(AND($H12="Fixed Monthly",$J12=""),"Review: incomplete",IF(AND($H12="First Month Free",OR($I12<>"",$J12<>"")),"Review: discount fields",IF(OR(AND($H12="Percentage",$J12<>""),AND($H12="Fixed Monthly",$I12<>"")),"Review: discount fields",IF(AND($H12="First Month Free",$K12<>1),"Review: discount period",IF(AND($E12<>"",$O12<>"",$O12<$E12),"Review: start date",IF($L12="Pending Review","Review: eligibility",IF(AND($L12="Eligible",$M12<>"Approved"),"Review: approval",IF(AND($L12="Not Eligible",$M12="Approved"),"Review: eligibility conflict",IF(AND($M12="Approved",$N12=""),"Review: approval owner",IF(AND($R12="Active",$T12=""),"Review: set due date",IF(AND($R12="Active",$Q12<>"",TODAY()>=$Q12),"Review: convert to full rate",IF(AND($R12="Active",$T12<>"",TODAY()>$T12),"Review: overdue","OK")))))))))))))))) | W12: Fictional historical sample is retained as expired.
A13: PROMO-FIC-009 | B13: Fictional Maple Rocket Storage — Eastport | C13: D-105 | D13: 50 | E13: 46267 | F13: Fictional 20% for 2 Months | G13: 135 | H13: Percentage | I13: 0.2 | K13: 2 | L13: Eligible | M13: Approved | N13: Morgan Pike (Fictional) | O13: 46267 | P13: =IF(OR($A13="",$O13="",$K13=""),"",IFERROR(EDATE($O13,$K13)-1,"")) | Q13: =IF($P13="","",IFERROR($P13+1,"")) | R13: Active | S13: =IF($A13="","",IFERROR(IF(OR($G13="",$H13="",$K13=""),"",IF($H13="Percentage",IF($I13="","",MIN($G13*$I13,$G13)*$K13),IF($H13="Fixed Monthly",IF($J13="","",MIN($J13,$G13)*$K13),IF($H13="First Month Free",$G13,"")))),"")) | T13: 46276 | U13: =IF(OR($A13="",$G13="",$K13="",$S13=""),"",IFERROR(MAX($G13*$K13-$S13,0),"")) | V13: =IF($A13="","",IF(OR($B13="",$C13="",$D13="",$E13="",$F13="",$G13="",$H13="",$K13="",$L13="",$M13="",$O13="",$R13=""),"Review: incomplete",IF(COUNTIF($A$5:$A$204,$A13)>1,"Review: duplicate ID",IF(AND($H13="Percentage",$I13=""),"Review: incomplete",IF(AND($H13="Fixed Monthly",$J13=""),"Review: incomplete",IF(AND($H13="First Month Free",OR($I13<>"",$J13<>"")),"Review: discount fields",IF(OR(AND($H13="Percentage",$J13<>""),AND($H13="Fixed Monthly",$I13<>"")),"Review: discount fields",IF(AND($H13="First Month Free",$K13<>1),"Review: discount period",IF(AND($E13<>"",$O13<>"",$O13<$E13),"Review: start date",IF($L13="Pending Review","Review: eligibility",IF(AND($L13="Eligible",$M13<>"Approved"),"Review: approval",IF(AND($L13="Not Eligible",$M13="Approved"),"Review: eligibility conflict",IF(AND($M13="Approved",$N13=""),"Review: approval owner",IF(AND($R13="Active",$T13=""),"Review: set due date",IF(AND($R13="Active",$Q13<>"",TODAY()>=$Q13),"Review: convert to full rate",IF(AND($R13="Active",$T13<>"",TODAY()>$T13),"Review: overdue","OK")))))))))))))))) | W13: Fictional sample is intentionally overdue for a human review.
A14: PROMO-FIC-010 | B14: Fictional Silver Acorn Storage — Lakeview | C14: E-007 | D14: 25 | E14: 46297 | F14: Fictional First Month Free Preview | G14: 99 | H14: First Month Free | K14: 1 | L14: Eligible | M14: Approved | N14: Riley Shore (Fictional) | O14: 46297 | P14: =IF(OR($A14="",$O14="",$K14=""),"",IFERROR(EDATE($O14,$K14)-1,"")) | Q14: =IF($P14="","",IFERROR($P14+1,"")) | R14: Active | S14: =IF($A14="","",IFERROR(IF(OR($G14="",$H14="",$K14=""),"",IF($H14="Percentage",IF($I14="","",MIN($G14*$I14,$G14)*$K14),IF($H14="Fixed Monthly",IF($J14="","",MIN($J14,$G14)*$K14),IF($H14="First Month Free",$G14,"")))),"")) | T14: 46287 | U14: =IF(OR($A14="",$G14="",$K14="",$S14=""),"",IFERROR(MAX($G14*$K14-$S14,0),"")) | V14: =IF($A14="","",IF(OR($B14="",$C14="",$D14="",$E14="",$F14="",$G14="",$H14="",$K14="",$L14="",$M14="",$O14="",$R14=""),"Review: incomplete",IF(COUNTIF($A$5:$A$204,$A14)>1,"Review: duplicate ID",IF(AND($H14="Percentage",$I14=""),"Review: incomplete",IF(AND($H14="Fixed Monthly",$J14=""),"Review: incomplete",IF(AND($H14="First Month Free",OR($I14<>"",$J14<>"")),"Review: discount fields",IF(OR(AND($H14="Percentage",$J14<>""),AND($H14="Fixed Monthly",$I14<>"")),"Review: discount fields",IF(AND($H14="First Month Free",$K14<>1),"Review: discount period",IF(AND($E14<>"",$O14<>"",$O14<$E14),"Review: start date",IF($L14="Pending Review","Review: eligibility",IF(AND($L14="Eligible",$M14<>"Approved"),"Review: approval",IF(AND($L14="Not Eligible",$M14="Approved"),"Review: eligibility conflict",IF(AND($M14="Approved",$N14=""),"Review: approval owner",IF(AND($R14="Active",$T14=""),"Review: set due date",IF(AND($R14="Active",$Q14<>"",TODAY()>=$Q14),"Review: convert to full rate",IF(AND($R14="Active",$T14<>"",TODAY()>$T14),"Review: overdue","OK")))))))))))))))) | W14: Fictional future move-in offer with a scheduled review date.
P15: =IF(OR($A15="",$O15="",$K15=""),"",IFERROR(EDATE($O15,$K15)-1,"")) | Q15: =IF($P15="","",IFERROR($P15+1,"")) | S15: =IF($A15="","",IFERROR(IF(OR($G15="",$H15="",$K15=""),"",IF($H15="Percentage",IF($I15="","",MIN($G15*$I15,$G15)*$K15),IF($H15="Fixed Monthly",IF($J15="","",MIN($J15,$G15)*$K15),IF($H15="First Month Free",$G15,"")))),"")) | U15: =IF(OR($A15="",$G15="",$K15="",$S15=""),"",IFERROR(MAX($G15*$K15-$S15,0),"")) | V15: =IF($A15="","",IF(OR($B15="",$C15="",$D15="",$E15="",$F15="",$G15="",$H15="",$K15="",$L15="",$M15="",$O15="",$R15=""),"Review: incomplete",IF(COUNTIF($A$5:$A$204,$A15)>1,"Review: duplicate ID",IF(AND($H15="Percentage",$I15=""),"Review: incomplete",IF(AND($H15="Fixed Monthly",$J15=""),"Review: incomplete",IF(AND($H15="First Month Free",OR($I15<>"",$J15<>"")),"Review: discount fields",IF(OR(AND($H15="Percentage",$J15<>""),AND($H15="Fixed Monthly",$I15<>"")),"Review: discount fields",IF(AND($H15="First Month Free",$K15<>1),"Review: discount period",IF(AND($E15<>"",$O15<>"",$O15<$E15),"Review: start date",IF($L15="Pending Review","Review: eligibility",IF(AND($L15="Eligible",$M15<>"Approved"),"Review: approval",IF(AND($L15="Not Eligible",$M15="Approved"),"Review: eligibility conflict",IF(AND($M15="Approved",$N15=""),"Review: approval owner",IF(AND($R15="Active",$T15=""),"Review: set due date",IF(AND($R15="Active",$Q15<>"",TODAY()>=$Q15),"Review: convert to full rate",IF(AND($R15="Active",$T15<>"",TODAY()>$T15),"Review: overdue","OK"))))))))))))))))
P16: =IF(OR($A16="",$O16="",$K16=""),"",IFERROR(EDATE($O16,$K16)-1,"")) | Q16: =IF($P16="","",IFERROR($P16+1,"")) | S16: =IF($A16="","",IFERROR(IF(OR($G16="",$H16="",$K16=""),"",IF($H16="Percentage",IF($I16="","",MIN($G16*$I16,$G16)*$K16),IF($H16="Fixed Monthly",IF($J16="","",MIN($J16,$G16)*$K16),IF($H16="First Month Free",$G16,"")))),"")) | U16: =IF(OR($A16="",$G16="",$K16="",$S16=""),"",IFERROR(MAX($G16*$K16-$S16,0),"")) | V16: =IF($A16="","",IF(OR($B16="",$C16="",$D16="",$E16="",$F16="",$G16="",$H16="",$K16="",$L16="",$M16="",$O16="",$R16=""),"Review: incomplete",IF(COUNTIF($A$5:$A$204,$A16)>1,"Review: duplicate ID",IF(AND($H16="Percentage",$I16=""),"Review: incomplete",IF(AND($H16="Fixed Monthly",$J16=""),"Review: incomplete",IF(AND($H16="First Month Free",OR($I16<>"",$J16<>"")),"Review: discount fields",IF(OR(AND($H16="Percentage",$J16<>""),AND($H16="Fixed Monthly",$I16<>"")),"Review: discount fields",IF(AND($H16="First Month Free",$K16<>1),"Review: discount period",IF(AND($E16<>"",$O16<>"",$O16<$E16),"Review: start date",IF($L16="Pending Review","Review: eligibility",IF(AND($L16="Eligible",$M16<>"Approved"),"Review: approval",IF(AND($L16="Not Eligible",$M16="Approved"),"Review: eligibility conflict",IF(AND($M16="Approved",$N16=""),"Review: approval owner",IF(AND($R16="Active",$T16=""),"Review: set due date",IF(AND($R16="Active",$Q16<>"",TODAY()>=$Q16),"Review: convert to full rate",IF(AND($R16="Active",$T16<>"",TODAY()>$T16),"Review: overdue","OK"))))))))))))))))
P17: =IF(OR($A17="",$O17="",$K17=""),"",IFERROR(EDATE($O17,$K17)-1,"")) | Q17: =IF($P17="","",IFERROR($P17+1,"")) | S17: =IF($A17="","",IFERROR(IF(OR($G17="",$H17="",$K17=""),"",IF($H17="Percentage",IF($I17="","",MIN($G17*$I17,$G17)*$K17),IF($H17="Fixed Monthly",IF($J17="","",MIN($J17,$G17)*$K17),IF($H17="First Month Free",$G17,"")))),"")) | U17: =IF(OR($A17="",$G17="",$K17="",$S17=""),"",IFERROR(MAX($G17*$K17-$S17,0),"")) | V17: =IF($A17="","",IF(OR($B17="",$C17="",$D17="",$E17="",$F17="",$G17="",$H17="",$K17="",$L17="",$M17="",$O17="",$R17=""),"Review: incomplete",IF(COUNTIF($A$5:$A$204,$A17)>1,"Review: duplicate ID",IF(AND($H17="Percentage",$I17=""),"Review: incomplete",IF(AND($H17="Fixed Monthly",$J17=""),"Review: incomplete",IF(AND($H17="First Month Free",OR($I17<>"",$J17<>"")),"Review: discount fields",IF(OR(AND($H17="Percentage",$J17<>""),AND($H17="Fixed Monthly",$I17<>"")),"Review: discount fields",IF(AND($H17="First Month Free",$K17<>1),"Review: discount period",IF(AND($E17<>"",$O17<>"",$O17<$E17),"Review: start date",IF($L17="Pending Review","Review: eligibility",IF(AND($L17="Eligible",$M17<>"Approved"),"Review: approval",IF(AND($L17="Not Eligible",$M17="Approved"),"Review: eligibility conflict",IF(AND($M17="Approved",$N17=""),"Review: approval owner",IF(AND($R17="Active",$T17=""),"Review: set due date",IF(AND($R17="Active",$Q17<>"",TODAY()>=$Q17),"Review: convert to full rate",IF(AND($R17="Active",$T17<>"",TODAY()>$T17),"Review: overdue","OK"))))))))))))))))
P18: =IF(OR($A18="",$O18="",$K18=""),"",IFERROR(EDATE($O18,$K18)-1,"")) | Q18: =IF($P18="","",IFERROR($P18+1,"")) | S18: =IF($A18="","",IFERROR(IF(OR($G18="",$H18="",$K18=""),"",IF($H18="Percentage",IF($I18="","",MIN($G18*$I18,$G18)*$K18),IF($H18="Fixed Monthly",IF($J18="","",MIN($J18,$G18)*$K18),IF($H18="First Month Free",$G18,"")))),"")) | U18: =IF(OR($A18="",$G18="",$K18="",$S18=""),"",IFERROR(MAX($G18*$K18-$S18,0),"")) | V18: =IF($A18="","",IF(OR($B18="",$C18="",$D18="",$E18="",$F18="",$G18="",$H18="",$K18="",$L18="",$M18="",$O18="",$R18=""),"Review: incomplete",IF(COUNTIF($A$5:$A$204,$A18)>1,"Review: duplicate ID",IF(AND($H18="Percentage",$I18=""),"Review: incomplete",IF(AND($H18="Fixed Monthly",$J18=""),"Review: incomplete",IF(AND($H18="First Month Free",OR($I18<>"",$J18<>"")),"Review: discount fields",IF(OR(AND($H18="Percentage",$J18<>""),AND($H18="Fixed Monthly",$I18<>"")),"Review: discount fields",IF(AND($H18="First Month Free",$K18<>1),"Review: discount period",IF(AND($E18<>"",$O18<>"",$O18<$E18),"Review: start date",IF($L18="Pending Review","Review: eligibility",IF(AND($L18="Eligible",$M18<>"Approved"),"Review: approval",IF(AND($L18="Not Eligible",$M18="Approved"),"Review: eligibility conflict",IF(AND($M18="Approved",$N18=""),"Review: approval owner",IF(AND($R18="Active",$T18=""),"Review: set due date",IF(AND($R18="Active",$Q18<>"",TODAY()>=$Q18),"Review: convert to full rate",IF(AND($R18="Active",$T18<>"",TODAY()>$T18),"Review: overdue","OK"))))))))))))))))
P19: =IF(OR($A19="",$O19="",$K19=""),"",IFERROR(EDATE($O19,$K19)-1,"")) | Q19: =IF($P19="","",IFERROR($P19+1,"")) | S19: =IF($A19="","",IFERROR(IF(OR($G19="",$H19="",$K19=""),"",IF($H19="Percentage",IF($I19="","",MIN($G19*$I19,$G19)*$K19),IF($H19="Fixed Monthly",IF($J19="","",MIN($J19,$G19)*$K19),IF($H19="First Month Free",$G19,"")))),"")) | U19: =IF(OR($A19="",$G19="",$K19="",$S19=""),"",IFERROR(MAX($G19*$K19-$S19,0),"")) | V19: =IF($A19="","",IF(OR($B19="",$C19="",$D19="",$E19="",$F19="",$G19="",$H19="",$K19="",$L19="",$M19="",$O19="",$R19=""),"Review: incomplete",IF(COUNTIF($A$5:$A$204,$A19)>1,"Review: duplicate ID",IF(AND($H19="Percentage",$I19=""),"Review: incomplete",IF(AND($H19="Fixed Monthly",$J19=""),"Review: incomplete",IF(AND($H19="First Month Free",OR($I19<>"",$J19<>"")),"Review: discount fields",IF(OR(AND($H19="Percentage",$J19<>""),AND($H19="Fixed Monthly",$I19<>"")),"Review: discount fields",IF(AND($H19="First Month Free",$K19<>1),"Review: discount period",IF(AND($E19<>"",$O19<>"",$O19<$E19),"Review: start date",IF($L19="Pending Review","Review: eligibility",IF(AND($L19="Eligible",$M19<>"Approved"),"Review: approval",IF(AND($L19="Not Eligible",$M19="Approved"),"Review: eligibility conflict",IF(AND($M19="Approved",$N19=""),"Review: approval owner",IF(AND($R19="Active",$T19=""),"Review: set due date",IF(AND($R19="Active",$Q19<>"",TODAY()>=$Q19),"Review: convert to full rate",IF(AND($R19="Active",$T19<>"",TODAY()>$T19),"Review: overdue","OK"))))))))))))))))
P20: =IF(OR($A20="",$O20="",$K20=""),"",IFERROR(EDATE($O20,$K20)-1,"")) | Q20: =IF($P20="","",IFERROR($P20+1,"")) | S20: =IF($A20="","",IFERROR(IF(OR($G20="",$H20="",$K20=""),"",IF($H20="Percentage",IF($I20="","",MIN($G20*$I20,$G20)*$K20),IF($H20="Fixed Monthly",IF($J20="","",MIN($J20,$G20)*$K20),IF($H20="First Month Free",$G20,"")))),"")) | U20: =IF(OR($A20="",$G20="",$K20="",$S20=""),"",IFERROR(MAX($G20*$K20-$S20,0),"")) | V20: =IF($A20="","",IF(OR($B20="",$C20="",$D20="",$E20="",$F20="",$G20="",$H20="",$K20="",$L20="",$M20="",$O20="",$R20=""),"Review: incomplete",IF(COUNTIF($A$5:$A$204,$A20)>1,"Review: duplicate ID",IF(AND($H20="Percentage",$I20=""),"Review: incomplete",IF(AND($H20="Fixed Monthly",$J20=""),"Review: incomplete",IF(AND($H20="First Month Free",OR($I20<>"",$J20<>"")),"Review: discount fields",IF(OR(AND($H20="Percentage",$J20<>""),AND($H20="Fixed Monthly",$I20<>"")),"Review: discount fields",IF(AND($H20="First Month Free",$K20<>1),"Review: discount period",IF(AND($E20<>"",$O20<>"",$O20<$E20),"Review: start date",IF($L20="Pending Review","Review: eligibility",IF(AND($L20="Eligible",$M20<>"Approved"),"Review: approval",IF(AND($L20="Not Eligible",$M20="Approved"),"Review: eligibility conflict",IF(AND($M20="Approved",$N20=""),"Review: approval owner",IF(AND($R20="Active",$T20=""),"Review: set due date",IF(AND($R20="Active",$Q20<>"",TODAY()>=$Q20),"Review: convert to full rate",IF(AND($R20="Active",$T20<>"",TODAY()>$T20),"Review: overdue","OK"))))))))))))))))
P21: =IF(OR($A21="",$O21="",$K21=""),"",IFERROR(EDATE($O21,$K21)-1,"")) | Q21: =IF($P21="","",IFERROR($P21+1,"")) | S21: =IF($A21="","",IFERROR(IF(OR($G21="",$H21="",$K21=""),"",IF($H21="Percentage",IF($I21="","",MIN($G21*$I21,$G21)*$K21),IF($H21="Fixed Monthly",IF($J21="","",MIN($J21,$G21)*$K21),IF($H21="First Month Free",$G21,"")))),"")) | U21: =IF(OR($A21="",$G21="",$K21="",$S21=""),"",IFERROR(MAX($G21*$K21-$S21,0),"")) | V21: =IF($A21="","",IF(OR($B21="",$C21="",$D21="",$E21="",$F21="",$G21="",$H21="",$K21="",$L21="",$M21="",$O21="",$R21=""),"Review: incomplete",IF(COUNTIF($A$5:$A$204,$A21)>1,"Review: duplicate ID",IF(AND($H21="Percentage",$I21=""),"Review: incomplete",IF(AND($H21="Fixed Monthly",$J21=""),"Review: incomplete",IF(AND($H21="First Month Free",OR($I21<>"",$J21<>"")),"Review: discount fields",IF(OR(AND($H21="Percentage",$J21<>""),AND($H21="Fixed Monthly",$I21<>"")),"Review: discount fields",IF(AND($H21="First Month Free",$K21<>1),"Review: discount period",IF(AND($E21<>"",$O21<>"",$O21<$E21),"Review: start date",IF($L21="Pending Review","Review: eligibility",IF(AND($L21="Eligible",$M21<>"Approved"),"Review: approval",IF(AND($L21="Not Eligible",$M21="Approved"),"Review: eligibility conflict",IF(AND($M21="Approved",$N21=""),"Review: approval owner",IF(AND($R21="Active",$T21=""),"Review: set due date",IF(AND($R21="Active",$Q21<>"",TODAY()>=$Q21),"Review: convert to full rate",IF(AND($R21="Active",$T21<>"",TODAY()>$T21),"Review: overdue","OK"))))))))))))))))
P22: =IF(OR($A22="",$O22="",$K22=""),"",IFERROR(EDATE($O22,$K22)-1,"")) | Q22: =IF($P22="","",IFERROR($P22+1,"")) | S22: =IF($A22="","",IFERROR(IF(OR($G22="",$H22="",$K22=""),"",IF($H22="Percentage",IF($I22="","",MIN($G22*$I22,$G22)*$K22),IF($H22="Fixed Monthly",IF($J22="","",MIN($J22,$G22)*$K22),IF($H22="First Month Free",$G22,"")))),"")) | U22: =IF(OR($A22="",$G22="",$K22="",$S22=""),"",IFERROR(MAX($G22*$K22-$S22,0),"")) | V22: =IF($A22="","",IF(OR($B22="",$C22="",$D22="",$E22="",$F22="",$G22="",$H22="",$K22="",$L22="",$M22="",$O22="",$R22=""),"Review: incomplete",IF(COUNTIF($A$5:$A$204,$A22)>1,"Review: duplicate ID",IF(AND($H22="Percentage",$I22=""),"Review: incomplete",IF(AND($H22="Fixed Monthly",$J22=""),"Review: incomplete",IF(AND($H22="First Month Free",OR($I22<>"",$J22<>"")),"Review: discount fields",IF(OR(AND($H22="Percentage",$J22<>""),AND($H22="Fixed Monthly",$I22<>"")),"Review: discount fields",IF(AND($H22="First Month Free",$K22<>1),"Review: discount period",IF(AND($E22<>"",$O22<>"",$O22<$E22),"Review: start date",IF($L22="Pending Review","Review: eligibility",IF(AND($L22="Eligible",$M22<>"Approved"),"Review: approval",IF(AND($L22="Not Eligible",$M22="Approved"),"Review: eligibility conflict",IF(AND($M22="Approved",$N22=""),"Review: approval owner",IF(AND($R22="Active",$T22=""),"Review: set due date",IF(AND($R22="Active",$Q22<>"",TODAY()>=$Q22),"Review: convert to full rate",IF(AND($R22="Active",$T22<>"",TODAY()>$T22),"Review: overdue","OK"))))))))))))))))
P23: =IF(OR($A23="",$O23="",$K23=""),"",IFERROR(EDATE($O23,$K23)-1,"")) | Q23: =IF($P23="","",IFERROR($P23+1,"")) | S23: =IF($A23="","",IFERROR(IF(OR($G23="",$H23="",$K23=""),"",IF($H23="Percentage",IF($I23="","",MIN($G23*$I23,$G23)*$K23),IF($H23="Fixed Monthly",IF($J23="","",MIN($J23,$G23)*$K23),IF($H23="First Month Free",$G23,"")))),"")) | U23: =IF(OR($A23="",$G23="",$K23="",$S23=""),"",IFERROR(MAX($G23*$K23-$S23,0),"")) | V23: =IF($A23="","",IF(OR($B23="",$C23="",$D23="",$E23="",$F23="",$G23="",$H23="",$K23="",$L23="",$M23="",$O23="",$R23=""),"Review: incomplete",IF(COUNTIF($A$5:$A$204,$A23)>1,"Review: duplicate ID",IF(AND($H23="Percentage",$I23=""),"Review: incomplete",IF(AND($H23="Fixed Monthly",$J23=""),"Review: incomplete",IF(AND($H23="First Month Free",OR($I23<>"",$J23<>"")),"Review: discount fields",IF(OR(AND($H23="Percentage",$J23<>""),AND($H23="Fixed Monthly",$I23<>"")),"Review: discount fields",IF(AND($H23="First Month Free",$K23<>1),"Review: discount period",IF(AND($E23<>"",$O23<>"",$O23<$E23),"Review: start date",IF($L23="Pending Review","Review: eligibility",IF(AND($L23="Eligible",$M23<>"Approved"),"Review: approval",IF(AND($L23="Not Eligible",$M23="Approved"),"Review: eligibility conflict",IF(AND($M23="Approved",$N23=""),"Review: approval owner",IF(AND($R23="Active",$T23=""),"Review: set due date",IF(AND($R23="Active",$Q23<>"",TODAY()>=$Q23),"Review: convert to full rate",IF(AND($R23="Active",$T23<>"",TODAY()>$T23),"Review: overdue","OK"))))))))))))))))
P24: =IF(OR($A24="",$O24="",$K24=""),"",IFERROR(EDATE($O24,$K24)-1,"")) | Q24: =IF($P24="","",IFERROR($P24+1,"")) | S24: =IF($A24="","",IFERROR(IF(OR($G24="",$H24="",$K24=""),"",IF($H24="Percentage",IF($I24="","",MIN($G24*$I24,$G24)*$K24),IF($H24="Fixed Monthly",IF($J24="","",MIN($J24,$G24)*$K24),IF($H24="First Month Free",$G24,"")))),"")) | U24: =IF(OR($A24="",$G24="",$K24="",$S24=""),"",IFERROR(MAX($G24*$K24-$S24,0),"")) | V24: =IF($A24="","",IF(OR($B24="",$C24="",$D24="",$E24="",$F24="",$G24="",$H24="",$K24="",$L24="",$M24="",$O24="",$R24=""),"Review: incomplete",IF(COUNTIF($A$5:$A$204,$A24)>1,"Review: duplicate ID",IF(AND($H24="Percentage",$I24=""),"Review: incomplete",IF(AND($H24="Fixed Monthly",$J24=""),"Review: incomplete",IF(AND($H24="First Month Free",OR($I24<>"",$J24<>"")),"Review: discount fields",IF(OR(AND($H24="Percentage",$J24<>""),AND($H24="Fixed Monthly",$I24<>"")),"Review: discount fields",IF(AND($H24="First Month Free",$K24<>1),"Review: discount period",IF(AND($E24<>"",$O24<>"",$O24<$E24),"Review: start date",IF($L24="Pending Review","Review: eligibility",IF(AND($L24="Eligible",$M24<>"Approved"),"Review: approval",IF(AND($L24="Not Eligible",$M24="Approved"),"Review: eligibility conflict",IF(AND($M24="Approved",$N24=""),"Review: approval owner",IF(AND($R24="Active",$T24=""),"Review: set due date",IF(AND($R24="Active",$Q24<>"",TODAY()>=$Q24),"Review: convert to full rate",IF(AND($R24="Active",$T24<>"",TODAY()>$T24),"Review: overdue","OK"))))))))))))))))
P25: =IF(OR($A25="",$O25="",$K25=""),"",IFERROR(EDATE($O25,$K25)-1,"")) | Q25: =IF($P25="","",IFERROR($P25+1,"")) | S25: =IF($A25="","",IFERROR(IF(OR($G25="",$H25="",$K25=""),"",IF($H25="Percentage",IF($I25="","",MIN($G25*$I25,$G25)*$K25),IF($H25="Fixed Monthly",IF($J25="","",MIN($J25,$G25)*$K25),IF($H25="First Month Free",$G25,"")))),"")) | U25: =IF(OR($A25="",$G25="",$K25="",$S25=""),"",IFERROR(MAX($G25*$K25-$S25,0),"")) | V25: =IF($A25="","",IF(OR($B25="",$C25="",$D25="",$E25="",$F25="",$G25="",$H25="",$K25="",$L25="",$M25="",$O25="",$R25=""),"Review: incomplete",IF(COUNTIF($A$5:$A$204,$A25)>1,"Review: duplicate ID",IF(AND($H25="Percentage",$I25=""),"Review: incomplete",IF(AND($H25="Fixed Monthly",$J25=""),"Review: incomplete",IF(AND($H25="First Month Free",OR($I25<>"",$J25<>"")),"Review: discount fields",IF(OR(AND($H25="Percentage",$J25<>""),AND($H25="Fixed Monthly",$I25<>"")),"Review: discount fields",IF(AND($H25="First Month Free",$K25<>1),"Review: discount period",IF(AND($E25<>"",$O25<>"",$O25<$E25),"Review: start date",IF($L25="Pending Review","Review: eligibility",IF(AND($L25="Eligible",$M25<>"Approved"),"Review: approval",IF(AND($L25="Not Eligible",$M25="Approved"),"Review: eligibility conflict",IF(AND($M25="Approved",$N25=""),"Review: approval owner",IF(AND($R25="Active",$T25=""),"Review: set due date",IF(AND($R25="Active",$Q25<>"",TODAY()>=$Q25),"Review: convert to full rate",IF(AND($R25="Active",$T25<>"",TODAY()>$T25),"Review: overdue","OK"))))))))))))))))
P26: =IF(OR($A26="",$O26="",$K26=""),"",IFERROR(EDATE($O26,$K26)-1,"")) | Q26: =IF($P26="","",IFERROR($P26+1,"")) | S26: =IF($A26="","",IFERROR(IF(OR($G26="",$H26="",$K26=""),"",IF($H26="Percentage",IF($I26="","",MIN($G26*$I26,$G26)*$K26),IF($H26="Fixed Monthly",IF($J26="","",MIN($J26,$G26)*$K26),IF($H26="First Month Free",$G26,"")))),"")) | U26: =IF(OR($A26="",$G26="",$K26="",$S26=""),"",IFERROR(MAX($G26*$K26-$S26,0),"")) | V26: =IF($A26="","",IF(OR($B26="",$C26="",$D26="",$E26="",$F26="",$G26="",$H26="",$K26="",$L26="",$M26="",$O26="",$R26=""),"Review: incomplete",IF(COUNTIF($A$5:$A$204,$A26)>1,"Review: duplicate ID",IF(AND($H26="Percentage",$I26=""),"Review: incomplete",IF(AND($H26="Fixed Monthly",$J26=""),"Review: incomplete",IF(AND($H26="First Month Free",OR($I26<>"",$J26<>"")),"Review: discount fields",IF(OR(AND($H26="Percentage",$J26<>""),AND($H26="Fixed Monthly",$I26<>"")),"Review: discount fields",IF(AND($H26="First Month Free",$K26<>1),"Review: discount period",IF(AND($E26<>"",$O26<>"",$O26<$E26),"Review: start date",IF($L26="Pending Review","Review: eligibility",IF(AND($L26="Eligible",$M26<>"Approved"),"Review: approval",IF(AND($L26="Not Eligible",$M26="Approved"),"Review: eligibility conflict",IF(AND($M26="Approved",$N26=""),"Review: approval owner",IF(AND($R26="Active",$T26=""),"Review: set due date",IF(AND($R26="Active",$Q26<>"",TODAY()>=$Q26),"Review: convert to full rate",IF(AND($R26="Active",$T26<>"",TODAY()>$T26),"Review: overdue","OK"))))))))))))))))
... P204: =IF(OR($A204="",$O204="",$K204=""),"",IFERROR(EDATE($O204,$K204)-1,"")) | Q204: =IF($P204="","",IFERROR($P204+1,"")) | S204: =IF($A204="","",IFERROR(IF(OR($G204="",$H204="",$K204=""),"",IF($H204="Percentage",IF($I204="","",MIN($G204*$I204,$G204)*$K204),IF($H204="Fixed Monthly",IF($J204="","",MIN($J204,$G204)*$K204),IF($H204="First Month Free",$G204,"")))),"")) | U204: =IF(OR($A204="",$G204="",$K204="",$S204=""),"",IFERROR(MAX($G204*$K204-$S204,0),"")) | V204: =IF($A204="","",IF(OR($B204="",$C204="",$D204="",$E204="",$F204="",$G204="",$H204="",$K204="",$L204="",$M204="",$O204="",$R204=""),"Review: incomplete",IF(COUNTIF($A$5:$A$204,$A204)>1,"Review: duplicate ID",IF(AND($H204="Percentage",$I204=""),"Review: incomplete",IF(AND($H204="Fixed Monthly",$J204=""),"Review: incomplete",IF(AND($H204="First Month Free",OR($I204<>"",$J204<>"")),"Review: discount fields",IF(OR(AND($H204="Percentage",$J204<>""),AND($H204="Fixed Monthly",$I204<>"")),"Review: discount fields",IF(AND($H204="First Month Free",$K204<>1),"Review: discount period",IF(AND($E204<>"",$O204<>"",$O204<$E204),"Review: start date",IF($L204="Pending Review","Review: eligibility",IF(AND($L204="Eligible",$M204<>"Approved"),"Review: approval",IF(AND($L204="Not Eligible",$M204="Approved"),"Review: eligibility conflict",IF(AND($M204="Approved",$N204=""),"Review: approval owner",IF(AND($R204="Active",$T204=""),"Review: set due date",IF(AND($R204="Active",$Q204<>"",TODAY()>=$Q204),"Review: convert to full rate",IF(AND($R204="Active",$T204<>"",TODAY()>$T204),"Review: overdue","OK"))))))))))))))))

Sheet Assumptions
A1: Discount and Promotion Assumptions
A2: Edit the yellow facility lists, status lists, and limits used by the Promotions register.
A3: All facilities and people in the sample records are fictional. Estimates support human review only.
A4: Facility Options | C4: Discount Methods | E4: Eligibility Status | G4: Approval Status | I4: Record Status | K4: Limit or Threshold | L4: Editable Value
A5: Fictional Cedar Lantern Storage — Northfield | C5: Percentage | E5: Eligible | G5: Pending Approval | I5: Active | K5: Maximum discount period (months) | L5: 12
A6: Fictional Bluebird Box Storage — Riverton | C6: Fixed Monthly | E6: Not Eligible | G6: Approved | I6: Converted to Full Rate | K6: Maximum percentage discount | L6: 0.5
A7: Fictional Juniper Key Storage — Westhaven | C7: First Month Free | E7: Pending Review | G7: Declined | I7: Canceled | K7: Maximum fixed monthly discount | L7: 300
A8: Fictional Maple Rocket Storage — Eastport | I8: Expired | K8: Minimum unit size (square feet) | L8: 10
A9: Fictional Silver Acorn Storage — Lakeview | K9: Maximum unit size (square feet) | L9: 1000
K10: Maximum standard monthly rate | L10: 5000
K11: Earliest permitted date | L11: 45292
K12: Latest permitted date | L12: 48213
K13: Upcoming conversion window (days) | L13: 30
K15: Warnings request human review. This workbook does not send notices, change rates, or update other systems.
