Workbook

Sheet Summary
A1: Self Storage Development Budget Summary
A2: Calculated from Budget entries as of 09/11/2026. Review flags are planning prompts for human review.
A4: Total Budget | B4: =IF(COUNT(Budget!$G$5:$G$104)=0,"",SUM(Budget!$G$5:$G$104)) | C4: Total Forecast | D4: =IF(COUNT(Budget!$H$5:$H$104)=0,"",SUM(Budget!$H$5:$H$104)) | E4: Total Drawn | F4: =IF(COUNT(Budget!$I$5:$I$104)=0,"",SUM(Budget!$I$5:$I$104)) | G4: Budget Remaining | H4: =IF(B4="","",B4-IF(D4="",0,D4))
A6: Forecast Rate | B6: =IF(OR(B4="",D4=""),"",IFERROR(D4/B4,"")) | C6: Draw Rate | D6: =IF(OR(B4="",F4=""),"",IFERROR(F4/B4,"")) | E6: Open Items | F6: =IF(COUNTA(Budget!$A$5:$A$104)=0,"",COUNTIFS(Budget!$A$5:$A$104,"<>",Budget!$L$5:$L$104,"<>Complete",Budget!$L$5:$L$104,"<>Deferred")) | G6: Review Items | H6: =IF(COUNTA(Budget!$A$5:$A$104)=0,"",COUNTIF(Budget!$O$5:$O$104,"Review:*"))
A8: Earliest Due Date | B8: =IF(COUNT(Budget!$M$5:$M$104)=0,"",MIN(Budget!$M$5:$M$104)) | C8: Latest Due Date | D8: =IF(COUNT(Budget!$M$5:$M$104)=0,"",MAX(Budget!$M$5:$M$104)) | E8: Forecast Variance | F8: =IF(B4="","",B4-IF(D4="",0,D4)) | G8: Budget Lines | H8: =IF(COUNTA(Budget!$C$5:$C$104)=0,"",COUNTA(Budget!$C$5:$C$104))
A10: Budget by Category
A11: Category | B11: Budget | C11: Forecast | D11: Drawn | E11: Variance | F11: Draw Rate | G11: Lines | H11: Review Items
A12: =Assumptions!D4 | B12: =IF(COUNTIF(Budget!$B$5:$B$104,$A12)=0,"",SUMIF(Budget!$B$5:$B$104,$A12,Budget!$G$5:$G$104)) | C12: =IF(COUNTIFS(Budget!$B$5:$B$104,$A12,Budget!$H$5:$H$104,"<>")=0,"",SUMIF(Budget!$B$5:$B$104,$A12,Budget!$H$5:$H$104)) | D12: =IF(COUNTIFS(Budget!$B$5:$B$104,$A12,Budget!$I$5:$I$104,"<>")=0,"",SUMIF(Budget!$B$5:$B$104,$A12,Budget!$I$5:$I$104)) | E12: =IF(B12="","",B12-IF(C12="",0,C12)) | F12: =IF(OR(B12="",D12=""),"",IFERROR(D12/B12,"")) | G12: =IF(COUNTIF(Budget!$B$5:$B$104,$A12)=0,"",COUNTIF(Budget!$B$5:$B$104,$A12)) | H12: =IF(G12="","",COUNTIFS(Budget!$B$5:$B$104,$A12,Budget!$O$5:$O$104,"Review:*"))
A13: =Assumptions!D5 | B13: =IF(COUNTIF(Budget!$B$5:$B$104,$A13)=0,"",SUMIF(Budget!$B$5:$B$104,$A13,Budget!$G$5:$G$104)) | C13: =IF(COUNTIFS(Budget!$B$5:$B$104,$A13,Budget!$H$5:$H$104,"<>")=0,"",SUMIF(Budget!$B$5:$B$104,$A13,Budget!$H$5:$H$104)) | D13: =IF(COUNTIFS(Budget!$B$5:$B$104,$A13,Budget!$I$5:$I$104,"<>")=0,"",SUMIF(Budget!$B$5:$B$104,$A13,Budget!$I$5:$I$104)) | E13: =IF(B13="","",B13-IF(C13="",0,C13)) | F13: =IF(OR(B13="",D13=""),"",IFERROR(D13/B13,"")) | G13: =IF(COUNTIF(Budget!$B$5:$B$104,$A13)=0,"",COUNTIF(Budget!$B$5:$B$104,$A13)) | H13: =IF(G13="","",COUNTIFS(Budget!$B$5:$B$104,$A13,Budget!$O$5:$O$104,"Review:*"))
A14: =Assumptions!D6 | B14: =IF(COUNTIF(Budget!$B$5:$B$104,$A14)=0,"",SUMIF(Budget!$B$5:$B$104,$A14,Budget!$G$5:$G$104)) | C14: =IF(COUNTIFS(Budget!$B$5:$B$104,$A14,Budget!$H$5:$H$104,"<>")=0,"",SUMIF(Budget!$B$5:$B$104,$A14,Budget!$H$5:$H$104)) | D14: =IF(COUNTIFS(Budget!$B$5:$B$104,$A14,Budget!$I$5:$I$104,"<>")=0,"",SUMIF(Budget!$B$5:$B$104,$A14,Budget!$I$5:$I$104)) | E14: =IF(B14="","",B14-IF(C14="",0,C14)) | F14: =IF(OR(B14="",D14=""),"",IFERROR(D14/B14,"")) | G14: =IF(COUNTIF(Budget!$B$5:$B$104,$A14)=0,"",COUNTIF(Budget!$B$5:$B$104,$A14)) | H14: =IF(G14="","",COUNTIFS(Budget!$B$5:$B$104,$A14,Budget!$O$5:$O$104,"Review:*"))
A15: =Assumptions!D7 | B15: =IF(COUNTIF(Budget!$B$5:$B$104,$A15)=0,"",SUMIF(Budget!$B$5:$B$104,$A15,Budget!$G$5:$G$104)) | C15: =IF(COUNTIFS(Budget!$B$5:$B$104,$A15,Budget!$H$5:$H$104,"<>")=0,"",SUMIF(Budget!$B$5:$B$104,$A15,Budget!$H$5:$H$104)) | D15: =IF(COUNTIFS(Budget!$B$5:$B$104,$A15,Budget!$I$5:$I$104,"<>")=0,"",SUMIF(Budget!$B$5:$B$104,$A15,Budget!$I$5:$I$104)) | E15: =IF(B15="","",B15-IF(C15="",0,C15)) | F15: =IF(OR(B15="",D15=""),"",IFERROR(D15/B15,"")) | G15: =IF(COUNTIF(Budget!$B$5:$B$104,$A15)=0,"",COUNTIF(Budget!$B$5:$B$104,$A15)) | H15: =IF(G15="","",COUNTIFS(Budget!$B$5:$B$104,$A15,Budget!$O$5:$O$104,"Review:*"))
A16: =Assumptions!D8 | B16: =IF(COUNTIF(Budget!$B$5:$B$104,$A16)=0,"",SUMIF(Budget!$B$5:$B$104,$A16,Budget!$G$5:$G$104)) | C16: =IF(COUNTIFS(Budget!$B$5:$B$104,$A16,Budget!$H$5:$H$104,"<>")=0,"",SUMIF(Budget!$B$5:$B$104,$A16,Budget!$H$5:$H$104)) | D16: =IF(COUNTIFS(Budget!$B$5:$B$104,$A16,Budget!$I$5:$I$104,"<>")=0,"",SUMIF(Budget!$B$5:$B$104,$A16,Budget!$I$5:$I$104)) | E16: =IF(B16="","",B16-IF(C16="",0,C16)) | F16: =IF(OR(B16="",D16=""),"",IFERROR(D16/B16,"")) | G16: =IF(COUNTIF(Budget!$B$5:$B$104,$A16)=0,"",COUNTIF(Budget!$B$5:$B$104,$A16)) | H16: =IF(G16="","",COUNTIFS(Budget!$B$5:$B$104,$A16,Budget!$O$5:$O$104,"Review:*"))
A17: =Assumptions!D9 | B17: =IF(COUNTIF(Budget!$B$5:$B$104,$A17)=0,"",SUMIF(Budget!$B$5:$B$104,$A17,Budget!$G$5:$G$104)) | C17: =IF(COUNTIFS(Budget!$B$5:$B$104,$A17,Budget!$H$5:$H$104,"<>")=0,"",SUMIF(Budget!$B$5:$B$104,$A17,Budget!$H$5:$H$104)) | D17: =IF(COUNTIFS(Budget!$B$5:$B$104,$A17,Budget!$I$5:$I$104,"<>")=0,"",SUMIF(Budget!$B$5:$B$104,$A17,Budget!$I$5:$I$104)) | E17: =IF(B17="","",B17-IF(C17="",0,C17)) | F17: =IF(OR(B17="",D17=""),"",IFERROR(D17/B17,"")) | G17: =IF(COUNTIF(Budget!$B$5:$B$104,$A17)=0,"",COUNTIF(Budget!$B$5:$B$104,$A17)) | H17: =IF(G17="","",COUNTIFS(Budget!$B$5:$B$104,$A17,Budget!$O$5:$O$104,"Review:*"))
A18: =Assumptions!D10 | B18: =IF(COUNTIF(Budget!$B$5:$B$104,$A18)=0,"",SUMIF(Budget!$B$5:$B$104,$A18,Budget!$G$5:$G$104)) | C18: =IF(COUNTIFS(Budget!$B$5:$B$104,$A18,Budget!$H$5:$H$104,"<>")=0,"",SUMIF(Budget!$B$5:$B$104,$A18,Budget!$H$5:$H$104)) | D18: =IF(COUNTIFS(Budget!$B$5:$B$104,$A18,Budget!$I$5:$I$104,"<>")=0,"",SUMIF(Budget!$B$5:$B$104,$A18,Budget!$I$5:$I$104)) | E18: =IF(B18="","",B18-IF(C18="",0,C18)) | F18: =IF(OR(B18="",D18=""),"",IFERROR(D18/B18,"")) | G18: =IF(COUNTIF(Budget!$B$5:$B$104,$A18)=0,"",COUNTIF(Budget!$B$5:$B$104,$A18)) | H18: =IF(G18="","",COUNTIFS(Budget!$B$5:$B$104,$A18,Budget!$O$5:$O$104,"Review:*"))
A19: =Assumptions!D11 | B19: =IF(COUNTIF(Budget!$B$5:$B$104,$A19)=0,"",SUMIF(Budget!$B$5:$B$104,$A19,Budget!$G$5:$G$104)) | C19: =IF(COUNTIFS(Budget!$B$5:$B$104,$A19,Budget!$H$5:$H$104,"<>")=0,"",SUMIF(Budget!$B$5:$B$104,$A19,Budget!$H$5:$H$104)) | D19: =IF(COUNTIFS(Budget!$B$5:$B$104,$A19,Budget!$I$5:$I$104,"<>")=0,"",SUMIF(Budget!$B$5:$B$104,$A19,Budget!$I$5:$I$104)) | E19: =IF(B19="","",B19-IF(C19="",0,C19)) | F19: =IF(OR(B19="",D19=""),"",IFERROR(D19/B19,"")) | G19: =IF(COUNTIF(Budget!$B$5:$B$104,$A19)=0,"",COUNTIF(Budget!$B$5:$B$104,$A19)) | H19: =IF(G19="","",COUNTIFS(Budget!$B$5:$B$104,$A19,Budget!$O$5:$O$104,"Review:*"))
A21: Budget by Draw Period
A22: Draw Period | B22: Budget | C22: Forecast | D22: Drawn | E22: Variance | F22: Draw Rate | G22: Lines
A23: =Assumptions!F4 | B23: =IF(COUNTIF(Budget!$F$5:$F$104,$A23)=0,"",SUMIF(Budget!$F$5:$F$104,$A23,Budget!$G$5:$G$104)) | C23: =IF(COUNTIFS(Budget!$F$5:$F$104,$A23,Budget!$H$5:$H$104,"<>")=0,"",SUMIF(Budget!$F$5:$F$104,$A23,Budget!$H$5:$H$104)) | D23: =IF(COUNTIFS(Budget!$F$5:$F$104,$A23,Budget!$I$5:$I$104,"<>")=0,"",SUMIF(Budget!$F$5:$F$104,$A23,Budget!$I$5:$I$104)) | E23: =IF(B23="","",B23-IF(C23="",0,C23)) | F23: =IF(OR(B23="",D23=""),"",IFERROR(D23/B23,"")) | G23: =IF(COUNTIF(Budget!$F$5:$F$104,$A23)=0,"",COUNTIF(Budget!$F$5:$F$104,$A23))
A24: =Assumptions!F5 | B24: =IF(COUNTIF(Budget!$F$5:$F$104,$A24)=0,"",SUMIF(Budget!$F$5:$F$104,$A24,Budget!$G$5:$G$104)) | C24: =IF(COUNTIFS(Budget!$F$5:$F$104,$A24,Budget!$H$5:$H$104,"<>")=0,"",SUMIF(Budget!$F$5:$F$104,$A24,Budget!$H$5:$H$104)) | D24: =IF(COUNTIFS(Budget!$F$5:$F$104,$A24,Budget!$I$5:$I$104,"<>")=0,"",SUMIF(Budget!$F$5:$F$104,$A24,Budget!$I$5:$I$104)) | E24: =IF(B24="","",B24-IF(C24="",0,C24)) | F24: =IF(OR(B24="",D24=""),"",IFERROR(D24/B24,"")) | G24: =IF(COUNTIF(Budget!$F$5:$F$104,$A24)=0,"",COUNTIF(Budget!$F$5:$F$104,$A24))
A25: =Assumptions!F6 | B25: =IF(COUNTIF(Budget!$F$5:$F$104,$A25)=0,"",SUMIF(Budget!$F$5:$F$104,$A25,Budget!$G$5:$G$104)) | C25: =IF(COUNTIFS(Budget!$F$5:$F$104,$A25,Budget!$H$5:$H$104,"<>")=0,"",SUMIF(Budget!$F$5:$F$104,$A25,Budget!$H$5:$H$104)) | D25: =IF(COUNTIFS(Budget!$F$5:$F$104,$A25,Budget!$I$5:$I$104,"<>")=0,"",SUMIF(Budget!$F$5:$F$104,$A25,Budget!$I$5:$I$104)) | E25: =IF(B25="","",B25-IF(C25="",0,C25)) | F25: =IF(OR(B25="",D25=""),"",IFERROR(D25/B25,"")) | G25: =IF(COUNTIF(Budget!$F$5:$F$104,$A25)=0,"",COUNTIF(Budget!$F$5:$F$104,$A25))
A26: =Assumptions!F7 | B26: =IF(COUNTIF(Budget!$F$5:$F$104,$A26)=0,"",SUMIF(Budget!$F$5:$F$104,$A26,Budget!$G$5:$G$104)) | C26: =IF(COUNTIFS(Budget!$F$5:$F$104,$A26,Budget!$H$5:$H$104,"<>")=0,"",SUMIF(Budget!$F$5:$F$104,$A26,Budget!$H$5:$H$104)) | D26: =IF(COUNTIFS(Budget!$F$5:$F$104,$A26,Budget!$I$5:$I$104,"<>")=0,"",SUMIF(Budget!$F$5:$F$104,$A26,Budget!$I$5:$I$104)) | E26: =IF(B26="","",B26-IF(C26="",0,C26)) | F26: =IF(OR(B26="",D26=""),"",IFERROR(D26/B26,"")) | G26: =IF(COUNTIF(Budget!$F$5:$F$104,$A26)=0,"",COUNTIF(Budget!$F$5:$F$104,$A26))
A27: =Assumptions!F8 | B27: =IF(COUNTIF(Budget!$F$5:$F$104,$A27)=0,"",SUMIF(Budget!$F$5:$F$104,$A27,Budget!$G$5:$G$104)) | C27: =IF(COUNTIFS(Budget!$F$5:$F$104,$A27,Budget!$H$5:$H$104,"<>")=0,"",SUMIF(Budget!$F$5:$F$104,$A27,Budget!$H$5:$H$104)) | D27: =IF(COUNTIFS(Budget!$F$5:$F$104,$A27,Budget!$I$5:$I$104,"<>")=0,"",SUMIF(Budget!$F$5:$F$104,$A27,Budget!$I$5:$I$104)) | E27: =IF(B27="","",B27-IF(C27="",0,C27)) | F27: =IF(OR(B27="",D27=""),"",IFERROR(D27/B27,"")) | G27: =IF(COUNTIF(Budget!$F$5:$F$104,$A27)=0,"",COUNTIF(Budget!$F$5:$F$104,$A27))
A28: =Assumptions!F9 | B28: =IF(COUNTIF(Budget!$F$5:$F$104,$A28)=0,"",SUMIF(Budget!$F$5:$F$104,$A28,Budget!$G$5:$G$104)) | C28: =IF(COUNTIFS(Budget!$F$5:$F$104,$A28,Budget!$H$5:$H$104,"<>")=0,"",SUMIF(Budget!$F$5:$F$104,$A28,Budget!$H$5:$H$104)) | D28: =IF(COUNTIFS(Budget!$F$5:$F$104,$A28,Budget!$I$5:$I$104,"<>")=0,"",SUMIF(Budget!$F$5:$F$104,$A28,Budget!$I$5:$I$104)) | E28: =IF(B28="","",B28-IF(C28="",0,C28)) | F28: =IF(OR(B28="",D28=""),"",IFERROR(D28/B28,"")) | G28: =IF(COUNTIF(Budget!$F$5:$F$104,$A28)=0,"",COUNTIF(Budget!$F$5:$F$104,$A28))
A29: =Assumptions!F10 | B29: =IF(COUNTIF(Budget!$F$5:$F$104,$A29)=0,"",SUMIF(Budget!$F$5:$F$104,$A29,Budget!$G$5:$G$104)) | C29: =IF(COUNTIFS(Budget!$F$5:$F$104,$A29,Budget!$H$5:$H$104,"<>")=0,"",SUMIF(Budget!$F$5:$F$104,$A29,Budget!$H$5:$H$104)) | D29: =IF(COUNTIFS(Budget!$F$5:$F$104,$A29,Budget!$I$5:$I$104,"<>")=0,"",SUMIF(Budget!$F$5:$F$104,$A29,Budget!$I$5:$I$104)) | E29: =IF(B29="","",B29-IF(C29="",0,C29)) | F29: =IF(OR(B29="",D29=""),"",IFERROR(D29/B29,"")) | G29: =IF(COUNTIF(Budget!$F$5:$F$104,$A29)=0,"",COUNTIF(Budget!$F$5:$F$104,$A29))
A30: =Assumptions!F11 | B30: =IF(COUNTIF(Budget!$F$5:$F$104,$A30)=0,"",SUMIF(Budget!$F$5:$F$104,$A30,Budget!$G$5:$G$104)) | C30: =IF(COUNTIFS(Budget!$F$5:$F$104,$A30,Budget!$H$5:$H$104,"<>")=0,"",SUMIF(Budget!$F$5:$F$104,$A30,Budget!$H$5:$H$104)) | D30: =IF(COUNTIFS(Budget!$F$5:$F$104,$A30,Budget!$I$5:$I$104,"<>")=0,"",SUMIF(Budget!$F$5:$F$104,$A30,Budget!$I$5:$I$104)) | E30: =IF(B30="","",B30-IF(C30="",0,C30)) | F30: =IF(OR(B30="",D30=""),"",IFERROR(D30/B30,"")) | G30: =IF(COUNTIF(Budget!$F$5:$F$104,$A30)=0,"",COUNTIF(Budget!$F$5:$F$104,$A30))
A31: =Assumptions!F12 | B31: =IF(COUNTIF(Budget!$F$5:$F$104,$A31)=0,"",SUMIF(Budget!$F$5:$F$104,$A31,Budget!$G$5:$G$104)) | C31: =IF(COUNTIFS(Budget!$F$5:$F$104,$A31,Budget!$H$5:$H$104,"<>")=0,"",SUMIF(Budget!$F$5:$F$104,$A31,Budget!$H$5:$H$104)) | D31: =IF(COUNTIFS(Budget!$F$5:$F$104,$A31,Budget!$I$5:$I$104,"<>")=0,"",SUMIF(Budget!$F$5:$F$104,$A31,Budget!$I$5:$I$104)) | E31: =IF(B31="","",B31-IF(C31="",0,C31)) | F31: =IF(OR(B31="",D31=""),"",IFERROR(D31/B31,"")) | G31: =IF(COUNTIF(Budget!$F$5:$F$104,$A31)=0,"",COUNTIF(Budget!$F$5:$F$104,$A31))
A32: =Assumptions!F13 | B32: =IF(COUNTIF(Budget!$F$5:$F$104,$A32)=0,"",SUMIF(Budget!$F$5:$F$104,$A32,Budget!$G$5:$G$104)) | C32: =IF(COUNTIFS(Budget!$F$5:$F$104,$A32,Budget!$H$5:$H$104,"<>")=0,"",SUMIF(Budget!$F$5:$F$104,$A32,Budget!$H$5:$H$104)) | D32: =IF(COUNTIFS(Budget!$F$5:$F$104,$A32,Budget!$I$5:$I$104,"<>")=0,"",SUMIF(Budget!$F$5:$F$104,$A32,Budget!$I$5:$I$104)) | E32: =IF(B32="","",B32-IF(C32="",0,C32)) | F32: =IF(OR(B32="",D32=""),"",IFERROR(D32/B32,"")) | G32: =IF(COUNTIF(Budget!$F$5:$F$104,$A32)=0,"",COUNTIF(Budget!$F$5:$F$104,$A32))
A33: =Assumptions!F14 | B33: =IF(COUNTIF(Budget!$F$5:$F$104,$A33)=0,"",SUMIF(Budget!$F$5:$F$104,$A33,Budget!$G$5:$G$104)) | C33: =IF(COUNTIFS(Budget!$F$5:$F$104,$A33,Budget!$H$5:$H$104,"<>")=0,"",SUMIF(Budget!$F$5:$F$104,$A33,Budget!$H$5:$H$104)) | D33: =IF(COUNTIFS(Budget!$F$5:$F$104,$A33,Budget!$I$5:$I$104,"<>")=0,"",SUMIF(Budget!$F$5:$F$104,$A33,Budget!$I$5:$I$104)) | E33: =IF(B33="","",B33-IF(C33="",0,C33)) | F33: =IF(OR(B33="",D33=""),"",IFERROR(D33/B33,"")) | G33: =IF(COUNTIF(Budget!$F$5:$F$104,$A33)=0,"",COUNTIF(Budget!$F$5:$F$104,$A33))
A34: =Assumptions!F15 | B34: =IF(COUNTIF(Budget!$F$5:$F$104,$A34)=0,"",SUMIF(Budget!$F$5:$F$104,$A34,Budget!$G$5:$G$104)) | C34: =IF(COUNTIFS(Budget!$F$5:$F$104,$A34,Budget!$H$5:$H$104,"<>")=0,"",SUMIF(Budget!$F$5:$F$104,$A34,Budget!$H$5:$H$104)) | D34: =IF(COUNTIFS(Budget!$F$5:$F$104,$A34,Budget!$I$5:$I$104,"<>")=0,"",SUMIF(Budget!$F$5:$F$104,$A34,Budget!$I$5:$I$104)) | E34: =IF(B34="","",B34-IF(C34="",0,C34)) | F34: =IF(OR(B34="",D34=""),"",IFERROR(D34/B34,"")) | G34: =IF(COUNTIF(Budget!$F$5:$F$104,$A34)=0,"",COUNTIF(Budget!$F$5:$F$104,$A34))
A35: =Assumptions!F16 | B35: =IF(COUNTIF(Budget!$F$5:$F$104,$A35)=0,"",SUMIF(Budget!$F$5:$F$104,$A35,Budget!$G$5:$G$104)) | C35: =IF(COUNTIFS(Budget!$F$5:$F$104,$A35,Budget!$H$5:$H$104,"<>")=0,"",SUMIF(Budget!$F$5:$F$104,$A35,Budget!$H$5:$H$104)) | D35: =IF(COUNTIFS(Budget!$F$5:$F$104,$A35,Budget!$I$5:$I$104,"<>")=0,"",SUMIF(Budget!$F$5:$F$104,$A35,Budget!$I$5:$I$104)) | E35: =IF(B35="","",B35-IF(C35="",0,C35)) | F35: =IF(OR(B35="",D35=""),"",IFERROR(D35/B35,"")) | G35: =IF(COUNTIF(Budget!$F$5:$F$104,$A35)=0,"",COUNTIF(Budget!$F$5:$F$104,$A35))

Sheet Budget
A1: Self Storage Development Budget
A2: Enter planning amounts in yellow cells. Formula columns calculate unit cost, remaining budget, and human review flags. | W2: =Assumptions!B8 | X2: =Assumptions!B4 | Y2: =Assumptions!B5 | Z2: =Assumptions!B6 | AA2: =Assumptions!B7
A3: Prepared for 100 budget lines; 10 fictional examples are included.
A4: Facility | B4: Budget Category | C4: Cost Item | D4: Quantity | E4: Unit | F4: Draw Period | G4: Budget Amount | H4: Forecast Amount | I4: Drawn Amount | J4: Budget per Unit | K4: Owner | L4: Status | M4: Due Date | N4: Budget Remaining | O4: Review Flag | P4: Notes
A5: Juniper Lantern Storage at Mesa Vista (Fictional) | B5: Land | C5: Land planning allowance | D5: 1 | E5: lump sum | F5: Predevelopment | G5: 4200000 | H5: 4150000 | I5: 4150000 | J5: =IF(OR($D5="",$G5=""),"",IFERROR($G5/$D5,"")) | K5: Fictional Development Lead | L5: Complete | M5: 46156 | N5: =IF($G5="","",$G5-IF($H5="",0,$H5)) | O5: =IF($A5="","",IF($G5="","Review: missing budget",IF($F5="","Review: missing draw period",IF($L5="","Review: missing status",IF(AND($X$2<>"",$G5>$X$2),"Review: large budget line",IF(AND($H5<>"",$H5>$G5),"Review: forecast over budget",IF(AND($I5<>"",$H5<>"",$I5>$H5),"Review: drawn over forecast",IF(AND($L5<>"Complete",$L5<>"Deferred",$M5=""),"Review: missing due date",IF(AND($M5<>"",$M5<TODAY(),$L5<>"Complete",$L5<>"Deferred"),"Review: past due",""))))))))) | P5: Fictional planning allowance; verify project scope. | R5: =IFERROR(IF(Assumptions!D4="","",Assumptions!D4),"") | S5: =IFERROR(IF(Assumptions!E4="","",Assumptions!E4),"") | T5: =IFERROR(IF(Assumptions!F4="","",Assumptions!F4),"") | U5: =IFERROR(IF(Assumptions!G4="","",Assumptions!G4),"") | V5: =IFERROR(IF(Assumptions!H4="","",Assumptions!H4),"")
A6: Juniper Lantern Storage at Mesa Vista (Fictional) | B6: Design | C6: Architectural design allowance | D6: 1 | E6: lump sum | F6: Predevelopment | G6: 650000 | H6: 620000 | I6: 410000 | J6: =IF(OR($D6="",$G6=""),"",IFERROR($G6/$D6,"")) | K6: Fictional Design Team | L6: In Progress | M6: 46306 | N6: =IF($G6="","",$G6-IF($H6="",0,$H6)) | O6: =IF($A6="","",IF($G6="","Review: missing budget",IF($F6="","Review: missing draw period",IF($L6="","Review: missing status",IF(AND($X$2<>"",$G6>$X$2),"Review: large budget line",IF(AND($H6<>"",$H6>$G6),"Review: forecast over budget",IF(AND($I6<>"",$H6<>"",$I6>$H6),"Review: drawn over forecast",IF(AND($L6<>"Complete",$L6<>"Deferred",$M6=""),"Review: missing due date",IF(AND($M6<>"",$M6<TODAY(),$L6<>"Complete",$L6<>"Deferred"),"Review: past due",""))))))))) | P6: Concept and drawing allowance for the fictional facility. | R6: =IFERROR(IF(Assumptions!D5="","",Assumptions!D5),"") | S6: =IFERROR(IF(Assumptions!E5="","",Assumptions!E5),"") | T6: =IFERROR(IF(Assumptions!F5="","",Assumptions!F5),"") | U6: =IFERROR(IF(Assumptions!G5="","",Assumptions!G5),"") | V6: =IFERROR(IF(Assumptions!H5="","",Assumptions!H5),"")
A7: Juniper Lantern Storage at Mesa Vista (Fictional) | B7: Permits & Fees | C7: Local review and permit allowance | D7: 1 | E7: lump sum | F7: Draw 1 | G7: 310000 | H7: 290000 | I7: 150000 | J7: =IF(OR($D7="",$G7=""),"",IFERROR($G7/$D7,"")) | K7: Fictional Project Manager | L7: In Progress | M7: 46261 | N7: =IF($G7="","",$G7-IF($H7="",0,$H7)) | O7: =IF($A7="","",IF($G7="","Review: missing budget",IF($F7="","Review: missing draw period",IF($L7="","Review: missing status",IF(AND($X$2<>"",$G7>$X$2),"Review: large budget line",IF(AND($H7<>"",$H7>$G7),"Review: forecast over budget",IF(AND($I7<>"",$H7<>"",$I7>$H7),"Review: drawn over forecast",IF(AND($L7<>"Complete",$L7<>"Deferred",$M7=""),"Review: missing due date",IF(AND($M7<>"",$M7<TODAY(),$L7<>"Complete",$L7<>"Deferred"),"Review: past due",""))))))))) | P7: Schedule assumption requires human review. | R7: =IFERROR(IF(Assumptions!D6="","",Assumptions!D6),"") | S7: =IFERROR(IF(Assumptions!E6="","",Assumptions!E6),"") | T7: =IFERROR(IF(Assumptions!F6="","",Assumptions!F6),"") | U7: =IFERROR(IF(Assumptions!G6="","",Assumptions!G6),"") | V7: =IFERROR(IF(Assumptions!H6="","",Assumptions!H6),"")
A8: Juniper Lantern Storage at Mesa Vista (Fictional) | B8: Site Work | C8: Grading and utility allowance | D8: 235000 | E8: square feet | F8: Draw 2 | G8: 2400000 | H8: 2250000 | I8: 1200000 | J8: =IF(OR($D8="",$G8=""),"",IFERROR($G8/$D8,"")) | K8: Fictional Site Lead | L8: In Progress | M8: 46336 | N8: =IF($G8="","",$G8-IF($H8="",0,$H8)) | O8: =IF($A8="","",IF($G8="","Review: missing budget",IF($F8="","Review: missing draw period",IF($L8="","Review: missing status",IF(AND($X$2<>"",$G8>$X$2),"Review: large budget line",IF(AND($H8<>"",$H8>$G8),"Review: forecast over budget",IF(AND($I8<>"",$H8<>"",$I8>$H8),"Review: drawn over forecast",IF(AND($L8<>"Complete",$L8<>"Deferred",$M8=""),"Review: missing due date",IF(AND($M8<>"",$M8<TODAY(),$L8<>"Complete",$L8<>"Deferred"),"Review: past due",""))))))))) | P8: Quantity is a fictional planning basis. | R8: =IFERROR(IF(Assumptions!D7="","",Assumptions!D7),"") | S8: =IFERROR(IF(Assumptions!E7="","",Assumptions!E7),"") | T8: =IFERROR(IF(Assumptions!F7="","",Assumptions!F7),"") | U8: =IFERROR(IF(Assumptions!G7="","",Assumptions!G7),"") | V8: =IFERROR(IF(Assumptions!H7="","",Assumptions!H7),"")
A9: Juniper Lantern Storage at Mesa Vista (Fictional) | B9: Structures | C9: Storage building package allowance | D9: 840 | E9: units | F9: Draw 3 | G9: 6800000 | H9: 6500000 | I9: 2700000 | J9: =IF(OR($D9="",$G9=""),"",IFERROR($G9/$D9,"")) | K9: Fictional Development Lead | L9: Scheduled | M9: 46396 | N9: =IF($G9="","",$G9-IF($H9="",0,$H9)) | O9: =IF($A9="","",IF($G9="","Review: missing budget",IF($F9="","Review: missing draw period",IF($L9="","Review: missing status",IF(AND($X$2<>"",$G9>$X$2),"Review: large budget line",IF(AND($H9<>"",$H9>$G9),"Review: forecast over budget",IF(AND($I9<>"",$H9<>"",$I9>$H9),"Review: drawn over forecast",IF(AND($L9<>"Complete",$L9<>"Deferred",$M9=""),"Review: missing due date",IF(AND($M9<>"",$M9<TODAY(),$L9<>"Complete",$L9<>"Deferred"),"Review: past due",""))))))))) | P9: Large line is intentionally included for threshold review. | R9: =IFERROR(IF(Assumptions!D8="","",Assumptions!D8),"") | S9: =IFERROR(IF(Assumptions!E8="","",Assumptions!E8),"") | T9: =IFERROR(IF(Assumptions!F8="","",Assumptions!F8),"") | U9: =IFERROR(IF(Assumptions!G8="","",Assumptions!G8),"") | V9: =IFERROR(IF(Assumptions!H8="","",Assumptions!H8),"")
A10: Juniper Lantern Storage at Mesa Vista (Fictional) | B10: Security Systems | C10: Camera and access equipment allowance | D10: 72 | E10: units | F10: Draw 4 | G10: 420000 | H10: 435000 | I10: 400000 | J10: =IF(OR($D10="",$G10=""),"",IFERROR($G10/$D10,"")) | K10: Fictional Site Lead | L10: In Progress | M10: 46426 | N10: =IF($G10="","",$G10-IF($H10="",0,$H10)) | O10: =IF($A10="","",IF($G10="","Review: missing budget",IF($F10="","Review: missing draw period",IF($L10="","Review: missing status",IF(AND($X$2<>"",$G10>$X$2),"Review: large budget line",IF(AND($H10<>"",$H10>$G10),"Review: forecast over budget",IF(AND($I10<>"",$H10<>"",$I10>$H10),"Review: drawn over forecast",IF(AND($L10<>"Complete",$L10<>"Deferred",$M10=""),"Review: missing due date",IF(AND($M10<>"",$M10<TODAY(),$L10<>"Complete",$L10<>"Deferred"),"Review: past due",""))))))))) | P10: Forecast is intentionally above budget for testing. | R10: =IFERROR(IF(Assumptions!D9="","",Assumptions!D9),"") | S10: =IFERROR(IF(Assumptions!E9="","",Assumptions!E9),"") | T10: =IFERROR(IF(Assumptions!F9="","",Assumptions!F9),"") | U10: =IFERROR(IF(Assumptions!G9="","",Assumptions!G9),"") | V10: =IFERROR(IF(Assumptions!H9="","",Assumptions!H9),"")
A11: Juniper Lantern Storage at Mesa Vista (Fictional) | B11: Contingency | C11: Project contingency reserve | D11: 1 | E11: lump sum | F11: Draw 5 | G11: 1150000 | J11: =IF(OR($D11="",$G11=""),"",IFERROR($G11/$D11,"")) | K11: Fictional Finance Review | L11: Planned | M11: 46486 | N11: =IF($G11="","",$G11-IF($H11="",0,$H11)) | O11: =IF($A11="","",IF($G11="","Review: missing budget",IF($F11="","Review: missing draw period",IF($L11="","Review: missing status",IF(AND($X$2<>"",$G11>$X$2),"Review: large budget line",IF(AND($H11<>"",$H11>$G11),"Review: forecast over budget",IF(AND($I11<>"",$H11<>"",$I11>$H11),"Review: drawn over forecast",IF(AND($L11<>"Complete",$L11<>"Deferred",$M11=""),"Review: missing due date",IF(AND($M11<>"",$M11<TODAY(),$L11<>"Complete",$L11<>"Deferred"),"Review: past due",""))))))))) | P11: Editable reserve assumption; no outcome is guaranteed. | R11: =IFERROR(IF(Assumptions!D10="","",Assumptions!D10),"") | S11: =IFERROR(IF(Assumptions!E10="","",Assumptions!E10),"") | T11: =IFERROR(IF(Assumptions!F10="","",Assumptions!F10),"") | U11: =IFERROR(IF(Assumptions!G10="","",Assumptions!G10),"") | V11: =IFERROR(IF(Assumptions!H10="","",Assumptions!H10),"")
A12: Juniper Lantern Storage at Mesa Vista (Fictional) | B12: Other | C12: Office and leasing area fit-out | D12: 1 | E12: lump sum | F12: Draw 5 | G12: 280000 | H12: 240000 | J12: =IF(OR($D12="",$G12=""),"",IFERROR($G12/$D12,"")) | K12: Fictional Project Manager | L12: Quoted | M12: 46516 | N12: =IF($G12="","",$G12-IF($H12="",0,$H12)) | O12: =IF($A12="","",IF($G12="","Review: missing budget",IF($F12="","Review: missing draw period",IF($L12="","Review: missing status",IF(AND($X$2<>"",$G12>$X$2),"Review: large budget line",IF(AND($H12<>"",$H12>$G12),"Review: forecast over budget",IF(AND($I12<>"",$H12<>"",$I12>$H12),"Review: drawn over forecast",IF(AND($L12<>"Complete",$L12<>"Deferred",$M12=""),"Review: missing due date",IF(AND($M12<>"",$M12<TODAY(),$L12<>"Complete",$L12<>"Deferred"),"Review: past due",""))))))))) | P12: Fictional scope allowance for planning use. | R12: =IFERROR(IF(Assumptions!D11="","",Assumptions!D11),"") | S12: =IFERROR(IF(Assumptions!E11="","",Assumptions!E11),"") | T12: =IFERROR(IF(Assumptions!F11="","",Assumptions!F11),"") | U12: =IFERROR(IF(Assumptions!G11="","",Assumptions!G11),"") | V12: =IFERROR(IF(Assumptions!H11="","",Assumptions!H11),"")
A13: Juniper Lantern Storage at Mesa Vista (Fictional) | B13: Site Work | C13: Drainage and paving allowance | D13: 98000 | E13: square feet | F13: Draw 4 | G13: 725000 | H13: 690000 | I13: 250000 | J13: =IF(OR($D13="",$G13=""),"",IFERROR($G13/$D13,"")) | K13: Fictional Site Lead | L13: In Progress | M13: 46366 | N13: =IF($G13="","",$G13-IF($H13="",0,$H13)) | O13: =IF($A13="","",IF($G13="","Review: missing budget",IF($F13="","Review: missing draw period",IF($L13="","Review: missing status",IF(AND($X$2<>"",$G13>$X$2),"Review: large budget line",IF(AND($H13<>"",$H13>$G13),"Review: forecast over budget",IF(AND($I13<>"",$H13<>"",$I13>$H13),"Review: drawn over forecast",IF(AND($L13<>"Complete",$L13<>"Deferred",$M13=""),"Review: missing due date",IF(AND($M13<>"",$M13<TODAY(),$L13<>"Complete",$L13<>"Deferred"),"Review: past due",""))))))))) | P13: Review quantities and timing before use. | R13: =IFERROR(IF(Assumptions!D12="","",Assumptions!D12),"") | S13: =IFERROR(IF(Assumptions!E12="","",Assumptions!E12),"") | T13: =IFERROR(IF(Assumptions!F12="","",Assumptions!F12),"") | U13: =IFERROR(IF(Assumptions!G12="","",Assumptions!G12),"") | V13: =IFERROR(IF(Assumptions!H12="","",Assumptions!H12),"")
A14: Juniper Lantern Storage at Mesa Vista (Fictional) | B14: Design | C14: Civil engineering allowance | D14: 650 | E14: hours | F14: Draw 1 | G14: 390000 | H14: 375000 | I14: 300000 | J14: =IF(OR($D14="",$G14=""),"",IFERROR($G14/$D14,"")) | K14: Fictional Design Team | L14: In Progress | M14: 46321 | N14: =IF($G14="","",$G14-IF($H14="",0,$H14)) | O14: =IF($A14="","",IF($G14="","Review: missing budget",IF($F14="","Review: missing draw period",IF($L14="","Review: missing status",IF(AND($X$2<>"",$G14>$X$2),"Review: large budget line",IF(AND($H14<>"",$H14>$G14),"Review: forecast over budget",IF(AND($I14<>"",$H14<>"",$I14>$H14),"Review: drawn over forecast",IF(AND($L14<>"Complete",$L14<>"Deferred",$M14=""),"Review: missing due date",IF(AND($M14<>"",$M14<TODAY(),$L14<>"Complete",$L14<>"Deferred"),"Review: past due",""))))))))) | P14: Hours are fictional and editable. | R14: =IFERROR(IF(Assumptions!D13="","",Assumptions!D13),"") | S14: =IFERROR(IF(Assumptions!E13="","",Assumptions!E13),"") | T14: =IFERROR(IF(Assumptions!F13="","",Assumptions!F13),"") | U14: =IFERROR(IF(Assumptions!G13="","",Assumptions!G13),"") | V14: =IFERROR(IF(Assumptions!H13="","",Assumptions!H13),"")
J15: =IF(OR($D15="",$G15=""),"",IFERROR($G15/$D15,"")) | N15: =IF($G15="","",$G15-IF($H15="",0,$H15)) | O15: =IF($A15="","",IF($G15="","Review: missing budget",IF($F15="","Review: missing draw period",IF($L15="","Review: missing status",IF(AND($X$2<>"",$G15>$X$2),"Review: large budget line",IF(AND($H15<>"",$H15>$G15),"Review: forecast over budget",IF(AND($I15<>"",$H15<>"",$I15>$H15),"Review: drawn over forecast",IF(AND($L15<>"Complete",$L15<>"Deferred",$M15=""),"Review: missing due date",IF(AND($M15<>"",$M15<TODAY(),$L15<>"Complete",$L15<>"Deferred"),"Review: past due",""))))))))) | R15: =IFERROR(IF(Assumptions!D14="","",Assumptions!D14),"") | S15: =IFERROR(IF(Assumptions!E14="","",Assumptions!E14),"") | T15: =IFERROR(IF(Assumptions!F14="","",Assumptions!F14),"") | U15: =IFERROR(IF(Assumptions!G14="","",Assumptions!G14),"") | V15: =IFERROR(IF(Assumptions!H14="","",Assumptions!H14),"")
J16: =IF(OR($D16="",$G16=""),"",IFERROR($G16/$D16,"")) | N16: =IF($G16="","",$G16-IF($H16="",0,$H16)) | O16: =IF($A16="","",IF($G16="","Review: missing budget",IF($F16="","Review: missing draw period",IF($L16="","Review: missing status",IF(AND($X$2<>"",$G16>$X$2),"Review: large budget line",IF(AND($H16<>"",$H16>$G16),"Review: forecast over budget",IF(AND($I16<>"",$H16<>"",$I16>$H16),"Review: drawn over forecast",IF(AND($L16<>"Complete",$L16<>"Deferred",$M16=""),"Review: missing due date",IF(AND($M16<>"",$M16<TODAY(),$L16<>"Complete",$L16<>"Deferred"),"Review: past due",""))))))))) | R16: =IFERROR(IF(Assumptions!D15="","",Assumptions!D15),"") | S16: =IFERROR(IF(Assumptions!E15="","",Assumptions!E15),"") | T16: =IFERROR(IF(Assumptions!F15="","",Assumptions!F15),"") | U16: =IFERROR(IF(Assumptions!G15="","",Assumptions!G15),"") | V16: =IFERROR(IF(Assumptions!H15="","",Assumptions!H15),"")
J17: =IF(OR($D17="",$G17=""),"",IFERROR($G17/$D17,"")) | N17: =IF($G17="","",$G17-IF($H17="",0,$H17)) | O17: =IF($A17="","",IF($G17="","Review: missing budget",IF($F17="","Review: missing draw period",IF($L17="","Review: missing status",IF(AND($X$2<>"",$G17>$X$2),"Review: large budget line",IF(AND($H17<>"",$H17>$G17),"Review: forecast over budget",IF(AND($I17<>"",$H17<>"",$I17>$H17),"Review: drawn over forecast",IF(AND($L17<>"Complete",$L17<>"Deferred",$M17=""),"Review: missing due date",IF(AND($M17<>"",$M17<TODAY(),$L17<>"Complete",$L17<>"Deferred"),"Review: past due",""))))))))) | R17: =IFERROR(IF(Assumptions!D16="","",Assumptions!D16),"") | S17: =IFERROR(IF(Assumptions!E16="","",Assumptions!E16),"") | T17: =IFERROR(IF(Assumptions!F16="","",Assumptions!F16),"") | U17: =IFERROR(IF(Assumptions!G16="","",Assumptions!G16),"") | V17: =IFERROR(IF(Assumptions!H16="","",Assumptions!H16),"")
J18: =IF(OR($D18="",$G18=""),"",IFERROR($G18/$D18,"")) | N18: =IF($G18="","",$G18-IF($H18="",0,$H18)) | O18: =IF($A18="","",IF($G18="","Review: missing budget",IF($F18="","Review: missing draw period",IF($L18="","Review: missing status",IF(AND($X$2<>"",$G18>$X$2),"Review: large budget line",IF(AND($H18<>"",$H18>$G18),"Review: forecast over budget",IF(AND($I18<>"",$H18<>"",$I18>$H18),"Review: drawn over forecast",IF(AND($L18<>"Complete",$L18<>"Deferred",$M18=""),"Review: missing due date",IF(AND($M18<>"",$M18<TODAY(),$L18<>"Complete",$L18<>"Deferred"),"Review: past due",""))))))))) | R18: =IFERROR(IF(Assumptions!D17="","",Assumptions!D17),"") | S18: =IFERROR(IF(Assumptions!E17="","",Assumptions!E17),"") | T18: =IFERROR(IF(Assumptions!F17="","",Assumptions!F17),"") | U18: =IFERROR(IF(Assumptions!G17="","",Assumptions!G17),"") | V18: =IFERROR(IF(Assumptions!H17="","",Assumptions!H17),"")
J19: =IF(OR($D19="",$G19=""),"",IFERROR($G19/$D19,"")) | N19: =IF($G19="","",$G19-IF($H19="",0,$H19)) | O19: =IF($A19="","",IF($G19="","Review: missing budget",IF($F19="","Review: missing draw period",IF($L19="","Review: missing status",IF(AND($X$2<>"",$G19>$X$2),"Review: large budget line",IF(AND($H19<>"",$H19>$G19),"Review: forecast over budget",IF(AND($I19<>"",$H19<>"",$I19>$H19),"Review: drawn over forecast",IF(AND($L19<>"Complete",$L19<>"Deferred",$M19=""),"Review: missing due date",IF(AND($M19<>"",$M19<TODAY(),$L19<>"Complete",$L19<>"Deferred"),"Review: past due",""))))))))) | R19: =IFERROR(IF(Assumptions!D18="","",Assumptions!D18),"") | S19: =IFERROR(IF(Assumptions!E18="","",Assumptions!E18),"") | T19: =IFERROR(IF(Assumptions!F18="","",Assumptions!F18),"") | U19: =IFERROR(IF(Assumptions!G18="","",Assumptions!G18),"") | V19: =IFERROR(IF(Assumptions!H18="","",Assumptions!H18),"")
J20: =IF(OR($D20="",$G20=""),"",IFERROR($G20/$D20,"")) | N20: =IF($G20="","",$G20-IF($H20="",0,$H20)) | O20: =IF($A20="","",IF($G20="","Review: missing budget",IF($F20="","Review: missing draw period",IF($L20="","Review: missing status",IF(AND($X$2<>"",$G20>$X$2),"Review: large budget line",IF(AND($H20<>"",$H20>$G20),"Review: forecast over budget",IF(AND($I20<>"",$H20<>"",$I20>$H20),"Review: drawn over forecast",IF(AND($L20<>"Complete",$L20<>"Deferred",$M20=""),"Review: missing due date",IF(AND($M20<>"",$M20<TODAY(),$L20<>"Complete",$L20<>"Deferred"),"Review: past due",""))))))))) | R20: =IFERROR(IF(Assumptions!D19="","",Assumptions!D19),"") | S20: =IFERROR(IF(Assumptions!E19="","",Assumptions!E19),"") | T20: =IFERROR(IF(Assumptions!F19="","",Assumptions!F19),"") | U20: =IFERROR(IF(Assumptions!G19="","",Assumptions!G19),"") | V20: =IFERROR(IF(Assumptions!H19="","",Assumptions!H19),"")
J21: =IF(OR($D21="",$G21=""),"",IFERROR($G21/$D21,"")) | N21: =IF($G21="","",$G21-IF($H21="",0,$H21)) | O21: =IF($A21="","",IF($G21="","Review: missing budget",IF($F21="","Review: missing draw period",IF($L21="","Review: missing status",IF(AND($X$2<>"",$G21>$X$2),"Review: large budget line",IF(AND($H21<>"",$H21>$G21),"Review: forecast over budget",IF(AND($I21<>"",$H21<>"",$I21>$H21),"Review: drawn over forecast",IF(AND($L21<>"Complete",$L21<>"Deferred",$M21=""),"Review: missing due date",IF(AND($M21<>"",$M21<TODAY(),$L21<>"Complete",$L21<>"Deferred"),"Review: past due",""))))))))) | R21: =IFERROR(IF(Assumptions!D20="","",Assumptions!D20),"") | S21: =IFERROR(IF(Assumptions!E20="","",Assumptions!E20),"") | T21: =IFERROR(IF(Assumptions!F20="","",Assumptions!F20),"") | U21: =IFERROR(IF(Assumptions!G20="","",Assumptions!G20),"") | V21: =IFERROR(IF(Assumptions!H20="","",Assumptions!H20),"")
J22: =IF(OR($D22="",$G22=""),"",IFERROR($G22/$D22,"")) | N22: =IF($G22="","",$G22-IF($H22="",0,$H22)) | O22: =IF($A22="","",IF($G22="","Review: missing budget",IF($F22="","Review: missing draw period",IF($L22="","Review: missing status",IF(AND($X$2<>"",$G22>$X$2),"Review: large budget line",IF(AND($H22<>"",$H22>$G22),"Review: forecast over budget",IF(AND($I22<>"",$H22<>"",$I22>$H22),"Review: drawn over forecast",IF(AND($L22<>"Complete",$L22<>"Deferred",$M22=""),"Review: missing due date",IF(AND($M22<>"",$M22<TODAY(),$L22<>"Complete",$L22<>"Deferred"),"Review: past due",""))))))))) | R22: =IFERROR(IF(Assumptions!D21="","",Assumptions!D21),"") | S22: =IFERROR(IF(Assumptions!E21="","",Assumptions!E21),"") | T22: =IFERROR(IF(Assumptions!F21="","",Assumptions!F21),"") | U22: =IFERROR(IF(Assumptions!G21="","",Assumptions!G21),"") | V22: =IFERROR(IF(Assumptions!H21="","",Assumptions!H21),"")
J23: =IF(OR($D23="",$G23=""),"",IFERROR($G23/$D23,"")) | N23: =IF($G23="","",$G23-IF($H23="",0,$H23)) | O23: =IF($A23="","",IF($G23="","Review: missing budget",IF($F23="","Review: missing draw period",IF($L23="","Review: missing status",IF(AND($X$2<>"",$G23>$X$2),"Review: large budget line",IF(AND($H23<>"",$H23>$G23),"Review: forecast over budget",IF(AND($I23<>"",$H23<>"",$I23>$H23),"Review: drawn over forecast",IF(AND($L23<>"Complete",$L23<>"Deferred",$M23=""),"Review: missing due date",IF(AND($M23<>"",$M23<TODAY(),$L23<>"Complete",$L23<>"Deferred"),"Review: past due",""))))))))) | R23: =IFERROR(IF(Assumptions!D22="","",Assumptions!D22),"") | S23: =IFERROR(IF(Assumptions!E22="","",Assumptions!E22),"") | T23: =IFERROR(IF(Assumptions!F22="","",Assumptions!F22),"") | U23: =IFERROR(IF(Assumptions!G22="","",Assumptions!G22),"") | V23: =IFERROR(IF(Assumptions!H22="","",Assumptions!H22),"")
J24: =IF(OR($D24="",$G24=""),"",IFERROR($G24/$D24,"")) | N24: =IF($G24="","",$G24-IF($H24="",0,$H24)) | O24: =IF($A24="","",IF($G24="","Review: missing budget",IF($F24="","Review: missing draw period",IF($L24="","Review: missing status",IF(AND($X$2<>"",$G24>$X$2),"Review: large budget line",IF(AND($H24<>"",$H24>$G24),"Review: forecast over budget",IF(AND($I24<>"",$H24<>"",$I24>$H24),"Review: drawn over forecast",IF(AND($L24<>"Complete",$L24<>"Deferred",$M24=""),"Review: missing due date",IF(AND($M24<>"",$M24<TODAY(),$L24<>"Complete",$L24<>"Deferred"),"Review: past due",""))))))))) | R24: =IFERROR(IF(Assumptions!D23="","",Assumptions!D23),"") | S24: =IFERROR(IF(Assumptions!E23="","",Assumptions!E23),"") | T24: =IFERROR(IF(Assumptions!F23="","",Assumptions!F23),"") | U24: =IFERROR(IF(Assumptions!G23="","",Assumptions!G23),"") | V24: =IFERROR(IF(Assumptions!H23="","",Assumptions!H23),"")
J25: =IF(OR($D25="",$G25=""),"",IFERROR($G25/$D25,"")) | N25: =IF($G25="","",$G25-IF($H25="",0,$H25)) | O25: =IF($A25="","",IF($G25="","Review: missing budget",IF($F25="","Review: missing draw period",IF($L25="","Review: missing status",IF(AND($X$2<>"",$G25>$X$2),"Review: large budget line",IF(AND($H25<>"",$H25>$G25),"Review: forecast over budget",IF(AND($I25<>"",$H25<>"",$I25>$H25),"Review: drawn over forecast",IF(AND($L25<>"Complete",$L25<>"Deferred",$M25=""),"Review: missing due date",IF(AND($M25<>"",$M25<TODAY(),$L25<>"Complete",$L25<>"Deferred"),"Review: past due",""))))))))) | R25: =IFERROR(IF(Assumptions!D24="","",Assumptions!D24),"") | S25: =IFERROR(IF(Assumptions!E24="","",Assumptions!E24),"") | T25: =IFERROR(IF(Assumptions!F24="","",Assumptions!F24),"") | U25: =IFERROR(IF(Assumptions!G24="","",Assumptions!G24),"") | V25: =IFERROR(IF(Assumptions!H24="","",Assumptions!H24),"")
J26: =IF(OR($D26="",$G26=""),"",IFERROR($G26/$D26,"")) | N26: =IF($G26="","",$G26-IF($H26="",0,$H26)) | O26: =IF($A26="","",IF($G26="","Review: missing budget",IF($F26="","Review: missing draw period",IF($L26="","Review: missing status",IF(AND($X$2<>"",$G26>$X$2),"Review: large budget line",IF(AND($H26<>"",$H26>$G26),"Review: forecast over budget",IF(AND($I26<>"",$H26<>"",$I26>$H26),"Review: drawn over forecast",IF(AND($L26<>"Complete",$L26<>"Deferred",$M26=""),"Review: missing due date",IF(AND($M26<>"",$M26<TODAY(),$L26<>"Complete",$L26<>"Deferred"),"Review: past due",""))))))))) | R26: =IFERROR(IF(Assumptions!D25="","",Assumptions!D25),"") | S26: =IFERROR(IF(Assumptions!E25="","",Assumptions!E25),"") | T26: =IFERROR(IF(Assumptions!F25="","",Assumptions!F25),"") | U26: =IFERROR(IF(Assumptions!G25="","",Assumptions!G25),"") | V26: =IFERROR(IF(Assumptions!H25="","",Assumptions!H25),"")
... J104: =IF(OR($D104="",$G104=""),"",IFERROR($G104/$D104,"")) | N104: =IF($G104="","",$G104-IF($H104="",0,$H104)) | O104: =IF($A104="","",IF($G104="","Review: missing budget",IF($F104="","Review: missing draw period",IF($L104="","Review: missing status",IF(AND($X$2<>"",$G104>$X$2),"Review: large budget line",IF(AND($H104<>"",$H104>$G104),"Review: forecast over budget",IF(AND($I104<>"",$H104<>"",$I104>$H104),"Review: drawn over forecast",IF(AND($L104<>"Complete",$L104<>"Deferred",$M104=""),"Review: missing due date",IF(AND($M104<>"",$M104<TODAY(),$L104<>"Complete",$L104<>"Deferred"),"Review: past due",""))))))))) | R104: =IFERROR(IF(Assumptions!D103="","",Assumptions!D103),"") | S104: =IFERROR(IF(Assumptions!E103="","",Assumptions!E103),"") | T104: =IFERROR(IF(Assumptions!F103="","",Assumptions!F103),"") | U104: =IFERROR(IF(Assumptions!G103="","",Assumptions!G103),"") | V104: =IFERROR(IF(Assumptions!H103="","",Assumptions!H103),"")

Sheet Assumptions
A1: Development Budget Assumptions
A2: Yellow cells are editable planning assumptions and stable validation lists. Update them for the fictional project before relying on workbook results.
A3: Budget Limit | B3: Editable Value | D3: Category | E3: Unit | F3: Draw Period | G3: Owner | H3: Status
A4: Large line review threshold | B4: 5000000 | D4: Land | E4: lump sum | F4: Predevelopment | G4: Fictional Development Lead | H4: Planned
A5: Maximum amount entry | B5: 25000000 | D5: Design | E5: square feet | F5: Draw 1 | G5: Fictional Design Team | H5: Quoted
A6: Earliest allowed due date | B6: 46023 | D6: Permits & Fees | E6: units | F6: Draw 2 | G6: Fictional Project Manager | H6: Scheduled
A7: Latest allowed due date | B7: 47848 | D7: Site Work | E7: months | F7: Draw 3 | G7: Fictional Finance Review | H7: In Progress
A8: Maximum quantity entry | B8: 500000 | D8: Structures | E8: hours | F8: Draw 4 | G8: Fictional Site Lead | H8: Complete
D9: Security Systems | F9: Draw 5 | H9: Deferred
A10: Planning note | B10: Keep the review threshold at or below the maximum amount entry. All examples and roles are fictional. | D10: Contingency | F10: Draw 6
D11: Other | F11: Draw 7
F12: Draw 8
F13: Draw 9
F14: Draw 10
F15: Draw 11
F16: Draw 12
