Workbook

Sheet Summary
A1: Self Storage Delinquency Loss Forecast — Summary
A2: Calculated indicators from the fictional records and editable assumptions. Forecast results are planning estimates that require human review.
A4: Indicator | B4: Calculated Value
A5: Forecast as-of date | B5: =IF(Assumptions!$B$4="","",Assumptions!$B$4)
A6: Total delinquent balance | B6: =IF(COUNT('Delinquency Forecast'!$D$5:$D$104)=0,"",SUM('Delinquency Forecast'!$D$5:$D$104))
A7: Delinquent accounts | B7: =IF(COUNT('Delinquency Forecast'!$D$5:$D$104)=0,"",COUNT('Delinquency Forecast'!$D$5:$D$104))
A8: Expected collections | B8: =IF(COUNT('Delinquency Forecast'!$D$5:$D$104)=0,"",SUM('Delinquency Forecast'!$K$5:$K$104))
A9: Expected auction recovery | B9: =IF(COUNT('Delinquency Forecast'!$D$5:$D$104)=0,"",SUM('Delinquency Forecast'!$L$5:$L$104))
A10: Forecast loss | B10: =IF(COUNT('Delinquency Forecast'!$D$5:$D$104)=0,"",SUM('Delinquency Forecast'!$M$5:$M$104))
A11: Forecast loss rate | B11: =IFERROR($B$10/$B$6,"")
A12: Average days past due | B12: =IFERROR(SUM('Delinquency Forecast'!$H$5:$H$104)/COUNT('Delinquency Forecast'!$H$5:$H$104),"")
A13: Accounts at or above review age | B13: =IF(COUNT('Delinquency Forecast'!$D$5:$D$104)=0,"",COUNTIF('Delinquency Forecast'!$H$5:$H$104,">="&Assumptions!$B$6))
A14: Accounts marked Manager review | B14: =IF(COUNT('Delinquency Forecast'!$D$5:$D$104)=0,"",COUNTIF('Delinquency Forecast'!$F$5:$F$104,"Manager review"))
A17: Age Band | B17: Delinquent Balance | C17: Forecast Loss
A18: =IF(Assumptions!$B$10="","",Assumptions!$B$10) | B18: =IF(COUNT('Delinquency Forecast'!$D$5:$D$104)=0,"",SUMIFS('Delinquency Forecast'!$D$5:$D$104,'Delinquency Forecast'!$H$5:$H$104,">="&Assumptions!$A$10,'Delinquency Forecast'!$H$5:$H$104,"<"&Assumptions!$A$11)) | C18: =IF(COUNT('Delinquency Forecast'!$D$5:$D$104)=0,"",SUMIFS('Delinquency Forecast'!$M$5:$M$104,'Delinquency Forecast'!$H$5:$H$104,">="&Assumptions!$A$10,'Delinquency Forecast'!$H$5:$H$104,"<"&Assumptions!$A$11))
A19: =IF(Assumptions!$B$11="","",Assumptions!$B$11) | B19: =IF(COUNT('Delinquency Forecast'!$D$5:$D$104)=0,"",SUMIFS('Delinquency Forecast'!$D$5:$D$104,'Delinquency Forecast'!$H$5:$H$104,">="&Assumptions!$A$11,'Delinquency Forecast'!$H$5:$H$104,"<"&Assumptions!$A$12)) | C19: =IF(COUNT('Delinquency Forecast'!$D$5:$D$104)=0,"",SUMIFS('Delinquency Forecast'!$M$5:$M$104,'Delinquency Forecast'!$H$5:$H$104,">="&Assumptions!$A$11,'Delinquency Forecast'!$H$5:$H$104,"<"&Assumptions!$A$12))
A20: =IF(Assumptions!$B$12="","",Assumptions!$B$12) | B20: =IF(COUNT('Delinquency Forecast'!$D$5:$D$104)=0,"",SUMIFS('Delinquency Forecast'!$D$5:$D$104,'Delinquency Forecast'!$H$5:$H$104,">="&Assumptions!$A$12,'Delinquency Forecast'!$H$5:$H$104,"<"&Assumptions!$A$13)) | C20: =IF(COUNT('Delinquency Forecast'!$D$5:$D$104)=0,"",SUMIFS('Delinquency Forecast'!$M$5:$M$104,'Delinquency Forecast'!$H$5:$H$104,">="&Assumptions!$A$12,'Delinquency Forecast'!$H$5:$H$104,"<"&Assumptions!$A$13))
A21: =IF(Assumptions!$B$13="","",Assumptions!$B$13) | B21: =IF(COUNT('Delinquency Forecast'!$D$5:$D$104)=0,"",SUMIFS('Delinquency Forecast'!$D$5:$D$104,'Delinquency Forecast'!$H$5:$H$104,">="&Assumptions!$A$13,'Delinquency Forecast'!$H$5:$H$104,"<"&Assumptions!$A$14)) | C21: =IF(COUNT('Delinquency Forecast'!$D$5:$D$104)=0,"",SUMIFS('Delinquency Forecast'!$M$5:$M$104,'Delinquency Forecast'!$H$5:$H$104,">="&Assumptions!$A$13,'Delinquency Forecast'!$H$5:$H$104,"<"&Assumptions!$A$14))
A22: =IF(Assumptions!$B$14="","",Assumptions!$B$14) | B22: =IF(COUNT('Delinquency Forecast'!$D$5:$D$104)=0,"",SUMIFS('Delinquency Forecast'!$D$5:$D$104,'Delinquency Forecast'!$H$5:$H$104,">="&Assumptions!$A$14)) | C22: =IF(COUNT('Delinquency Forecast'!$D$5:$D$104)=0,"",SUMIFS('Delinquency Forecast'!$M$5:$M$104,'Delinquency Forecast'!$H$5:$H$104,">="&Assumptions!$A$14))

Sheet Delinquency Forecast
A1: Self Storage Delinquency Loss Forecast
A2: Enter fictional or authorized planning records in highlighted cells. Calculated losses use the visible assumptions and require human review.
A4: Facility | B4: Unit | C4: Period | D4: Delinquent Amount | E4: Account Owner | F4: Status | G4: Due Date | H4: Days Past Due | I4: Collection Probability | J4: Auction Recovery % | K4: Expected Collection | L4: Expected Auction Recovery | M4: Forecast Loss | N4: Notes | P4: Facility Helper | Q4: Owner Helper | R4: Status Helper | S4: Limit Helper
A5: Fictional Pine Lantern Storage | B5: DEMO-A001 | C5: 46266 | D5: 185 | E5: Fictional Avery Lane | F5: Open | G5: 46277 | H5: =IF(OR($G5="",$D5="",Assumptions!$B$4=""),"",MAX(0,Assumptions!$B$4-$G5)) | I5: =IF($H5="","",IFERROR(VLOOKUP($H5,Assumptions!$A$10:$D$14,3,TRUE),"")) | J5: =IF($H5="","",IFERROR(VLOOKUP($H5,Assumptions!$A$10:$D$14,4,TRUE),"")) | K5: =IF(OR($D5="",$I5=""),"",MAX(0,$D5*$I5)) | L5: =IF(OR($D5="",$I5="",$J5=""),"",MAX(0,($D5-$K5)*$J5)) | M5: =IF($D5="","",MAX(0,$D5-IF($K5="",0,$K5)-IF($L5="",0,$L5))) | N5: Fictional boundary example: due on the as-of date. | P5: =Assumptions!$F$10 | Q5: =Assumptions!$H$10 | R5: =Assumptions!$J$10 | S5: =Assumptions!$B$5
A6: Fictional Blue Mesa Storage | B6: DEMO-B002 | C6: 46266 | D6: 240 | E6: Fictional Jordan Pike | F6: Open | G6: 46247 | H6: =IF(OR($G6="",$D6="",Assumptions!$B$4=""),"",MAX(0,Assumptions!$B$4-$G6)) | I6: =IF($H6="","",IFERROR(VLOOKUP($H6,Assumptions!$A$10:$D$14,3,TRUE),"")) | J6: =IF($H6="","",IFERROR(VLOOKUP($H6,Assumptions!$A$10:$D$14,4,TRUE),"")) | K6: =IF(OR($D6="",$I6=""),"",MAX(0,$D6*$I6)) | L6: =IF(OR($D6="",$I6="",$J6=""),"",MAX(0,($D6-$K6)*$J6)) | M6: =IF($D6="","",MAX(0,$D6-IF($K6="",0,$K6)-IF($L6="",0,$L6))) | N6: Fictional boundary example: 30 days past due. | P6: =Assumptions!$F$11 | Q6: =Assumptions!$H$11 | R6: =Assumptions!$J$11 | S6: =Assumptions!$B$6
A7: Fictional Harbor Kite Storage | B7: DEMO-C003 | C7: 46266 | D7: 310 | E7: Fictional Casey Moss | F7: Payment arrangement | G7: 46246 | H7: =IF(OR($G7="",$D7="",Assumptions!$B$4=""),"",MAX(0,Assumptions!$B$4-$G7)) | I7: =IF($H7="","",IFERROR(VLOOKUP($H7,Assumptions!$A$10:$D$14,3,TRUE),"")) | J7: =IF($H7="","",IFERROR(VLOOKUP($H7,Assumptions!$A$10:$D$14,4,TRUE),"")) | K7: =IF(OR($D7="",$I7=""),"",MAX(0,$D7*$I7)) | L7: =IF(OR($D7="",$I7="",$J7=""),"",MAX(0,($D7-$K7)*$J7)) | M7: =IF($D7="","",MAX(0,$D7-IF($K7="",0,$K7)-IF($L7="",0,$L7))) | N7: Fictional boundary example: 31 days past due. | P7: =Assumptions!$F$12 | Q7: =Assumptions!$H$12 | R7: =Assumptions!$J$12 | S7: =DATE(YEAR(Assumptions!$B$4)-10,1,1)
A8: Fictional Pine Lantern Storage | B8: DEMO-A004 | C8: 46266 | D8: 425 | E8: Fictional Riley Vale | F8: Open | G8: 46217 | H8: =IF(OR($G8="",$D8="",Assumptions!$B$4=""),"",MAX(0,Assumptions!$B$4-$G8)) | I8: =IF($H8="","",IFERROR(VLOOKUP($H8,Assumptions!$A$10:$D$14,3,TRUE),"")) | J8: =IF($H8="","",IFERROR(VLOOKUP($H8,Assumptions!$A$10:$D$14,4,TRUE),"")) | K8: =IF(OR($D8="",$I8=""),"",MAX(0,$D8*$I8)) | L8: =IF(OR($D8="",$I8="",$J8=""),"",MAX(0,($D8-$K8)*$J8)) | M8: =IF($D8="","",MAX(0,$D8-IF($K8="",0,$K8)-IF($L8="",0,$L8))) | N8: Fictional boundary example: 60 days past due. | Q8: =Assumptions!$H$13 | R8: =Assumptions!$J$13 | S8: =Assumptions!$B$4
A9: Fictional Blue Mesa Storage | B9: DEMO-B005 | C9: 46266 | D9: 515 | E9: Fictional Avery Lane | F9: Payment arrangement | G9: 46216 | H9: =IF(OR($G9="",$D9="",Assumptions!$B$4=""),"",MAX(0,Assumptions!$B$4-$G9)) | I9: =IF($H9="","",IFERROR(VLOOKUP($H9,Assumptions!$A$10:$D$14,3,TRUE),"")) | J9: =IF($H9="","",IFERROR(VLOOKUP($H9,Assumptions!$A$10:$D$14,4,TRUE),"")) | K9: =IF(OR($D9="",$I9=""),"",MAX(0,$D9*$I9)) | L9: =IF(OR($D9="",$I9="",$J9=""),"",MAX(0,($D9-$K9)*$J9)) | M9: =IF($D9="","",MAX(0,$D9-IF($K9="",0,$K9)-IF($L9="",0,$L9))) | N9: Fictional boundary example: 61 days past due.
A10: Fictional Harbor Kite Storage | B10: DEMO-C006 | C10: 46266 | D10: 680 | E10: Fictional Jordan Pike | F10: Auction review | G10: 46187 | H10: =IF(OR($G10="",$D10="",Assumptions!$B$4=""),"",MAX(0,Assumptions!$B$4-$G10)) | I10: =IF($H10="","",IFERROR(VLOOKUP($H10,Assumptions!$A$10:$D$14,3,TRUE),"")) | J10: =IF($H10="","",IFERROR(VLOOKUP($H10,Assumptions!$A$10:$D$14,4,TRUE),"")) | K10: =IF(OR($D10="",$I10=""),"",MAX(0,$D10*$I10)) | L10: =IF(OR($D10="",$I10="",$J10=""),"",MAX(0,($D10-$K10)*$J10)) | M10: =IF($D10="","",MAX(0,$D10-IF($K10="",0,$K10)-IF($L10="",0,$L10))) | N10: Fictional boundary example: 90 days past due.
A11: Fictional Pine Lantern Storage | B11: DEMO-A007 | C11: 46266 | D11: 795 | E11: Fictional Casey Moss | F11: Manager review | G11: 46186 | H11: =IF(OR($G11="",$D11="",Assumptions!$B$4=""),"",MAX(0,Assumptions!$B$4-$G11)) | I11: =IF($H11="","",IFERROR(VLOOKUP($H11,Assumptions!$A$10:$D$14,3,TRUE),"")) | J11: =IF($H11="","",IFERROR(VLOOKUP($H11,Assumptions!$A$10:$D$14,4,TRUE),"")) | K11: =IF(OR($D11="",$I11=""),"",MAX(0,$D11*$I11)) | L11: =IF(OR($D11="",$I11="",$J11=""),"",MAX(0,($D11-$K11)*$J11)) | M11: =IF($D11="","",MAX(0,$D11-IF($K11="",0,$K11)-IF($L11="",0,$L11))) | N11: Fictional boundary example: 91 days past due.
A12: Fictional Blue Mesa Storage | B12: DEMO-B008 | C12: 46266 | D12: 920 | E12: Fictional Riley Vale | F12: Auction review | G12: 46157 | H12: =IF(OR($G12="",$D12="",Assumptions!$B$4=""),"",MAX(0,Assumptions!$B$4-$G12)) | I12: =IF($H12="","",IFERROR(VLOOKUP($H12,Assumptions!$A$10:$D$14,3,TRUE),"")) | J12: =IF($H12="","",IFERROR(VLOOKUP($H12,Assumptions!$A$10:$D$14,4,TRUE),"")) | K12: =IF(OR($D12="",$I12=""),"",MAX(0,$D12*$I12)) | L12: =IF(OR($D12="",$I12="",$J12=""),"",MAX(0,($D12-$K12)*$J12)) | M12: =IF($D12="","",MAX(0,$D12-IF($K12="",0,$K12)-IF($L12="",0,$L12))) | N12: Fictional boundary example: 120 days past due.
A13: Fictional Harbor Kite Storage | B13: DEMO-C009 | C13: 46266 | D13: 1125 | E13: Fictional Avery Lane | F13: Manager review | G13: 46156 | H13: =IF(OR($G13="",$D13="",Assumptions!$B$4=""),"",MAX(0,Assumptions!$B$4-$G13)) | I13: =IF($H13="","",IFERROR(VLOOKUP($H13,Assumptions!$A$10:$D$14,3,TRUE),"")) | J13: =IF($H13="","",IFERROR(VLOOKUP($H13,Assumptions!$A$10:$D$14,4,TRUE),"")) | K13: =IF(OR($D13="",$I13=""),"",MAX(0,$D13*$I13)) | L13: =IF(OR($D13="",$I13="",$J13=""),"",MAX(0,($D13-$K13)*$J13)) | M13: =IF($D13="","",MAX(0,$D13-IF($K13="",0,$K13)-IF($L13="",0,$L13))) | N13: Fictional boundary example: 121 days past due.
A14: Fictional Pine Lantern Storage | B14: DEMO-A010 | C14: 46266 | D14: 1480 | E14: Fictional Jordan Pike | F14: Manager review | G14: 46097 | H14: =IF(OR($G14="",$D14="",Assumptions!$B$4=""),"",MAX(0,Assumptions!$B$4-$G14)) | I14: =IF($H14="","",IFERROR(VLOOKUP($H14,Assumptions!$A$10:$D$14,3,TRUE),"")) | J14: =IF($H14="","",IFERROR(VLOOKUP($H14,Assumptions!$A$10:$D$14,4,TRUE),"")) | K14: =IF(OR($D14="",$I14=""),"",MAX(0,$D14*$I14)) | L14: =IF(OR($D14="",$I14="",$J14=""),"",MAX(0,($D14-$K14)*$J14)) | M14: =IF($D14="","",MAX(0,$D14-IF($K14="",0,$K14)-IF($L14="",0,$L14))) | N14: Fictional older-balance example for human review.
H15: =IF(OR($G15="",$D15="",Assumptions!$B$4=""),"",MAX(0,Assumptions!$B$4-$G15)) | I15: =IF($H15="","",IFERROR(VLOOKUP($H15,Assumptions!$A$10:$D$14,3,TRUE),"")) | J15: =IF($H15="","",IFERROR(VLOOKUP($H15,Assumptions!$A$10:$D$14,4,TRUE),"")) | K15: =IF(OR($D15="",$I15=""),"",MAX(0,$D15*$I15)) | L15: =IF(OR($D15="",$I15="",$J15=""),"",MAX(0,($D15-$K15)*$J15)) | M15: =IF($D15="","",MAX(0,$D15-IF($K15="",0,$K15)-IF($L15="",0,$L15)))
H16: =IF(OR($G16="",$D16="",Assumptions!$B$4=""),"",MAX(0,Assumptions!$B$4-$G16)) | I16: =IF($H16="","",IFERROR(VLOOKUP($H16,Assumptions!$A$10:$D$14,3,TRUE),"")) | J16: =IF($H16="","",IFERROR(VLOOKUP($H16,Assumptions!$A$10:$D$14,4,TRUE),"")) | K16: =IF(OR($D16="",$I16=""),"",MAX(0,$D16*$I16)) | L16: =IF(OR($D16="",$I16="",$J16=""),"",MAX(0,($D16-$K16)*$J16)) | M16: =IF($D16="","",MAX(0,$D16-IF($K16="",0,$K16)-IF($L16="",0,$L16)))
H17: =IF(OR($G17="",$D17="",Assumptions!$B$4=""),"",MAX(0,Assumptions!$B$4-$G17)) | I17: =IF($H17="","",IFERROR(VLOOKUP($H17,Assumptions!$A$10:$D$14,3,TRUE),"")) | J17: =IF($H17="","",IFERROR(VLOOKUP($H17,Assumptions!$A$10:$D$14,4,TRUE),"")) | K17: =IF(OR($D17="",$I17=""),"",MAX(0,$D17*$I17)) | L17: =IF(OR($D17="",$I17="",$J17=""),"",MAX(0,($D17-$K17)*$J17)) | M17: =IF($D17="","",MAX(0,$D17-IF($K17="",0,$K17)-IF($L17="",0,$L17)))
H18: =IF(OR($G18="",$D18="",Assumptions!$B$4=""),"",MAX(0,Assumptions!$B$4-$G18)) | I18: =IF($H18="","",IFERROR(VLOOKUP($H18,Assumptions!$A$10:$D$14,3,TRUE),"")) | J18: =IF($H18="","",IFERROR(VLOOKUP($H18,Assumptions!$A$10:$D$14,4,TRUE),"")) | K18: =IF(OR($D18="",$I18=""),"",MAX(0,$D18*$I18)) | L18: =IF(OR($D18="",$I18="",$J18=""),"",MAX(0,($D18-$K18)*$J18)) | M18: =IF($D18="","",MAX(0,$D18-IF($K18="",0,$K18)-IF($L18="",0,$L18)))
H19: =IF(OR($G19="",$D19="",Assumptions!$B$4=""),"",MAX(0,Assumptions!$B$4-$G19)) | I19: =IF($H19="","",IFERROR(VLOOKUP($H19,Assumptions!$A$10:$D$14,3,TRUE),"")) | J19: =IF($H19="","",IFERROR(VLOOKUP($H19,Assumptions!$A$10:$D$14,4,TRUE),"")) | K19: =IF(OR($D19="",$I19=""),"",MAX(0,$D19*$I19)) | L19: =IF(OR($D19="",$I19="",$J19=""),"",MAX(0,($D19-$K19)*$J19)) | M19: =IF($D19="","",MAX(0,$D19-IF($K19="",0,$K19)-IF($L19="",0,$L19)))
H20: =IF(OR($G20="",$D20="",Assumptions!$B$4=""),"",MAX(0,Assumptions!$B$4-$G20)) | I20: =IF($H20="","",IFERROR(VLOOKUP($H20,Assumptions!$A$10:$D$14,3,TRUE),"")) | J20: =IF($H20="","",IFERROR(VLOOKUP($H20,Assumptions!$A$10:$D$14,4,TRUE),"")) | K20: =IF(OR($D20="",$I20=""),"",MAX(0,$D20*$I20)) | L20: =IF(OR($D20="",$I20="",$J20=""),"",MAX(0,($D20-$K20)*$J20)) | M20: =IF($D20="","",MAX(0,$D20-IF($K20="",0,$K20)-IF($L20="",0,$L20)))
H21: =IF(OR($G21="",$D21="",Assumptions!$B$4=""),"",MAX(0,Assumptions!$B$4-$G21)) | I21: =IF($H21="","",IFERROR(VLOOKUP($H21,Assumptions!$A$10:$D$14,3,TRUE),"")) | J21: =IF($H21="","",IFERROR(VLOOKUP($H21,Assumptions!$A$10:$D$14,4,TRUE),"")) | K21: =IF(OR($D21="",$I21=""),"",MAX(0,$D21*$I21)) | L21: =IF(OR($D21="",$I21="",$J21=""),"",MAX(0,($D21-$K21)*$J21)) | M21: =IF($D21="","",MAX(0,$D21-IF($K21="",0,$K21)-IF($L21="",0,$L21)))
H22: =IF(OR($G22="",$D22="",Assumptions!$B$4=""),"",MAX(0,Assumptions!$B$4-$G22)) | I22: =IF($H22="","",IFERROR(VLOOKUP($H22,Assumptions!$A$10:$D$14,3,TRUE),"")) | J22: =IF($H22="","",IFERROR(VLOOKUP($H22,Assumptions!$A$10:$D$14,4,TRUE),"")) | K22: =IF(OR($D22="",$I22=""),"",MAX(0,$D22*$I22)) | L22: =IF(OR($D22="",$I22="",$J22=""),"",MAX(0,($D22-$K22)*$J22)) | M22: =IF($D22="","",MAX(0,$D22-IF($K22="",0,$K22)-IF($L22="",0,$L22)))
H23: =IF(OR($G23="",$D23="",Assumptions!$B$4=""),"",MAX(0,Assumptions!$B$4-$G23)) | I23: =IF($H23="","",IFERROR(VLOOKUP($H23,Assumptions!$A$10:$D$14,3,TRUE),"")) | J23: =IF($H23="","",IFERROR(VLOOKUP($H23,Assumptions!$A$10:$D$14,4,TRUE),"")) | K23: =IF(OR($D23="",$I23=""),"",MAX(0,$D23*$I23)) | L23: =IF(OR($D23="",$I23="",$J23=""),"",MAX(0,($D23-$K23)*$J23)) | M23: =IF($D23="","",MAX(0,$D23-IF($K23="",0,$K23)-IF($L23="",0,$L23)))
H24: =IF(OR($G24="",$D24="",Assumptions!$B$4=""),"",MAX(0,Assumptions!$B$4-$G24)) | I24: =IF($H24="","",IFERROR(VLOOKUP($H24,Assumptions!$A$10:$D$14,3,TRUE),"")) | J24: =IF($H24="","",IFERROR(VLOOKUP($H24,Assumptions!$A$10:$D$14,4,TRUE),"")) | K24: =IF(OR($D24="",$I24=""),"",MAX(0,$D24*$I24)) | L24: =IF(OR($D24="",$I24="",$J24=""),"",MAX(0,($D24-$K24)*$J24)) | M24: =IF($D24="","",MAX(0,$D24-IF($K24="",0,$K24)-IF($L24="",0,$L24)))
H25: =IF(OR($G25="",$D25="",Assumptions!$B$4=""),"",MAX(0,Assumptions!$B$4-$G25)) | I25: =IF($H25="","",IFERROR(VLOOKUP($H25,Assumptions!$A$10:$D$14,3,TRUE),"")) | J25: =IF($H25="","",IFERROR(VLOOKUP($H25,Assumptions!$A$10:$D$14,4,TRUE),"")) | K25: =IF(OR($D25="",$I25=""),"",MAX(0,$D25*$I25)) | L25: =IF(OR($D25="",$I25="",$J25=""),"",MAX(0,($D25-$K25)*$J25)) | M25: =IF($D25="","",MAX(0,$D25-IF($K25="",0,$K25)-IF($L25="",0,$L25)))
H26: =IF(OR($G26="",$D26="",Assumptions!$B$4=""),"",MAX(0,Assumptions!$B$4-$G26)) | I26: =IF($H26="","",IFERROR(VLOOKUP($H26,Assumptions!$A$10:$D$14,3,TRUE),"")) | J26: =IF($H26="","",IFERROR(VLOOKUP($H26,Assumptions!$A$10:$D$14,4,TRUE),"")) | K26: =IF(OR($D26="",$I26=""),"",MAX(0,$D26*$I26)) | L26: =IF(OR($D26="",$I26="",$J26=""),"",MAX(0,($D26-$K26)*$J26)) | M26: =IF($D26="","",MAX(0,$D26-IF($K26="",0,$K26)-IF($L26="",0,$L26)))
... H104: =IF(OR($G104="",$D104="",Assumptions!$B$4=""),"",MAX(0,Assumptions!$B$4-$G104)) | I104: =IF($H104="","",IFERROR(VLOOKUP($H104,Assumptions!$A$10:$D$14,3,TRUE),"")) | J104: =IF($H104="","",IFERROR(VLOOKUP($H104,Assumptions!$A$10:$D$14,4,TRUE),"")) | K104: =IF(OR($D104="",$I104=""),"",MAX(0,$D104*$I104)) | L104: =IF(OR($D104="",$I104="",$J104=""),"",MAX(0,($D104-$K104)*$J104)) | M104: =IF($D104="","",MAX(0,$D104-IF($K104="",0,$K104)-IF($L104="",0,$L104)))

Sheet Assumptions
A1: Self Storage Delinquency Loss Forecast — Assumptions
A2: All names and records are fictional planning examples. Edit the highlighted assumptions and review warnings before using the forecast.
A4: Forecast as-of date | B4: 46277
A5: High forecast loss review threshold | B5: 500
A6: Past-due review age (days) | B6: 91
A9: Minimum Days | B9: Age Band | C9: Collection Probability | D9: Auction Recovery on Uncollected | F9: Facility Options | H9: Account Owner Options | J9: Status Options
A10: 0 | B10: =IF(OR($A10="",$A11=""),"",$A10&"-"&($A11-1)&" days") | C10: 0.92 | D10: 0 | F10: Fictional Pine Lantern Storage | H10: Fictional Avery Lane | J10: Open
A11: 31 | B11: =IF(OR($A11="",$A12=""),"",$A11&"-"&($A12-1)&" days") | C11: 0.72 | D11: 0 | F11: Fictional Blue Mesa Storage | H11: Fictional Jordan Pike | J11: Payment arrangement
A12: 61 | B12: =IF(OR($A12="",$A13=""),"",$A12&"-"&($A13-1)&" days") | C12: 0.48 | D12: 0.05 | F12: Fictional Harbor Kite Storage | H12: Fictional Casey Moss | J12: Auction review
A13: 91 | B13: =IF(OR($A13="",$A14=""),"",$A13&"-"&($A14-1)&" days") | C13: 0.25 | D13: 0.15 | H13: Fictional Riley Vale | J13: Manager review
A14: 121 | B14: =IF($A14="","",$A14&"+ days") | C14: 0.1 | D14: 0.25
A16: Forecast method
A17: Expected collection equals delinquent amount multiplied by collection probability. Expected auction recovery applies only to the remaining uncollected amount. Forecast loss is the residual planning estimate, not a guaranteed result.
