Workbook

Sheet Summary
A1: Self Storage Construction Cost Summary
A2: Calculated from entered fictional budget and cost records; warnings require human review.
A3: Portfolio Indicator | B3: Calculated Value | D3: Contractor | E3: Committed | F3: Paid | G3: Unpaid Committed
A4: Total Budget | B4: =IFERROR(SUM('Budget Lines'!$D$6:$D$105),0) | D4: =Assumptions!$C$4 | E4: =IFERROR(SUMIFS('Cost Tracker'!$M$6:$M$105,'Cost Tracker'!$D$6:$D$105,$D4),0) | F4: =IFERROR(SUMIFS('Cost Tracker'!$N$6:$N$105,'Cost Tracker'!$D$6:$D$105,$D4),0) | G4: =MAX(0,$E4-$F4)
A5: Committed | B5: =IFERROR(SUM('Budget Lines'!$G$6:$G$105),0) | D5: =Assumptions!$C$5 | E5: =IFERROR(SUMIFS('Cost Tracker'!$M$6:$M$105,'Cost Tracker'!$D$6:$D$105,$D5),0) | F5: =IFERROR(SUMIFS('Cost Tracker'!$N$6:$N$105,'Cost Tracker'!$D$6:$D$105,$D5),0) | G5: =MAX(0,$E5-$F5)
A6: Paid | B6: =IFERROR(SUM('Budget Lines'!$H$6:$H$105),0) | D6: =Assumptions!$C$6 | E6: =IFERROR(SUMIFS('Cost Tracker'!$M$6:$M$105,'Cost Tracker'!$D$6:$D$105,$D6),0) | F6: =IFERROR(SUMIFS('Cost Tracker'!$N$6:$N$105,'Cost Tracker'!$D$6:$D$105,$D6),0) | G6: =MAX(0,$E6-$F6)
A7: Unpaid Committed | B7: =IFERROR(SUM('Budget Lines'!$I$6:$I$105),0) | D7: =Assumptions!$C$7 | E7: =IFERROR(SUMIFS('Cost Tracker'!$M$6:$M$105,'Cost Tracker'!$D$6:$D$105,$D7),0) | F7: =IFERROR(SUMIFS('Cost Tracker'!$N$6:$N$105,'Cost Tracker'!$D$6:$D$105,$D7),0) | G7: =MAX(0,$E7-$F7)
A8: Remaining Budget | B8: =IFERROR(SUM('Budget Lines'!$J$6:$J$105),0) | D8: =Assumptions!$C$8 | E8: =IFERROR(SUMIFS('Cost Tracker'!$M$6:$M$105,'Cost Tracker'!$D$6:$D$105,$D8),0) | F8: =IFERROR(SUMIFS('Cost Tracker'!$N$6:$N$105,'Cost Tracker'!$D$6:$D$105,$D8),0) | G8: =MAX(0,$E8-$F8)
A9: Committed Percentage | B9: =IFERROR(B5/B4,0) | D9: =Assumptions!$C$9 | E9: =IFERROR(SUMIFS('Cost Tracker'!$M$6:$M$105,'Cost Tracker'!$D$6:$D$105,$D9),0) | F9: =IFERROR(SUMIFS('Cost Tracker'!$N$6:$N$105,'Cost Tracker'!$D$6:$D$105,$D9),0) | G9: =MAX(0,$E9-$F9)
A10: Past-Due Cost Items | B10: =COUNTIFS('Cost Tracker'!$A$6:$A$105,"?*",'Cost Tracker'!$K$6:$K$105,">0",'Cost Tracker'!$K$6:$K$105,"<"&TODAY(),'Cost Tracker'!$J$6:$J$105,"<>Paid",'Cost Tracker'!$J$6:$J$105,"<>Void") | D10: =Assumptions!$C$10 | E10: =IFERROR(SUMIFS('Cost Tracker'!$M$6:$M$105,'Cost Tracker'!$D$6:$D$105,$D10),0) | F10: =IFERROR(SUMIFS('Cost Tracker'!$N$6:$N$105,'Cost Tracker'!$D$6:$D$105,$D10),0) | G10: =MAX(0,$E10-$F10)
A11: Rows Flagged | B11: =COUNTIF('Cost Tracker'!$O$6:$O$105,"?*")+COUNTIF('Budget Lines'!$L$6:$L$105,"Over budget")+COUNTIF('Budget Lines'!$L$6:$L$105,"Review*")+COUNTIF('Budget Lines'!$L$6:$L$105,"Duplicate*")+COUNTIF('Budget Lines'!$L$6:$L$105,"Missing*") | D11: =Assumptions!$C$11 | E11: =IFERROR(SUMIFS('Cost Tracker'!$M$6:$M$105,'Cost Tracker'!$D$6:$D$105,$D11),0) | F11: =IFERROR(SUMIFS('Cost Tracker'!$N$6:$N$105,'Cost Tracker'!$D$6:$D$105,$D11),0) | G11: =MAX(0,$E11-$F11)
A13: Budget Line | B13: Budget | C13: Committed | D13: Paid
A14: =Assumptions!$B$4 | B14: =IFERROR(SUMIFS('Budget Lines'!$D$6:$D$105,'Budget Lines'!$C$6:$C$105,$A14),0) | C14: =IFERROR(SUMIFS('Budget Lines'!$G$6:$G$105,'Budget Lines'!$C$6:$C$105,$A14),0) | D14: =IFERROR(SUMIFS('Budget Lines'!$H$6:$H$105,'Budget Lines'!$C$6:$C$105,$A14),0)
A15: =Assumptions!$B$5 | B15: =IFERROR(SUMIFS('Budget Lines'!$D$6:$D$105,'Budget Lines'!$C$6:$C$105,$A15),0) | C15: =IFERROR(SUMIFS('Budget Lines'!$G$6:$G$105,'Budget Lines'!$C$6:$C$105,$A15),0) | D15: =IFERROR(SUMIFS('Budget Lines'!$H$6:$H$105,'Budget Lines'!$C$6:$C$105,$A15),0)
A16: =Assumptions!$B$6 | B16: =IFERROR(SUMIFS('Budget Lines'!$D$6:$D$105,'Budget Lines'!$C$6:$C$105,$A16),0) | C16: =IFERROR(SUMIFS('Budget Lines'!$G$6:$G$105,'Budget Lines'!$C$6:$C$105,$A16),0) | D16: =IFERROR(SUMIFS('Budget Lines'!$H$6:$H$105,'Budget Lines'!$C$6:$C$105,$A16),0)
A17: =Assumptions!$B$7 | B17: =IFERROR(SUMIFS('Budget Lines'!$D$6:$D$105,'Budget Lines'!$C$6:$C$105,$A17),0) | C17: =IFERROR(SUMIFS('Budget Lines'!$G$6:$G$105,'Budget Lines'!$C$6:$C$105,$A17),0) | D17: =IFERROR(SUMIFS('Budget Lines'!$H$6:$H$105,'Budget Lines'!$C$6:$C$105,$A17),0)
A18: =Assumptions!$B$8 | B18: =IFERROR(SUMIFS('Budget Lines'!$D$6:$D$105,'Budget Lines'!$C$6:$C$105,$A18),0) | C18: =IFERROR(SUMIFS('Budget Lines'!$G$6:$G$105,'Budget Lines'!$C$6:$C$105,$A18),0) | D18: =IFERROR(SUMIFS('Budget Lines'!$H$6:$H$105,'Budget Lines'!$C$6:$C$105,$A18),0)
A19: =Assumptions!$B$9 | B19: =IFERROR(SUMIFS('Budget Lines'!$D$6:$D$105,'Budget Lines'!$C$6:$C$105,$A19),0) | C19: =IFERROR(SUMIFS('Budget Lines'!$G$6:$G$105,'Budget Lines'!$C$6:$C$105,$A19),0) | D19: =IFERROR(SUMIFS('Budget Lines'!$H$6:$H$105,'Budget Lines'!$C$6:$C$105,$A19),0)
A20: =Assumptions!$B$10 | B20: =IFERROR(SUMIFS('Budget Lines'!$D$6:$D$105,'Budget Lines'!$C$6:$C$105,$A20),0) | C20: =IFERROR(SUMIFS('Budget Lines'!$G$6:$G$105,'Budget Lines'!$C$6:$C$105,$A20),0) | D20: =IFERROR(SUMIFS('Budget Lines'!$H$6:$H$105,'Budget Lines'!$C$6:$C$105,$A20),0)
A21: =Assumptions!$B$11 | B21: =IFERROR(SUMIFS('Budget Lines'!$D$6:$D$105,'Budget Lines'!$C$6:$C$105,$A21),0) | C21: =IFERROR(SUMIFS('Budget Lines'!$G$6:$G$105,'Budget Lines'!$C$6:$C$105,$A21),0) | D21: =IFERROR(SUMIFS('Budget Lines'!$H$6:$H$105,'Budget Lines'!$C$6:$C$105,$A21),0)

Sheet Cost Tracker
A1: Self Storage Construction Cost Tracker
A2: Track fictional commitments, change orders, payment requests, draws, due dates, and owners.
A3: Approved or paid commitments count as committed; only paid Payment entries count as paid. Warnings request human review.
A5: Entry ID | B5: Facility | C5: Budget Line | D5: Contractor | E5: Draw / Change Order Ref | F5: Cost Type | G5: Period | H5: Amount | I5: Owner | J5: Status | K5: Due Date | L5: Notes | M5: Committed Amount | N5: Paid Amount | O5: Review Flag
A6: CST-001 | B6: Fictional Cedar Ridge Storage | C6: Site Work | D6: Fictional Granite Path Civil LLC | E6: Contract GC-01 | F6: Original Commitment | G6: 46266 | H6: 360000 | I6: Fictional Employee Avery Brooks | J6: Approved | K6: 46286 | L6: Fictional grading and drainage commitment. | M6: =IF(OR($A6="",$H6=""),"",IF(AND(OR($F6="Original Commitment",$F6="Change Order"),OR($J6="Approved",$J6="Paid")),$H6,0)) | N6: =IF(OR($A6="",$H6=""),"",IF(AND($F6="Payment",$J6="Paid"),$H6,0)) | O6: =IF(COUNTA($A6:$L6)=0,"",IF($A6="","Missing entry ID",IF(COUNTIF($A$6:$A$105,$A6)>1,"Duplicate ID",IF(OR($B6="",$C6="",$D6="",$E6="",$F6="",$G6="",$H6="",$I6="",$J6="",$K6=""),"Missing required field",IF($H6=0,"Review zero amount",IF(AND($K6<TODAY(),$J6<>"Paid",$J6<>"Void"),"Past due - review",""))))))
A7: CST-002 | B7: Fictional Cedar Ridge Storage | C7: Site Work | D7: Fictional Granite Path Civil LLC | E7: Draw 01 | F7: Payment | G7: 46235 | H7: 120000 | I7: Fictional Employee Avery Brooks | J7: Paid | K7: 46261 | L7: Fictional completed earthwork draw. | M7: =IF(OR($A7="",$H7=""),"",IF(AND(OR($F7="Original Commitment",$F7="Change Order"),OR($J7="Approved",$J7="Paid")),$H7,0)) | N7: =IF(OR($A7="",$H7=""),"",IF(AND($F7="Payment",$J7="Paid"),$H7,0)) | O7: =IF(COUNTA($A7:$L7)=0,"",IF($A7="","Missing entry ID",IF(COUNTIF($A$6:$A$105,$A7)>1,"Duplicate ID",IF(OR($B7="",$C7="",$D7="",$E7="",$F7="",$G7="",$H7="",$I7="",$J7="",$K7=""),"Missing required field",IF($H7=0,"Review zero amount",IF(AND($K7<TODAY(),$J7<>"Paid",$J7<>"Void"),"Past due - review",""))))))
A8: CST-003 | B8: Fictional Cedar Ridge Storage | C8: Site Work | D8: Fictional Granite Path Civil LLC | E8: CO-01 | F8: Change Order | G8: 46266 | H8: 28000 | I8: Fictional Employee Avery Brooks | J8: Approved | K8: 46296 | L8: Fictional additional soil removal. | M8: =IF(OR($A8="",$H8=""),"",IF(AND(OR($F8="Original Commitment",$F8="Change Order"),OR($J8="Approved",$J8="Paid")),$H8,0)) | N8: =IF(OR($A8="",$H8=""),"",IF(AND($F8="Payment",$J8="Paid"),$H8,0)) | O8: =IF(COUNTA($A8:$L8)=0,"",IF($A8="","Missing entry ID",IF(COUNTIF($A$6:$A$105,$A8)>1,"Duplicate ID",IF(OR($B8="",$C8="",$D8="",$E8="",$F8="",$G8="",$H8="",$I8="",$J8="",$K8=""),"Missing required field",IF($H8=0,"Review zero amount",IF(AND($K8<TODAY(),$J8<>"Paid",$J8<>"Void"),"Past due - review",""))))))
A9: CST-004 | B9: Fictional Cedar Ridge Storage | C9: Foundations | D9: Fictional Bright Beam Concrete Co. | E9: Contract FC-01 | F9: Original Commitment | G9: 46266 | H9: 540000 | I9: Fictional Employee Avery Brooks | J9: Approved | K9: 46306 | L9: Fictional slab and footing commitment. | M9: =IF(OR($A9="",$H9=""),"",IF(AND(OR($F9="Original Commitment",$F9="Change Order"),OR($J9="Approved",$J9="Paid")),$H9,0)) | N9: =IF(OR($A9="",$H9=""),"",IF(AND($F9="Payment",$J9="Paid"),$H9,0)) | O9: =IF(COUNTA($A9:$L9)=0,"",IF($A9="","Missing entry ID",IF(COUNTIF($A$6:$A$105,$A9)>1,"Duplicate ID",IF(OR($B9="",$C9="",$D9="",$E9="",$F9="",$G9="",$H9="",$I9="",$J9="",$K9=""),"Missing required field",IF($H9=0,"Review zero amount",IF(AND($K9<TODAY(),$J9<>"Paid",$J9<>"Void"),"Past due - review",""))))))
A10: CST-005 | B10: Fictional Cedar Ridge Storage | C10: Foundations | D10: Fictional Bright Beam Concrete Co. | E10: Draw 01 | F10: Payment | G10: 46266 | H10: 160000 | I10: Fictional Employee Morgan Reed | J10: Submitted | K10: 46271 | L10: Fictional payment request awaiting internal review. | M10: =IF(OR($A10="",$H10=""),"",IF(AND(OR($F10="Original Commitment",$F10="Change Order"),OR($J10="Approved",$J10="Paid")),$H10,0)) | N10: =IF(OR($A10="",$H10=""),"",IF(AND($F10="Payment",$J10="Paid"),$H10,0)) | O10: =IF(COUNTA($A10:$L10)=0,"",IF($A10="","Missing entry ID",IF(COUNTIF($A$6:$A$105,$A10)>1,"Duplicate ID",IF(OR($B10="",$C10="",$D10="",$E10="",$F10="",$G10="",$H10="",$I10="",$J10="",$K10=""),"Missing required field",IF($H10=0,"Review zero amount",IF(AND($K10<TODAY(),$J10<>"Paid",$J10<>"Void"),"Past due - review",""))))))
A11: CST-006 | B11: Fictional Cedar Ridge Storage | C11: Structural Steel | D11: Fictional Highline Frame Works | E11: Contract SS-01 | F11: Original Commitment | G11: 46266 | H11: 790000 | I11: Fictional Employee Morgan Reed | J11: Approved | K11: 46321 | L11: Fictional structural framing commitment. | M11: =IF(OR($A11="",$H11=""),"",IF(AND(OR($F11="Original Commitment",$F11="Change Order"),OR($J11="Approved",$J11="Paid")),$H11,0)) | N11: =IF(OR($A11="",$H11=""),"",IF(AND($F11="Payment",$J11="Paid"),$H11,0)) | O11: =IF(COUNTA($A11:$L11)=0,"",IF($A11="","Missing entry ID",IF(COUNTIF($A$6:$A$105,$A11)>1,"Duplicate ID",IF(OR($B11="",$C11="",$D11="",$E11="",$F11="",$G11="",$H11="",$I11="",$J11="",$K11=""),"Missing required field",IF($H11=0,"Review zero amount",IF(AND($K11<TODAY(),$J11<>"Paid",$J11<>"Void"),"Past due - review",""))))))
A12: CST-007 | B12: Fictional Bluebird Avenue Storage | C12: Building Envelope | D12: Fictional Harbor Shield Exteriors | E12: Contract BE-01 | F12: Original Commitment | G12: 46266 | H12: 710000 | I12: Fictional Employee Morgan Reed | J12: Approved | K12: 46301 | L12: Fictional roofing and wall system commitment. | M12: =IF(OR($A12="",$H12=""),"",IF(AND(OR($F12="Original Commitment",$F12="Change Order"),OR($J12="Approved",$J12="Paid")),$H12,0)) | N12: =IF(OR($A12="",$H12=""),"",IF(AND($F12="Payment",$J12="Paid"),$H12,0)) | O12: =IF(COUNTA($A12:$L12)=0,"",IF($A12="","Missing entry ID",IF(COUNTIF($A$6:$A$105,$A12)>1,"Duplicate ID",IF(OR($B12="",$C12="",$D12="",$E12="",$F12="",$G12="",$H12="",$I12="",$J12="",$K12=""),"Missing required field",IF($H12=0,"Review zero amount",IF(AND($K12<TODAY(),$J12<>"Paid",$J12<>"Void"),"Past due - review",""))))))
A13: CST-008 | B13: Fictional Bluebird Avenue Storage | C13: Building Envelope | D13: Fictional Harbor Shield Exteriors | E13: Draw 01 | F13: Payment | G13: 46235 | H13: 210000 | I13: Fictional Employee Morgan Reed | J13: Paid | K13: 46266 | L13: Fictional paid exterior materials draw. | M13: =IF(OR($A13="",$H13=""),"",IF(AND(OR($F13="Original Commitment",$F13="Change Order"),OR($J13="Approved",$J13="Paid")),$H13,0)) | N13: =IF(OR($A13="",$H13=""),"",IF(AND($F13="Payment",$J13="Paid"),$H13,0)) | O13: =IF(COUNTA($A13:$L13)=0,"",IF($A13="","Missing entry ID",IF(COUNTIF($A$6:$A$105,$A13)>1,"Duplicate ID",IF(OR($B13="",$C13="",$D13="",$E13="",$F13="",$G13="",$H13="",$I13="",$J13="",$K13=""),"Missing required field",IF($H13=0,"Review zero amount",IF(AND($K13<TODAY(),$J13<>"Paid",$J13<>"Void"),"Past due - review",""))))))
A14: CST-009 | B14: Fictional Bluebird Avenue Storage | C14: Climate Systems | D14: Fictional CoolCurrent Mechanical | E14: CO-02 | F14: Change Order | G14: 46266 | H14: 35000 | I14: Fictional Employee Jordan Lee | J14: Draft | K14: 46311 | L14: Fictional draft equipment revision. | M14: =IF(OR($A14="",$H14=""),"",IF(AND(OR($F14="Original Commitment",$F14="Change Order"),OR($J14="Approved",$J14="Paid")),$H14,0)) | N14: =IF(OR($A14="",$H14=""),"",IF(AND($F14="Payment",$J14="Paid"),$H14,0)) | O14: =IF(COUNTA($A14:$L14)=0,"",IF($A14="","Missing entry ID",IF(COUNTIF($A$6:$A$105,$A14)>1,"Duplicate ID",IF(OR($B14="",$C14="",$D14="",$E14="",$F14="",$G14="",$H14="",$I14="",$J14="",$K14=""),"Missing required field",IF($H14=0,"Review zero amount",IF(AND($K14<TODAY(),$J14<>"Paid",$J14<>"Void"),"Past due - review",""))))))
A15: CST-010 | B15: Fictional Summit Box Storage | C15: Site Work | D15: Fictional Granite Path Civil LLC | E15: Contract GC-02 | F15: Original Commitment | G15: 46266 | H15: 405000 | I15: Fictional Employee Avery Brooks | J15: Approved | K15: 46294 | L15: Fictional site package submitted above the entered budget. | M15: =IF(OR($A15="",$H15=""),"",IF(AND(OR($F15="Original Commitment",$F15="Change Order"),OR($J15="Approved",$J15="Paid")),$H15,0)) | N15: =IF(OR($A15="",$H15=""),"",IF(AND($F15="Payment",$J15="Paid"),$H15,0)) | O15: =IF(COUNTA($A15:$L15)=0,"",IF($A15="","Missing entry ID",IF(COUNTIF($A$6:$A$105,$A15)>1,"Duplicate ID",IF(OR($B15="",$C15="",$D15="",$E15="",$F15="",$G15="",$H15="",$I15="",$J15="",$K15=""),"Missing required field",IF($H15=0,"Review zero amount",IF(AND($K15<TODAY(),$J15<>"Paid",$J15<>"Void"),"Past due - review",""))))))
M16: =IF(OR($A16="",$H16=""),"",IF(AND(OR($F16="Original Commitment",$F16="Change Order"),OR($J16="Approved",$J16="Paid")),$H16,0)) | N16: =IF(OR($A16="",$H16=""),"",IF(AND($F16="Payment",$J16="Paid"),$H16,0)) | O16: =IF(COUNTA($A16:$L16)=0,"",IF($A16="","Missing entry ID",IF(COUNTIF($A$6:$A$105,$A16)>1,"Duplicate ID",IF(OR($B16="",$C16="",$D16="",$E16="",$F16="",$G16="",$H16="",$I16="",$J16="",$K16=""),"Missing required field",IF($H16=0,"Review zero amount",IF(AND($K16<TODAY(),$J16<>"Paid",$J16<>"Void"),"Past due - review",""))))))
M17: =IF(OR($A17="",$H17=""),"",IF(AND(OR($F17="Original Commitment",$F17="Change Order"),OR($J17="Approved",$J17="Paid")),$H17,0)) | N17: =IF(OR($A17="",$H17=""),"",IF(AND($F17="Payment",$J17="Paid"),$H17,0)) | O17: =IF(COUNTA($A17:$L17)=0,"",IF($A17="","Missing entry ID",IF(COUNTIF($A$6:$A$105,$A17)>1,"Duplicate ID",IF(OR($B17="",$C17="",$D17="",$E17="",$F17="",$G17="",$H17="",$I17="",$J17="",$K17=""),"Missing required field",IF($H17=0,"Review zero amount",IF(AND($K17<TODAY(),$J17<>"Paid",$J17<>"Void"),"Past due - review",""))))))
M18: =IF(OR($A18="",$H18=""),"",IF(AND(OR($F18="Original Commitment",$F18="Change Order"),OR($J18="Approved",$J18="Paid")),$H18,0)) | N18: =IF(OR($A18="",$H18=""),"",IF(AND($F18="Payment",$J18="Paid"),$H18,0)) | O18: =IF(COUNTA($A18:$L18)=0,"",IF($A18="","Missing entry ID",IF(COUNTIF($A$6:$A$105,$A18)>1,"Duplicate ID",IF(OR($B18="",$C18="",$D18="",$E18="",$F18="",$G18="",$H18="",$I18="",$J18="",$K18=""),"Missing required field",IF($H18=0,"Review zero amount",IF(AND($K18<TODAY(),$J18<>"Paid",$J18<>"Void"),"Past due - review",""))))))
M19: =IF(OR($A19="",$H19=""),"",IF(AND(OR($F19="Original Commitment",$F19="Change Order"),OR($J19="Approved",$J19="Paid")),$H19,0)) | N19: =IF(OR($A19="",$H19=""),"",IF(AND($F19="Payment",$J19="Paid"),$H19,0)) | O19: =IF(COUNTA($A19:$L19)=0,"",IF($A19="","Missing entry ID",IF(COUNTIF($A$6:$A$105,$A19)>1,"Duplicate ID",IF(OR($B19="",$C19="",$D19="",$E19="",$F19="",$G19="",$H19="",$I19="",$J19="",$K19=""),"Missing required field",IF($H19=0,"Review zero amount",IF(AND($K19<TODAY(),$J19<>"Paid",$J19<>"Void"),"Past due - review",""))))))
M20: =IF(OR($A20="",$H20=""),"",IF(AND(OR($F20="Original Commitment",$F20="Change Order"),OR($J20="Approved",$J20="Paid")),$H20,0)) | N20: =IF(OR($A20="",$H20=""),"",IF(AND($F20="Payment",$J20="Paid"),$H20,0)) | O20: =IF(COUNTA($A20:$L20)=0,"",IF($A20="","Missing entry ID",IF(COUNTIF($A$6:$A$105,$A20)>1,"Duplicate ID",IF(OR($B20="",$C20="",$D20="",$E20="",$F20="",$G20="",$H20="",$I20="",$J20="",$K20=""),"Missing required field",IF($H20=0,"Review zero amount",IF(AND($K20<TODAY(),$J20<>"Paid",$J20<>"Void"),"Past due - review",""))))))
M21: =IF(OR($A21="",$H21=""),"",IF(AND(OR($F21="Original Commitment",$F21="Change Order"),OR($J21="Approved",$J21="Paid")),$H21,0)) | N21: =IF(OR($A21="",$H21=""),"",IF(AND($F21="Payment",$J21="Paid"),$H21,0)) | O21: =IF(COUNTA($A21:$L21)=0,"",IF($A21="","Missing entry ID",IF(COUNTIF($A$6:$A$105,$A21)>1,"Duplicate ID",IF(OR($B21="",$C21="",$D21="",$E21="",$F21="",$G21="",$H21="",$I21="",$J21="",$K21=""),"Missing required field",IF($H21=0,"Review zero amount",IF(AND($K21<TODAY(),$J21<>"Paid",$J21<>"Void"),"Past due - review",""))))))
M22: =IF(OR($A22="",$H22=""),"",IF(AND(OR($F22="Original Commitment",$F22="Change Order"),OR($J22="Approved",$J22="Paid")),$H22,0)) | N22: =IF(OR($A22="",$H22=""),"",IF(AND($F22="Payment",$J22="Paid"),$H22,0)) | O22: =IF(COUNTA($A22:$L22)=0,"",IF($A22="","Missing entry ID",IF(COUNTIF($A$6:$A$105,$A22)>1,"Duplicate ID",IF(OR($B22="",$C22="",$D22="",$E22="",$F22="",$G22="",$H22="",$I22="",$J22="",$K22=""),"Missing required field",IF($H22=0,"Review zero amount",IF(AND($K22<TODAY(),$J22<>"Paid",$J22<>"Void"),"Past due - review",""))))))
M23: =IF(OR($A23="",$H23=""),"",IF(AND(OR($F23="Original Commitment",$F23="Change Order"),OR($J23="Approved",$J23="Paid")),$H23,0)) | N23: =IF(OR($A23="",$H23=""),"",IF(AND($F23="Payment",$J23="Paid"),$H23,0)) | O23: =IF(COUNTA($A23:$L23)=0,"",IF($A23="","Missing entry ID",IF(COUNTIF($A$6:$A$105,$A23)>1,"Duplicate ID",IF(OR($B23="",$C23="",$D23="",$E23="",$F23="",$G23="",$H23="",$I23="",$J23="",$K23=""),"Missing required field",IF($H23=0,"Review zero amount",IF(AND($K23<TODAY(),$J23<>"Paid",$J23<>"Void"),"Past due - review",""))))))
M24: =IF(OR($A24="",$H24=""),"",IF(AND(OR($F24="Original Commitment",$F24="Change Order"),OR($J24="Approved",$J24="Paid")),$H24,0)) | N24: =IF(OR($A24="",$H24=""),"",IF(AND($F24="Payment",$J24="Paid"),$H24,0)) | O24: =IF(COUNTA($A24:$L24)=0,"",IF($A24="","Missing entry ID",IF(COUNTIF($A$6:$A$105,$A24)>1,"Duplicate ID",IF(OR($B24="",$C24="",$D24="",$E24="",$F24="",$G24="",$H24="",$I24="",$J24="",$K24=""),"Missing required field",IF($H24=0,"Review zero amount",IF(AND($K24<TODAY(),$J24<>"Paid",$J24<>"Void"),"Past due - review",""))))))
M25: =IF(OR($A25="",$H25=""),"",IF(AND(OR($F25="Original Commitment",$F25="Change Order"),OR($J25="Approved",$J25="Paid")),$H25,0)) | N25: =IF(OR($A25="",$H25=""),"",IF(AND($F25="Payment",$J25="Paid"),$H25,0)) | O25: =IF(COUNTA($A25:$L25)=0,"",IF($A25="","Missing entry ID",IF(COUNTIF($A$6:$A$105,$A25)>1,"Duplicate ID",IF(OR($B25="",$C25="",$D25="",$E25="",$F25="",$G25="",$H25="",$I25="",$J25="",$K25=""),"Missing required field",IF($H25=0,"Review zero amount",IF(AND($K25<TODAY(),$J25<>"Paid",$J25<>"Void"),"Past due - review",""))))))
M26: =IF(OR($A26="",$H26=""),"",IF(AND(OR($F26="Original Commitment",$F26="Change Order"),OR($J26="Approved",$J26="Paid")),$H26,0)) | N26: =IF(OR($A26="",$H26=""),"",IF(AND($F26="Payment",$J26="Paid"),$H26,0)) | O26: =IF(COUNTA($A26:$L26)=0,"",IF($A26="","Missing entry ID",IF(COUNTIF($A$6:$A$105,$A26)>1,"Duplicate ID",IF(OR($B26="",$C26="",$D26="",$E26="",$F26="",$G26="",$H26="",$I26="",$J26="",$K26=""),"Missing required field",IF($H26=0,"Review zero amount",IF(AND($K26<TODAY(),$J26<>"Paid",$J26<>"Void"),"Past due - review",""))))))
M27: =IF(OR($A27="",$H27=""),"",IF(AND(OR($F27="Original Commitment",$F27="Change Order"),OR($J27="Approved",$J27="Paid")),$H27,0)) | N27: =IF(OR($A27="",$H27=""),"",IF(AND($F27="Payment",$J27="Paid"),$H27,0)) | O27: =IF(COUNTA($A27:$L27)=0,"",IF($A27="","Missing entry ID",IF(COUNTIF($A$6:$A$105,$A27)>1,"Duplicate ID",IF(OR($B27="",$C27="",$D27="",$E27="",$F27="",$G27="",$H27="",$I27="",$J27="",$K27=""),"Missing required field",IF($H27=0,"Review zero amount",IF(AND($K27<TODAY(),$J27<>"Paid",$J27<>"Void"),"Past due - review",""))))))
... M105: =IF(OR($A105="",$H105=""),"",IF(AND(OR($F105="Original Commitment",$F105="Change Order"),OR($J105="Approved",$J105="Paid")),$H105,0)) | N105: =IF(OR($A105="",$H105=""),"",IF(AND($F105="Payment",$J105="Paid"),$H105,0)) | O105: =IF(COUNTA($A105:$L105)=0,"",IF($A105="","Missing entry ID",IF(COUNTIF($A$6:$A$105,$A105)>1,"Duplicate ID",IF(OR($B105="",$C105="",$D105="",$E105="",$F105="",$G105="",$H105="",$I105="",$J105="",$K105=""),"Missing required field",IF($H105=0,"Review zero amount",IF(AND($K105<TODAY(),$J105<>"Paid",$J105<>"Void"),"Past due - review",""))))))

Sheet Budget Lines
A1: Self Storage Construction Budget Lines
A2: Enter one budget row for each fictional facility and budget line combination.
A3: Yellow cells are editable. Calculated committed and paid amounts come from Cost Tracker entries.
A5: Budget ID | B5: Facility | C5: Budget Line | D5: Budget Amount | E5: Owner | F5: Notes | G5: Committed Amount | H5: Paid Amount | I5: Unpaid Committed | J5: Remaining Budget | K5: Committed Percentage | L5: Review Status
A6: BUD-001 | B6: Fictional Cedar Ridge Storage | C6: Site Work | D6: 420000 | E6: Fictional Employee Avery Brooks | F6: Initial fictional site package. | G6: =IF(OR($A6="",$B6="",$C6=""),"",IFERROR(SUMIFS('Cost Tracker'!$M$6:$M$105,'Cost Tracker'!$B$6:$B$105,$B6,'Cost Tracker'!$C$6:$C$105,$C6),0)) | H6: =IF(OR($A6="",$B6="",$C6=""),"",IFERROR(SUMIFS('Cost Tracker'!$N$6:$N$105,'Cost Tracker'!$B$6:$B$105,$B6,'Cost Tracker'!$C$6:$C$105,$C6),0)) | I6: =IF(OR($G6="",$H6=""),"",MAX(0,$G6-$H6)) | J6: =IF(OR($D6="",$G6=""),"",$D6-$G6) | K6: =IF(OR($D6="",$D6=0,$G6=""),"",IFERROR($G6/$D6,"")) | L6: =IF(COUNTA($A6:$F6)=0,"",IF($A6="","Missing budget ID",IF(COUNTIF($A$6:$A$105,$A6)>1,"Duplicate ID",IF(OR($B6="",$C6="",$D6="",$E6=""),"Review setup",IF(COUNTIFS($B$6:$B$105,$B6,$C$6:$C$105,$C6)>1,"Duplicate budget line",IF($D6=0,"Review zero budget",IF($J6<0,"Over budget",IF($K6>=Assumptions!$I$4,"Near budget","Within budget"))))))))
A7: BUD-002 | B7: Fictional Cedar Ridge Storage | C7: Foundations | D7: 590000 | E7: Fictional Employee Avery Brooks | F7: Foundation allowance for the fictional project. | G7: =IF(OR($A7="",$B7="",$C7=""),"",IFERROR(SUMIFS('Cost Tracker'!$M$6:$M$105,'Cost Tracker'!$B$6:$B$105,$B7,'Cost Tracker'!$C$6:$C$105,$C7),0)) | H7: =IF(OR($A7="",$B7="",$C7=""),"",IFERROR(SUMIFS('Cost Tracker'!$N$6:$N$105,'Cost Tracker'!$B$6:$B$105,$B7,'Cost Tracker'!$C$6:$C$105,$C7),0)) | I7: =IF(OR($G7="",$H7=""),"",MAX(0,$G7-$H7)) | J7: =IF(OR($D7="",$G7=""),"",$D7-$G7) | K7: =IF(OR($D7="",$D7=0,$G7=""),"",IFERROR($G7/$D7,"")) | L7: =IF(COUNTA($A7:$F7)=0,"",IF($A7="","Missing budget ID",IF(COUNTIF($A$6:$A$105,$A7)>1,"Duplicate ID",IF(OR($B7="",$C7="",$D7="",$E7=""),"Review setup",IF(COUNTIFS($B$6:$B$105,$B7,$C$6:$C$105,$C7)>1,"Duplicate budget line",IF($D7=0,"Review zero budget",IF($J7<0,"Over budget",IF($K7>=Assumptions!$I$4,"Near budget","Within budget"))))))))
A8: BUD-003 | B8: Fictional Cedar Ridge Storage | C8: Structural Steel | D8: 840000 | E8: Fictional Employee Morgan Reed | F8: Steel framing budget. | G8: =IF(OR($A8="",$B8="",$C8=""),"",IFERROR(SUMIFS('Cost Tracker'!$M$6:$M$105,'Cost Tracker'!$B$6:$B$105,$B8,'Cost Tracker'!$C$6:$C$105,$C8),0)) | H8: =IF(OR($A8="",$B8="",$C8=""),"",IFERROR(SUMIFS('Cost Tracker'!$N$6:$N$105,'Cost Tracker'!$B$6:$B$105,$B8,'Cost Tracker'!$C$6:$C$105,$C8),0)) | I8: =IF(OR($G8="",$H8=""),"",MAX(0,$G8-$H8)) | J8: =IF(OR($D8="",$G8=""),"",$D8-$G8) | K8: =IF(OR($D8="",$D8=0,$G8=""),"",IFERROR($G8/$D8,"")) | L8: =IF(COUNTA($A8:$F8)=0,"",IF($A8="","Missing budget ID",IF(COUNTIF($A$6:$A$105,$A8)>1,"Duplicate ID",IF(OR($B8="",$C8="",$D8="",$E8=""),"Review setup",IF(COUNTIFS($B$6:$B$105,$B8,$C$6:$C$105,$C8)>1,"Duplicate budget line",IF($D8=0,"Review zero budget",IF($J8<0,"Over budget",IF($K8>=Assumptions!$I$4,"Near budget","Within budget"))))))))
A9: BUD-004 | B9: Fictional Cedar Ridge Storage | C9: Electrical | D9: 310000 | E9: Fictional Employee Jordan Lee | F9: Electrical distribution budget. | G9: =IF(OR($A9="",$B9="",$C9=""),"",IFERROR(SUMIFS('Cost Tracker'!$M$6:$M$105,'Cost Tracker'!$B$6:$B$105,$B9,'Cost Tracker'!$C$6:$C$105,$C9),0)) | H9: =IF(OR($A9="",$B9="",$C9=""),"",IFERROR(SUMIFS('Cost Tracker'!$N$6:$N$105,'Cost Tracker'!$B$6:$B$105,$B9,'Cost Tracker'!$C$6:$C$105,$C9),0)) | I9: =IF(OR($G9="",$H9=""),"",MAX(0,$G9-$H9)) | J9: =IF(OR($D9="",$G9=""),"",$D9-$G9) | K9: =IF(OR($D9="",$D9=0,$G9=""),"",IFERROR($G9/$D9,"")) | L9: =IF(COUNTA($A9:$F9)=0,"",IF($A9="","Missing budget ID",IF(COUNTIF($A$6:$A$105,$A9)>1,"Duplicate ID",IF(OR($B9="",$C9="",$D9="",$E9=""),"Review setup",IF(COUNTIFS($B$6:$B$105,$B9,$C$6:$C$105,$C9)>1,"Duplicate budget line",IF($D9=0,"Review zero budget",IF($J9<0,"Over budget",IF($K9>=Assumptions!$I$4,"Near budget","Within budget"))))))))
A10: BUD-005 | B10: Fictional Bluebird Avenue Storage | C10: Building Envelope | D10: 760000 | E10: Fictional Employee Morgan Reed | F10: Roofing and exterior wall budget. | G10: =IF(OR($A10="",$B10="",$C10=""),"",IFERROR(SUMIFS('Cost Tracker'!$M$6:$M$105,'Cost Tracker'!$B$6:$B$105,$B10,'Cost Tracker'!$C$6:$C$105,$C10),0)) | H10: =IF(OR($A10="",$B10="",$C10=""),"",IFERROR(SUMIFS('Cost Tracker'!$N$6:$N$105,'Cost Tracker'!$B$6:$B$105,$B10,'Cost Tracker'!$C$6:$C$105,$C10),0)) | I10: =IF(OR($G10="",$H10=""),"",MAX(0,$G10-$H10)) | J10: =IF(OR($D10="",$G10=""),"",$D10-$G10) | K10: =IF(OR($D10="",$D10=0,$G10=""),"",IFERROR($G10/$D10,"")) | L10: =IF(COUNTA($A10:$F10)=0,"",IF($A10="","Missing budget ID",IF(COUNTIF($A$6:$A$105,$A10)>1,"Duplicate ID",IF(OR($B10="",$C10="",$D10="",$E10=""),"Review setup",IF(COUNTIFS($B$6:$B$105,$B10,$C$6:$C$105,$C10)>1,"Duplicate budget line",IF($D10=0,"Review zero budget",IF($J10<0,"Over budget",IF($K10>=Assumptions!$I$4,"Near budget","Within budget"))))))))
A11: BUD-006 | B11: Fictional Bluebird Avenue Storage | C11: Climate Systems | D11: 480000 | E11: Fictional Employee Jordan Lee | F11: Climate system budget. | G11: =IF(OR($A11="",$B11="",$C11=""),"",IFERROR(SUMIFS('Cost Tracker'!$M$6:$M$105,'Cost Tracker'!$B$6:$B$105,$B11,'Cost Tracker'!$C$6:$C$105,$C11),0)) | H11: =IF(OR($A11="",$B11="",$C11=""),"",IFERROR(SUMIFS('Cost Tracker'!$N$6:$N$105,'Cost Tracker'!$B$6:$B$105,$B11,'Cost Tracker'!$C$6:$C$105,$C11),0)) | I11: =IF(OR($G11="",$H11=""),"",MAX(0,$G11-$H11)) | J11: =IF(OR($D11="",$G11=""),"",$D11-$G11) | K11: =IF(OR($D11="",$D11=0,$G11=""),"",IFERROR($G11/$D11,"")) | L11: =IF(COUNTA($A11:$F11)=0,"",IF($A11="","Missing budget ID",IF(COUNTIF($A$6:$A$105,$A11)>1,"Duplicate ID",IF(OR($B11="",$C11="",$D11="",$E11=""),"Review setup",IF(COUNTIFS($B$6:$B$105,$B11,$C$6:$C$105,$C11)>1,"Duplicate budget line",IF($D11=0,"Review zero budget",IF($J11<0,"Over budget",IF($K11>=Assumptions!$I$4,"Near budget","Within budget"))))))))
A12: BUD-007 | B12: Fictional Bluebird Avenue Storage | C12: Security and Access | D12: 120000 | E12: Fictional Employee Casey North | F12: Fictional access equipment budget. | G12: =IF(OR($A12="",$B12="",$C12=""),"",IFERROR(SUMIFS('Cost Tracker'!$M$6:$M$105,'Cost Tracker'!$B$6:$B$105,$B12,'Cost Tracker'!$C$6:$C$105,$C12),0)) | H12: =IF(OR($A12="",$B12="",$C12=""),"",IFERROR(SUMIFS('Cost Tracker'!$N$6:$N$105,'Cost Tracker'!$B$6:$B$105,$B12,'Cost Tracker'!$C$6:$C$105,$C12),0)) | I12: =IF(OR($G12="",$H12=""),"",MAX(0,$G12-$H12)) | J12: =IF(OR($D12="",$G12=""),"",$D12-$G12) | K12: =IF(OR($D12="",$D12=0,$G12=""),"",IFERROR($G12/$D12,"")) | L12: =IF(COUNTA($A12:$F12)=0,"",IF($A12="","Missing budget ID",IF(COUNTIF($A$6:$A$105,$A12)>1,"Duplicate ID",IF(OR($B12="",$C12="",$D12="",$E12=""),"Review setup",IF(COUNTIFS($B$6:$B$105,$B12,$C$6:$C$105,$C12)>1,"Duplicate budget line",IF($D12=0,"Review zero budget",IF($J12<0,"Over budget",IF($K12>=Assumptions!$I$4,"Near budget","Within budget"))))))))
A13: BUD-008 | B13: Fictional Bluebird Avenue Storage | C13: General Conditions | D13: 260000 | E13: Fictional Employee Casey North | F13: General conditions budget. | G13: =IF(OR($A13="",$B13="",$C13=""),"",IFERROR(SUMIFS('Cost Tracker'!$M$6:$M$105,'Cost Tracker'!$B$6:$B$105,$B13,'Cost Tracker'!$C$6:$C$105,$C13),0)) | H13: =IF(OR($A13="",$B13="",$C13=""),"",IFERROR(SUMIFS('Cost Tracker'!$N$6:$N$105,'Cost Tracker'!$B$6:$B$105,$B13,'Cost Tracker'!$C$6:$C$105,$C13),0)) | I13: =IF(OR($G13="",$H13=""),"",MAX(0,$G13-$H13)) | J13: =IF(OR($D13="",$G13=""),"",$D13-$G13) | K13: =IF(OR($D13="",$D13=0,$G13=""),"",IFERROR($G13/$D13,"")) | L13: =IF(COUNTA($A13:$F13)=0,"",IF($A13="","Missing budget ID",IF(COUNTIF($A$6:$A$105,$A13)>1,"Duplicate ID",IF(OR($B13="",$C13="",$D13="",$E13=""),"Review setup",IF(COUNTIFS($B$6:$B$105,$B13,$C$6:$C$105,$C13)>1,"Duplicate budget line",IF($D13=0,"Review zero budget",IF($J13<0,"Over budget",IF($K13>=Assumptions!$I$4,"Near budget","Within budget"))))))))
A14: BUD-009 | B14: Fictional Summit Box Storage | C14: Site Work | D14: 390000 | E14: Fictional Employee Avery Brooks | F14: Early site work budget. | G14: =IF(OR($A14="",$B14="",$C14=""),"",IFERROR(SUMIFS('Cost Tracker'!$M$6:$M$105,'Cost Tracker'!$B$6:$B$105,$B14,'Cost Tracker'!$C$6:$C$105,$C14),0)) | H14: =IF(OR($A14="",$B14="",$C14=""),"",IFERROR(SUMIFS('Cost Tracker'!$N$6:$N$105,'Cost Tracker'!$B$6:$B$105,$B14,'Cost Tracker'!$C$6:$C$105,$C14),0)) | I14: =IF(OR($G14="",$H14=""),"",MAX(0,$G14-$H14)) | J14: =IF(OR($D14="",$G14=""),"",$D14-$G14) | K14: =IF(OR($D14="",$D14=0,$G14=""),"",IFERROR($G14/$D14,"")) | L14: =IF(COUNTA($A14:$F14)=0,"",IF($A14="","Missing budget ID",IF(COUNTIF($A$6:$A$105,$A14)>1,"Duplicate ID",IF(OR($B14="",$C14="",$D14="",$E14=""),"Review setup",IF(COUNTIFS($B$6:$B$105,$B14,$C$6:$C$105,$C14)>1,"Duplicate budget line",IF($D14=0,"Review zero budget",IF($J14<0,"Over budget",IF($K14>=Assumptions!$I$4,"Near budget","Within budget"))))))))
A15: BUD-010 | B15: Fictional Summit Box Storage | C15: Foundations | D15: 550000 | E15: Fictional Employee Morgan Reed | F15: Foundation construction budget. | G15: =IF(OR($A15="",$B15="",$C15=""),"",IFERROR(SUMIFS('Cost Tracker'!$M$6:$M$105,'Cost Tracker'!$B$6:$B$105,$B15,'Cost Tracker'!$C$6:$C$105,$C15),0)) | H15: =IF(OR($A15="",$B15="",$C15=""),"",IFERROR(SUMIFS('Cost Tracker'!$N$6:$N$105,'Cost Tracker'!$B$6:$B$105,$B15,'Cost Tracker'!$C$6:$C$105,$C15),0)) | I15: =IF(OR($G15="",$H15=""),"",MAX(0,$G15-$H15)) | J15: =IF(OR($D15="",$G15=""),"",$D15-$G15) | K15: =IF(OR($D15="",$D15=0,$G15=""),"",IFERROR($G15/$D15,"")) | L15: =IF(COUNTA($A15:$F15)=0,"",IF($A15="","Missing budget ID",IF(COUNTIF($A$6:$A$105,$A15)>1,"Duplicate ID",IF(OR($B15="",$C15="",$D15="",$E15=""),"Review setup",IF(COUNTIFS($B$6:$B$105,$B15,$C$6:$C$105,$C15)>1,"Duplicate budget line",IF($D15=0,"Review zero budget",IF($J15<0,"Over budget",IF($K15>=Assumptions!$I$4,"Near budget","Within budget"))))))))
G16: =IF(OR($A16="",$B16="",$C16=""),"",IFERROR(SUMIFS('Cost Tracker'!$M$6:$M$105,'Cost Tracker'!$B$6:$B$105,$B16,'Cost Tracker'!$C$6:$C$105,$C16),0)) | H16: =IF(OR($A16="",$B16="",$C16=""),"",IFERROR(SUMIFS('Cost Tracker'!$N$6:$N$105,'Cost Tracker'!$B$6:$B$105,$B16,'Cost Tracker'!$C$6:$C$105,$C16),0)) | I16: =IF(OR($G16="",$H16=""),"",MAX(0,$G16-$H16)) | J16: =IF(OR($D16="",$G16=""),"",$D16-$G16) | K16: =IF(OR($D16="",$D16=0,$G16=""),"",IFERROR($G16/$D16,"")) | L16: =IF(COUNTA($A16:$F16)=0,"",IF($A16="","Missing budget ID",IF(COUNTIF($A$6:$A$105,$A16)>1,"Duplicate ID",IF(OR($B16="",$C16="",$D16="",$E16=""),"Review setup",IF(COUNTIFS($B$6:$B$105,$B16,$C$6:$C$105,$C16)>1,"Duplicate budget line",IF($D16=0,"Review zero budget",IF($J16<0,"Over budget",IF($K16>=Assumptions!$I$4,"Near budget","Within budget"))))))))
G17: =IF(OR($A17="",$B17="",$C17=""),"",IFERROR(SUMIFS('Cost Tracker'!$M$6:$M$105,'Cost Tracker'!$B$6:$B$105,$B17,'Cost Tracker'!$C$6:$C$105,$C17),0)) | H17: =IF(OR($A17="",$B17="",$C17=""),"",IFERROR(SUMIFS('Cost Tracker'!$N$6:$N$105,'Cost Tracker'!$B$6:$B$105,$B17,'Cost Tracker'!$C$6:$C$105,$C17),0)) | I17: =IF(OR($G17="",$H17=""),"",MAX(0,$G17-$H17)) | J17: =IF(OR($D17="",$G17=""),"",$D17-$G17) | K17: =IF(OR($D17="",$D17=0,$G17=""),"",IFERROR($G17/$D17,"")) | L17: =IF(COUNTA($A17:$F17)=0,"",IF($A17="","Missing budget ID",IF(COUNTIF($A$6:$A$105,$A17)>1,"Duplicate ID",IF(OR($B17="",$C17="",$D17="",$E17=""),"Review setup",IF(COUNTIFS($B$6:$B$105,$B17,$C$6:$C$105,$C17)>1,"Duplicate budget line",IF($D17=0,"Review zero budget",IF($J17<0,"Over budget",IF($K17>=Assumptions!$I$4,"Near budget","Within budget"))))))))
G18: =IF(OR($A18="",$B18="",$C18=""),"",IFERROR(SUMIFS('Cost Tracker'!$M$6:$M$105,'Cost Tracker'!$B$6:$B$105,$B18,'Cost Tracker'!$C$6:$C$105,$C18),0)) | H18: =IF(OR($A18="",$B18="",$C18=""),"",IFERROR(SUMIFS('Cost Tracker'!$N$6:$N$105,'Cost Tracker'!$B$6:$B$105,$B18,'Cost Tracker'!$C$6:$C$105,$C18),0)) | I18: =IF(OR($G18="",$H18=""),"",MAX(0,$G18-$H18)) | J18: =IF(OR($D18="",$G18=""),"",$D18-$G18) | K18: =IF(OR($D18="",$D18=0,$G18=""),"",IFERROR($G18/$D18,"")) | L18: =IF(COUNTA($A18:$F18)=0,"",IF($A18="","Missing budget ID",IF(COUNTIF($A$6:$A$105,$A18)>1,"Duplicate ID",IF(OR($B18="",$C18="",$D18="",$E18=""),"Review setup",IF(COUNTIFS($B$6:$B$105,$B18,$C$6:$C$105,$C18)>1,"Duplicate budget line",IF($D18=0,"Review zero budget",IF($J18<0,"Over budget",IF($K18>=Assumptions!$I$4,"Near budget","Within budget"))))))))
G19: =IF(OR($A19="",$B19="",$C19=""),"",IFERROR(SUMIFS('Cost Tracker'!$M$6:$M$105,'Cost Tracker'!$B$6:$B$105,$B19,'Cost Tracker'!$C$6:$C$105,$C19),0)) | H19: =IF(OR($A19="",$B19="",$C19=""),"",IFERROR(SUMIFS('Cost Tracker'!$N$6:$N$105,'Cost Tracker'!$B$6:$B$105,$B19,'Cost Tracker'!$C$6:$C$105,$C19),0)) | I19: =IF(OR($G19="",$H19=""),"",MAX(0,$G19-$H19)) | J19: =IF(OR($D19="",$G19=""),"",$D19-$G19) | K19: =IF(OR($D19="",$D19=0,$G19=""),"",IFERROR($G19/$D19,"")) | L19: =IF(COUNTA($A19:$F19)=0,"",IF($A19="","Missing budget ID",IF(COUNTIF($A$6:$A$105,$A19)>1,"Duplicate ID",IF(OR($B19="",$C19="",$D19="",$E19=""),"Review setup",IF(COUNTIFS($B$6:$B$105,$B19,$C$6:$C$105,$C19)>1,"Duplicate budget line",IF($D19=0,"Review zero budget",IF($J19<0,"Over budget",IF($K19>=Assumptions!$I$4,"Near budget","Within budget"))))))))
G20: =IF(OR($A20="",$B20="",$C20=""),"",IFERROR(SUMIFS('Cost Tracker'!$M$6:$M$105,'Cost Tracker'!$B$6:$B$105,$B20,'Cost Tracker'!$C$6:$C$105,$C20),0)) | H20: =IF(OR($A20="",$B20="",$C20=""),"",IFERROR(SUMIFS('Cost Tracker'!$N$6:$N$105,'Cost Tracker'!$B$6:$B$105,$B20,'Cost Tracker'!$C$6:$C$105,$C20),0)) | I20: =IF(OR($G20="",$H20=""),"",MAX(0,$G20-$H20)) | J20: =IF(OR($D20="",$G20=""),"",$D20-$G20) | K20: =IF(OR($D20="",$D20=0,$G20=""),"",IFERROR($G20/$D20,"")) | L20: =IF(COUNTA($A20:$F20)=0,"",IF($A20="","Missing budget ID",IF(COUNTIF($A$6:$A$105,$A20)>1,"Duplicate ID",IF(OR($B20="",$C20="",$D20="",$E20=""),"Review setup",IF(COUNTIFS($B$6:$B$105,$B20,$C$6:$C$105,$C20)>1,"Duplicate budget line",IF($D20=0,"Review zero budget",IF($J20<0,"Over budget",IF($K20>=Assumptions!$I$4,"Near budget","Within budget"))))))))
G21: =IF(OR($A21="",$B21="",$C21=""),"",IFERROR(SUMIFS('Cost Tracker'!$M$6:$M$105,'Cost Tracker'!$B$6:$B$105,$B21,'Cost Tracker'!$C$6:$C$105,$C21),0)) | H21: =IF(OR($A21="",$B21="",$C21=""),"",IFERROR(SUMIFS('Cost Tracker'!$N$6:$N$105,'Cost Tracker'!$B$6:$B$105,$B21,'Cost Tracker'!$C$6:$C$105,$C21),0)) | I21: =IF(OR($G21="",$H21=""),"",MAX(0,$G21-$H21)) | J21: =IF(OR($D21="",$G21=""),"",$D21-$G21) | K21: =IF(OR($D21="",$D21=0,$G21=""),"",IFERROR($G21/$D21,"")) | L21: =IF(COUNTA($A21:$F21)=0,"",IF($A21="","Missing budget ID",IF(COUNTIF($A$6:$A$105,$A21)>1,"Duplicate ID",IF(OR($B21="",$C21="",$D21="",$E21=""),"Review setup",IF(COUNTIFS($B$6:$B$105,$B21,$C$6:$C$105,$C21)>1,"Duplicate budget line",IF($D21=0,"Review zero budget",IF($J21<0,"Over budget",IF($K21>=Assumptions!$I$4,"Near budget","Within budget"))))))))
G22: =IF(OR($A22="",$B22="",$C22=""),"",IFERROR(SUMIFS('Cost Tracker'!$M$6:$M$105,'Cost Tracker'!$B$6:$B$105,$B22,'Cost Tracker'!$C$6:$C$105,$C22),0)) | H22: =IF(OR($A22="",$B22="",$C22=""),"",IFERROR(SUMIFS('Cost Tracker'!$N$6:$N$105,'Cost Tracker'!$B$6:$B$105,$B22,'Cost Tracker'!$C$6:$C$105,$C22),0)) | I22: =IF(OR($G22="",$H22=""),"",MAX(0,$G22-$H22)) | J22: =IF(OR($D22="",$G22=""),"",$D22-$G22) | K22: =IF(OR($D22="",$D22=0,$G22=""),"",IFERROR($G22/$D22,"")) | L22: =IF(COUNTA($A22:$F22)=0,"",IF($A22="","Missing budget ID",IF(COUNTIF($A$6:$A$105,$A22)>1,"Duplicate ID",IF(OR($B22="",$C22="",$D22="",$E22=""),"Review setup",IF(COUNTIFS($B$6:$B$105,$B22,$C$6:$C$105,$C22)>1,"Duplicate budget line",IF($D22=0,"Review zero budget",IF($J22<0,"Over budget",IF($K22>=Assumptions!$I$4,"Near budget","Within budget"))))))))
G23: =IF(OR($A23="",$B23="",$C23=""),"",IFERROR(SUMIFS('Cost Tracker'!$M$6:$M$105,'Cost Tracker'!$B$6:$B$105,$B23,'Cost Tracker'!$C$6:$C$105,$C23),0)) | H23: =IF(OR($A23="",$B23="",$C23=""),"",IFERROR(SUMIFS('Cost Tracker'!$N$6:$N$105,'Cost Tracker'!$B$6:$B$105,$B23,'Cost Tracker'!$C$6:$C$105,$C23),0)) | I23: =IF(OR($G23="",$H23=""),"",MAX(0,$G23-$H23)) | J23: =IF(OR($D23="",$G23=""),"",$D23-$G23) | K23: =IF(OR($D23="",$D23=0,$G23=""),"",IFERROR($G23/$D23,"")) | L23: =IF(COUNTA($A23:$F23)=0,"",IF($A23="","Missing budget ID",IF(COUNTIF($A$6:$A$105,$A23)>1,"Duplicate ID",IF(OR($B23="",$C23="",$D23="",$E23=""),"Review setup",IF(COUNTIFS($B$6:$B$105,$B23,$C$6:$C$105,$C23)>1,"Duplicate budget line",IF($D23=0,"Review zero budget",IF($J23<0,"Over budget",IF($K23>=Assumptions!$I$4,"Near budget","Within budget"))))))))
G24: =IF(OR($A24="",$B24="",$C24=""),"",IFERROR(SUMIFS('Cost Tracker'!$M$6:$M$105,'Cost Tracker'!$B$6:$B$105,$B24,'Cost Tracker'!$C$6:$C$105,$C24),0)) | H24: =IF(OR($A24="",$B24="",$C24=""),"",IFERROR(SUMIFS('Cost Tracker'!$N$6:$N$105,'Cost Tracker'!$B$6:$B$105,$B24,'Cost Tracker'!$C$6:$C$105,$C24),0)) | I24: =IF(OR($G24="",$H24=""),"",MAX(0,$G24-$H24)) | J24: =IF(OR($D24="",$G24=""),"",$D24-$G24) | K24: =IF(OR($D24="",$D24=0,$G24=""),"",IFERROR($G24/$D24,"")) | L24: =IF(COUNTA($A24:$F24)=0,"",IF($A24="","Missing budget ID",IF(COUNTIF($A$6:$A$105,$A24)>1,"Duplicate ID",IF(OR($B24="",$C24="",$D24="",$E24=""),"Review setup",IF(COUNTIFS($B$6:$B$105,$B24,$C$6:$C$105,$C24)>1,"Duplicate budget line",IF($D24=0,"Review zero budget",IF($J24<0,"Over budget",IF($K24>=Assumptions!$I$4,"Near budget","Within budget"))))))))
G25: =IF(OR($A25="",$B25="",$C25=""),"",IFERROR(SUMIFS('Cost Tracker'!$M$6:$M$105,'Cost Tracker'!$B$6:$B$105,$B25,'Cost Tracker'!$C$6:$C$105,$C25),0)) | H25: =IF(OR($A25="",$B25="",$C25=""),"",IFERROR(SUMIFS('Cost Tracker'!$N$6:$N$105,'Cost Tracker'!$B$6:$B$105,$B25,'Cost Tracker'!$C$6:$C$105,$C25),0)) | I25: =IF(OR($G25="",$H25=""),"",MAX(0,$G25-$H25)) | J25: =IF(OR($D25="",$G25=""),"",$D25-$G25) | K25: =IF(OR($D25="",$D25=0,$G25=""),"",IFERROR($G25/$D25,"")) | L25: =IF(COUNTA($A25:$F25)=0,"",IF($A25="","Missing budget ID",IF(COUNTIF($A$6:$A$105,$A25)>1,"Duplicate ID",IF(OR($B25="",$C25="",$D25="",$E25=""),"Review setup",IF(COUNTIFS($B$6:$B$105,$B25,$C$6:$C$105,$C25)>1,"Duplicate budget line",IF($D25=0,"Review zero budget",IF($J25<0,"Over budget",IF($K25>=Assumptions!$I$4,"Near budget","Within budget"))))))))
G26: =IF(OR($A26="",$B26="",$C26=""),"",IFERROR(SUMIFS('Cost Tracker'!$M$6:$M$105,'Cost Tracker'!$B$6:$B$105,$B26,'Cost Tracker'!$C$6:$C$105,$C26),0)) | H26: =IF(OR($A26="",$B26="",$C26=""),"",IFERROR(SUMIFS('Cost Tracker'!$N$6:$N$105,'Cost Tracker'!$B$6:$B$105,$B26,'Cost Tracker'!$C$6:$C$105,$C26),0)) | I26: =IF(OR($G26="",$H26=""),"",MAX(0,$G26-$H26)) | J26: =IF(OR($D26="",$G26=""),"",$D26-$G26) | K26: =IF(OR($D26="",$D26=0,$G26=""),"",IFERROR($G26/$D26,"")) | L26: =IF(COUNTA($A26:$F26)=0,"",IF($A26="","Missing budget ID",IF(COUNTIF($A$6:$A$105,$A26)>1,"Duplicate ID",IF(OR($B26="",$C26="",$D26="",$E26=""),"Review setup",IF(COUNTIFS($B$6:$B$105,$B26,$C$6:$C$105,$C26)>1,"Duplicate budget line",IF($D26=0,"Review zero budget",IF($J26<0,"Over budget",IF($K26>=Assumptions!$I$4,"Near budget","Within budget"))))))))
G27: =IF(OR($A27="",$B27="",$C27=""),"",IFERROR(SUMIFS('Cost Tracker'!$M$6:$M$105,'Cost Tracker'!$B$6:$B$105,$B27,'Cost Tracker'!$C$6:$C$105,$C27),0)) | H27: =IF(OR($A27="",$B27="",$C27=""),"",IFERROR(SUMIFS('Cost Tracker'!$N$6:$N$105,'Cost Tracker'!$B$6:$B$105,$B27,'Cost Tracker'!$C$6:$C$105,$C27),0)) | I27: =IF(OR($G27="",$H27=""),"",MAX(0,$G27-$H27)) | J27: =IF(OR($D27="",$G27=""),"",$D27-$G27) | K27: =IF(OR($D27="",$D27=0,$G27=""),"",IFERROR($G27/$D27,"")) | L27: =IF(COUNTA($A27:$F27)=0,"",IF($A27="","Missing budget ID",IF(COUNTIF($A$6:$A$105,$A27)>1,"Duplicate ID",IF(OR($B27="",$C27="",$D27="",$E27=""),"Review setup",IF(COUNTIFS($B$6:$B$105,$B27,$C$6:$C$105,$C27)>1,"Duplicate budget line",IF($D27=0,"Review zero budget",IF($J27<0,"Over budget",IF($K27>=Assumptions!$I$4,"Near budget","Within budget"))))))))
... G105: =IF(OR($A105="",$B105="",$C105=""),"",IFERROR(SUMIFS('Cost Tracker'!$M$6:$M$105,'Cost Tracker'!$B$6:$B$105,$B105,'Cost Tracker'!$C$6:$C$105,$C105),0)) | H105: =IF(OR($A105="",$B105="",$C105=""),"",IFERROR(SUMIFS('Cost Tracker'!$N$6:$N$105,'Cost Tracker'!$B$6:$B$105,$B105,'Cost Tracker'!$C$6:$C$105,$C105),0)) | I105: =IF(OR($G105="",$H105=""),"",MAX(0,$G105-$H105)) | J105: =IF(OR($D105="",$G105=""),"",$D105-$G105) | K105: =IF(OR($D105="",$D105=0,$G105=""),"",IFERROR($G105/$D105,"")) | L105: =IF(COUNTA($A105:$F105)=0,"",IF($A105="","Missing budget ID",IF(COUNTIF($A$6:$A$105,$A105)>1,"Duplicate ID",IF(OR($B105="",$C105="",$D105="",$E105=""),"Review setup",IF(COUNTIFS($B$6:$B$105,$B105,$C$6:$C$105,$C105)>1,"Duplicate budget line",IF($D105=0,"Review zero budget",IF($J105<0,"Over budget",IF($K105>=Assumptions!$I$4,"Near budget","Within budget"))))))))

Sheet Assumptions
A1: Construction Cost Tracker Assumptions
A2: Edit the yellow option lists and control values before using the working sheets.
A3: Facility Options | B3: Budget Line Options | C3: Contractor Options | D3: Cost Type Options | E3: Status Options | F3: Owner Options | H3: Control | I3: Editable Value | J3: Purpose
A4: Fictional Cedar Ridge Storage | B4: Site Work | C4: Fictional Granite Path Civil LLC | D4: Original Commitment | E4: Draft | F4: Fictional Employee Avery Brooks | H4: Budget review threshold | I4: 0.9 | J4: Marks a budget line Near budget at or above this committed percentage.
A5: Fictional Bluebird Avenue Storage | B5: Foundations | C5: Fictional Bright Beam Concrete Co. | D5: Change Order | E5: Approved | F5: Fictional Employee Morgan Reed | H5: Earliest entry date | I5: 44197 | J5: Lower date limit for periods and due dates.
A6: Fictional Summit Box Storage | B6: Structural Steel | C6: Fictional Highline Frame Works | D6: Payment | E6: Submitted | F6: Fictional Employee Jordan Lee | H6: Latest entry date | I6: 50040 | J6: Upper date limit for periods and due dates.
B7: Building Envelope | C7: Fictional Harbor Shield Exteriors | E7: Paid | F7: Fictional Employee Casey North | H7: Maximum single amount | I7: 100000000 | J7: Upper amount limit for one budget or cost entry.
B8: Electrical | C8: Fictional Copper Trail Electric | E8: On Hold
B9: Climate Systems | C9: Fictional CoolCurrent Mechanical | E9: Void
B10: Security and Access | C10: Fictional SafeLane Systems
B11: General Conditions | C11: Fictional Fieldstone Builders
