Workbook

Sheet Summary
A1: Accounts Payable Summary
A2: Calculated from the Bills sheet. All sample records are fictional, and review flags require human follow-up.
A4: As of | B4: =TODAY() | D4: Bills Recorded | E4: =IFERROR(COUNTIF(Bills!$A$4:$A$203,"?*"),0) | G4: Total Bill Amount | H4: =IFERROR(SUM(Bills!$G$4:$G$203),0)
A6: Open Payable | B6: =IFERROR(SUMIFS(Bills!$G$4:$G$203,Bills!$A$4:$A$203,"?*",Bills!$J$4:$J$203,"<>Paid",Bills!$J$4:$J$203,"<>Void"),0) | D6: Past Due Amount | E6: =IFERROR(SUMIFS(Bills!$G$4:$G$203,Bills!$K$4:$K$203,">=1",Bills!$K$4:$K$203,"<"&TODAY(),Bills!$J$4:$J$203,"<>Paid",Bills!$J$4:$J$203,"<>Void"),0) | G6: Due Within Review Window | H6: =IFERROR(SUMIFS(Bills!$G$4:$G$203,Bills!$K$4:$K$203,">="&TODAY(),Bills!$K$4:$K$203,"<="&TODAY()+IF(Assumptions!$J$4="",7,Assumptions!$J$4),Bills!$J$4:$J$203,"<>Paid",Bills!$J$4:$J$203,"<>Void"),0)
A8: Pending Approval Bills | B8: =IFERROR(COUNTIF(Bills!$I$4:$I$203,"Pending Review"),0) | D8: Paid This Month | E8: =IFERROR(SUMIFS(Bills!$G$4:$G$203,Bills!$J$4:$J$203,"Paid",Bills!$L$4:$L$203,">="&DATE(YEAR(TODAY()),MONTH(TODAY()),1),Bills!$L$4:$L$203,"<="&TODAY()),0) | G8: Review Flags | H8: =IFERROR(COUNTIF(Bills!$O$4:$O$203,"?*"),0)
A11: Facility | B11: Bill Count | C11: Total Amount | D11: Open Amount | E11: Past Due Amount
A12: =IF(Assumptions!A4="","",Assumptions!A4) | B12: =IF($A12="","",IFERROR(COUNTIF(Bills!$B$4:$B$203,$A12),0)) | C12: =IF($A12="","",IFERROR(SUMIF(Bills!$B$4:$B$203,$A12,Bills!$G$4:$G$203),0)) | D12: =IF($A12="","",IFERROR(SUMIFS(Bills!$G$4:$G$203,Bills!$B$4:$B$203,$A12,Bills!$J$4:$J$203,"<>Paid",Bills!$J$4:$J$203,"<>Void"),0)) | E12: =IF($A12="","",IFERROR(SUMIFS(Bills!$G$4:$G$203,Bills!$B$4:$B$203,$A12,Bills!$K$4:$K$203,">=1",Bills!$K$4:$K$203,"<"&TODAY(),Bills!$J$4:$J$203,"<>Paid",Bills!$J$4:$J$203,"<>Void"),0))
A13: =IF(Assumptions!A5="","",Assumptions!A5) | B13: =IF($A13="","",IFERROR(COUNTIF(Bills!$B$4:$B$203,$A13),0)) | C13: =IF($A13="","",IFERROR(SUMIF(Bills!$B$4:$B$203,$A13,Bills!$G$4:$G$203),0)) | D13: =IF($A13="","",IFERROR(SUMIFS(Bills!$G$4:$G$203,Bills!$B$4:$B$203,$A13,Bills!$J$4:$J$203,"<>Paid",Bills!$J$4:$J$203,"<>Void"),0)) | E13: =IF($A13="","",IFERROR(SUMIFS(Bills!$G$4:$G$203,Bills!$B$4:$B$203,$A13,Bills!$K$4:$K$203,">=1",Bills!$K$4:$K$203,"<"&TODAY(),Bills!$J$4:$J$203,"<>Paid",Bills!$J$4:$J$203,"<>Void"),0))
A14: =IF(Assumptions!A6="","",Assumptions!A6) | B14: =IF($A14="","",IFERROR(COUNTIF(Bills!$B$4:$B$203,$A14),0)) | C14: =IF($A14="","",IFERROR(SUMIF(Bills!$B$4:$B$203,$A14,Bills!$G$4:$G$203),0)) | D14: =IF($A14="","",IFERROR(SUMIFS(Bills!$G$4:$G$203,Bills!$B$4:$B$203,$A14,Bills!$J$4:$J$203,"<>Paid",Bills!$J$4:$J$203,"<>Void"),0)) | E14: =IF($A14="","",IFERROR(SUMIFS(Bills!$G$4:$G$203,Bills!$B$4:$B$203,$A14,Bills!$K$4:$K$203,">=1",Bills!$K$4:$K$203,"<"&TODAY(),Bills!$J$4:$J$203,"<>Paid",Bills!$J$4:$J$203,"<>Void"),0))
A15: =IF(Assumptions!A7="","",Assumptions!A7) | B15: =IF($A15="","",IFERROR(COUNTIF(Bills!$B$4:$B$203,$A15),0)) | C15: =IF($A15="","",IFERROR(SUMIF(Bills!$B$4:$B$203,$A15,Bills!$G$4:$G$203),0)) | D15: =IF($A15="","",IFERROR(SUMIFS(Bills!$G$4:$G$203,Bills!$B$4:$B$203,$A15,Bills!$J$4:$J$203,"<>Paid",Bills!$J$4:$J$203,"<>Void"),0)) | E15: =IF($A15="","",IFERROR(SUMIFS(Bills!$G$4:$G$203,Bills!$B$4:$B$203,$A15,Bills!$K$4:$K$203,">=1",Bills!$K$4:$K$203,"<"&TODAY(),Bills!$J$4:$J$203,"<>Paid",Bills!$J$4:$J$203,"<>Void"),0))
A19: Payment Status | B19: Bill Count | C19: Amount | D19: Approval Status | E19: Bill Count | F19: Amount
A20: =IF(Assumptions!G4="","",Assumptions!G4) | B20: =IF($A20="","",IFERROR(COUNTIF(Bills!$J$4:$J$203,$A20),0)) | C20: =IF($A20="","",IFERROR(SUMIF(Bills!$J$4:$J$203,$A20,Bills!$G$4:$G$203),0)) | D20: =IF(Assumptions!E4="","",Assumptions!E4) | E20: =IF($D20="","",IFERROR(COUNTIF(Bills!$I$4:$I$203,$D20),0)) | F20: =IF($D20="","",IFERROR(SUMIF(Bills!$I$4:$I$203,$D20,Bills!$G$4:$G$203),0))
A21: =IF(Assumptions!G5="","",Assumptions!G5) | B21: =IF($A21="","",IFERROR(COUNTIF(Bills!$J$4:$J$203,$A21),0)) | C21: =IF($A21="","",IFERROR(SUMIF(Bills!$J$4:$J$203,$A21,Bills!$G$4:$G$203),0)) | D21: =IF(Assumptions!E5="","",Assumptions!E5) | E21: =IF($D21="","",IFERROR(COUNTIF(Bills!$I$4:$I$203,$D21),0)) | F21: =IF($D21="","",IFERROR(SUMIF(Bills!$I$4:$I$203,$D21,Bills!$G$4:$G$203),0))
A22: =IF(Assumptions!G6="","",Assumptions!G6) | B22: =IF($A22="","",IFERROR(COUNTIF(Bills!$J$4:$J$203,$A22),0)) | C22: =IF($A22="","",IFERROR(SUMIF(Bills!$J$4:$J$203,$A22,Bills!$G$4:$G$203),0)) | D22: =IF(Assumptions!E6="","",Assumptions!E6) | E22: =IF($D22="","",IFERROR(COUNTIF(Bills!$I$4:$I$203,$D22),0)) | F22: =IF($D22="","",IFERROR(SUMIF(Bills!$I$4:$I$203,$D22,Bills!$G$4:$G$203),0))
A23: =IF(Assumptions!G7="","",Assumptions!G7) | B23: =IF($A23="","",IFERROR(COUNTIF(Bills!$J$4:$J$203,$A23),0)) | C23: =IF($A23="","",IFERROR(SUMIF(Bills!$J$4:$J$203,$A23,Bills!$G$4:$G$203),0))
A24: =IF(Assumptions!G8="","",Assumptions!G8) | B24: =IF($A24="","",IFERROR(COUNTIF(Bills!$J$4:$J$203,$A24),0)) | C24: =IF($A24="","",IFERROR(SUMIF(Bills!$J$4:$J$203,$A24,Bills!$G$4:$G$203),0))

Sheet Bills
A1: Self Storage Accounts Payable Tracker
A2: Enter vendor bills in yellow cells. Formula columns calculate timing and human-review prompts; this workbook does not issue payments or notices.
A3: Bill ID | B3: Facility | C3: Unit / Area | D3: Vendor | E3: Period End | F3: Invoice Reference | G3: Amount | H3: Approval Owner | I3: Approval Status | J3: Payment Status | K3: Due Date | L3: Paid Date | M3: Notes | N3: Days to Due | O3: Review Flag
A4: AP-EX-26001 | B4: Cedar Harbor Storage (Fictional) | C4: All Units | D4: Example Electric Company (Fictional) | E4: 46265 | F4: EX-EL-2608 | G4: 1840.75 | H4: Jordan Example (Fictional) | I4: Approved | J4: Unpaid | K4: 46272 | M4: Common-area electric service for a fictional facility. | N4: =IF($A4="","",IF(OR($J4="Paid",$J4="Void"),"",IF($K4="","",$K4-TODAY()))) | O4: =IF($A4="","",IF(OR($B4="",$D4="",$E4="",$F4="",$G4="",$H4="",$I4="",$J4="",$K4=""),"Review missing required field",IF(COUNTIF($A$4:$A$203,$A4)>1,"Review duplicate bill ID",IF(COUNTIFS($D$4:$D$203,$D4,$F$4:$F$203,$F4)>1,"Review possible duplicate invoice",IF(AND($J4="Paid",$L4=""),"Review missing paid date",IF(AND($J4<>"Paid",$L4<>""),"Review payment status",IF(AND($J4="Paid",$I4<>"Approved"),"Review paid approval status",IF(AND($J4="Scheduled",$I4<>"Approved"),"Review approval before scheduling",IF(AND($I4="Rejected",$J4<>"Void"),"Review rejected bill status",IF(AND($J4<>"Paid",$J4<>"Void",$K4<TODAY()),"Past due",IF(AND($J4<>"Paid",$J4<>"Void",$K4<=TODAY()+IF(Assumptions!$J$4="",7,Assumptions!$J$4)),"Due within review window",IF(AND(Assumptions!$J$5<>"",$G4>Assumptions!$J$5),"Review amount above threshold",IF($I4="Pending Review","Approval pending",""))))))))))))) | Q4: =Assumptions!A4 | R4: =Assumptions!C4 | S4: =Assumptions!E4 | T4: =Assumptions!G4 | U4: =Assumptions!J6
A5: AP-EX-26002 | B5: Mesa Lantern Storage (Fictional) | C5: Office | D5: Sample Waste Services (Fictional) | E5: 46265 | F5: SW-268891 | G5: 425 | H5: Casey Sample (Fictional) | I5: Approved | J5: Scheduled | K5: 46280 | M5: Routine waste pickup; scheduled status requires human follow-up. | N5: =IF($A5="","",IF(OR($J5="Paid",$J5="Void"),"",IF($K5="","",$K5-TODAY()))) | O5: =IF($A5="","",IF(OR($B5="",$D5="",$E5="",$F5="",$G5="",$H5="",$I5="",$J5="",$K5=""),"Review missing required field",IF(COUNTIF($A$4:$A$203,$A5)>1,"Review duplicate bill ID",IF(COUNTIFS($D$4:$D$203,$D5,$F$4:$F$203,$F5)>1,"Review possible duplicate invoice",IF(AND($J5="Paid",$L5=""),"Review missing paid date",IF(AND($J5<>"Paid",$L5<>""),"Review payment status",IF(AND($J5="Paid",$I5<>"Approved"),"Review paid approval status",IF(AND($J5="Scheduled",$I5<>"Approved"),"Review approval before scheduling",IF(AND($I5="Rejected",$J5<>"Void"),"Review rejected bill status",IF(AND($J5<>"Paid",$J5<>"Void",$K5<TODAY()),"Past due",IF(AND($J5<>"Paid",$J5<>"Void",$K5<=TODAY()+IF(Assumptions!$J$4="",7,Assumptions!$J$4)),"Due within review window",IF(AND(Assumptions!$J$5<>"",$G5>Assumptions!$J$5),"Review amount above threshold",IF($I5="Pending Review","Approval pending",""))))))))))))) | Q5: =Assumptions!A5 | R5: =Assumptions!C5 | S5: =Assumptions!E5 | T5: =Assumptions!G5 | U5: =Assumptions!J7
A6: AP-EX-26003 | B6: Pine Kite Storage (Fictional) | C6: Building A | D6: Fictional Lift Care | E6: 46265 | F6: FLC-261042 | G6: 3200 | H6: Morgan Demo (Fictional) | I6: Pending Review | J6: On Hold | K6: 46289 | M6: Fictional quarterly equipment service bill. | N6: =IF($A6="","",IF(OR($J6="Paid",$J6="Void"),"",IF($K6="","",$K6-TODAY()))) | O6: =IF($A6="","",IF(OR($B6="",$D6="",$E6="",$F6="",$G6="",$H6="",$I6="",$J6="",$K6=""),"Review missing required field",IF(COUNTIF($A$4:$A$203,$A6)>1,"Review duplicate bill ID",IF(COUNTIFS($D$4:$D$203,$D6,$F$4:$F$203,$F6)>1,"Review possible duplicate invoice",IF(AND($J6="Paid",$L6=""),"Review missing paid date",IF(AND($J6<>"Paid",$L6<>""),"Review payment status",IF(AND($J6="Paid",$I6<>"Approved"),"Review paid approval status",IF(AND($J6="Scheduled",$I6<>"Approved"),"Review approval before scheduling",IF(AND($I6="Rejected",$J6<>"Void"),"Review rejected bill status",IF(AND($J6<>"Paid",$J6<>"Void",$K6<TODAY()),"Past due",IF(AND($J6<>"Paid",$J6<>"Void",$K6<=TODAY()+IF(Assumptions!$J$4="",7,Assumptions!$J$4)),"Due within review window",IF(AND(Assumptions!$J$5<>"",$G6>Assumptions!$J$5),"Review amount above threshold",IF($I6="Pending Review","Approval pending",""))))))))))))) | Q6: =Assumptions!A6 | R6: =Assumptions!C6 | S6: =Assumptions!E6 | T6: =Assumptions!G6 | U6: =Assumptions!J8
A7: AP-EX-26004 | B7: Bluebird Lockup (Fictional) | C7: Exterior | D7: Demo Security Lighting | E7: 46265 | F7: DSL-26778 | G7: 1275.6 | H7: Riley Placeholder (Fictional) | I7: Approved | J7: Paid | K7: 46267 | L7: 46269 | M7: Replacement lighting for a fictional exterior area. | N7: =IF($A7="","",IF(OR($J7="Paid",$J7="Void"),"",IF($K7="","",$K7-TODAY()))) | O7: =IF($A7="","",IF(OR($B7="",$D7="",$E7="",$F7="",$G7="",$H7="",$I7="",$J7="",$K7=""),"Review missing required field",IF(COUNTIF($A$4:$A$203,$A7)>1,"Review duplicate bill ID",IF(COUNTIFS($D$4:$D$203,$D7,$F$4:$F$203,$F7)>1,"Review possible duplicate invoice",IF(AND($J7="Paid",$L7=""),"Review missing paid date",IF(AND($J7<>"Paid",$L7<>""),"Review payment status",IF(AND($J7="Paid",$I7<>"Approved"),"Review paid approval status",IF(AND($J7="Scheduled",$I7<>"Approved"),"Review approval before scheduling",IF(AND($I7="Rejected",$J7<>"Void"),"Review rejected bill status",IF(AND($J7<>"Paid",$J7<>"Void",$K7<TODAY()),"Past due",IF(AND($J7<>"Paid",$J7<>"Void",$K7<=TODAY()+IF(Assumptions!$J$4="",7,Assumptions!$J$4)),"Due within review window",IF(AND(Assumptions!$J$5<>"",$G7>Assumptions!$J$5),"Review amount above threshold",IF($I7="Pending Review","Approval pending",""))))))))))))) | Q7: =Assumptions!A7 | R7: =Assumptions!C7 | S7: ="" | T7: =Assumptions!G7 | U7: =""
A8: AP-EX-26005 | B8: Cedar Harbor Storage (Fictional) | C8: Unit A-101 (Example) | D8: Make-Believe Door Repair | E8: 46277 | F8: MBDR-26510 | G8: 685.25 | H8: Jordan Example (Fictional) | I8: Pending Review | J8: Unpaid | K8: 46284 | M8: Example unit-door repair awaiting human approval. | N8: =IF($A8="","",IF(OR($J8="Paid",$J8="Void"),"",IF($K8="","",$K8-TODAY()))) | O8: =IF($A8="","",IF(OR($B8="",$D8="",$E8="",$F8="",$G8="",$H8="",$I8="",$J8="",$K8=""),"Review missing required field",IF(COUNTIF($A$4:$A$203,$A8)>1,"Review duplicate bill ID",IF(COUNTIFS($D$4:$D$203,$D8,$F$4:$F$203,$F8)>1,"Review possible duplicate invoice",IF(AND($J8="Paid",$L8=""),"Review missing paid date",IF(AND($J8<>"Paid",$L8<>""),"Review payment status",IF(AND($J8="Paid",$I8<>"Approved"),"Review paid approval status",IF(AND($J8="Scheduled",$I8<>"Approved"),"Review approval before scheduling",IF(AND($I8="Rejected",$J8<>"Void"),"Review rejected bill status",IF(AND($J8<>"Paid",$J8<>"Void",$K8<TODAY()),"Past due",IF(AND($J8<>"Paid",$J8<>"Void",$K8<=TODAY()+IF(Assumptions!$J$4="",7,Assumptions!$J$4)),"Due within review window",IF(AND(Assumptions!$J$5<>"",$G8>Assumptions!$J$5),"Review amount above threshold",IF($I8="Pending Review","Approval pending",""))))))))))))) | Q8: ="" | R8: ="" | S8: ="" | T8: =Assumptions!G8 | U8: =""
A9: AP-EX-26006 | B9: Mesa Lantern Storage (Fictional) | C9: All Units | D9: Fictional Coverage Services | E9: 46277 | F9: FCS-26220 | G9: 5000 | H9: Casey Sample (Fictional) | I9: Approved | J9: Scheduled | K9: 46297 | M9: Fictional facility-wide service bill at the review threshold. | N9: =IF($A9="","",IF(OR($J9="Paid",$J9="Void"),"",IF($K9="","",$K9-TODAY()))) | O9: =IF($A9="","",IF(OR($B9="",$D9="",$E9="",$F9="",$G9="",$H9="",$I9="",$J9="",$K9=""),"Review missing required field",IF(COUNTIF($A$4:$A$203,$A9)>1,"Review duplicate bill ID",IF(COUNTIFS($D$4:$D$203,$D9,$F$4:$F$203,$F9)>1,"Review possible duplicate invoice",IF(AND($J9="Paid",$L9=""),"Review missing paid date",IF(AND($J9<>"Paid",$L9<>""),"Review payment status",IF(AND($J9="Paid",$I9<>"Approved"),"Review paid approval status",IF(AND($J9="Scheduled",$I9<>"Approved"),"Review approval before scheduling",IF(AND($I9="Rejected",$J9<>"Void"),"Review rejected bill status",IF(AND($J9<>"Paid",$J9<>"Void",$K9<TODAY()),"Past due",IF(AND($J9<>"Paid",$J9<>"Void",$K9<=TODAY()+IF(Assumptions!$J$4="",7,Assumptions!$J$4)),"Due within review window",IF(AND(Assumptions!$J$5<>"",$G9>Assumptions!$J$5),"Review amount above threshold",IF($I9="Pending Review","Approval pending",""))))))))))))) | Q9: ="" | R9: ="" | S9: ="" | T9: ="" | U9: =""
A10: AP-EX-26007 | B10: Pine Kite Storage (Fictional) | C10: Office | D10: Demo Office Supply House | E10: 46277 | F10: DOSH-26146 | G10: 146.39 | H10: Morgan Demo (Fictional) | I10: Approved | J10: Paid | K10: 46277 | L10: 46277 | M10: Fictional office supplies paid after human review. | N10: =IF($A10="","",IF(OR($J10="Paid",$J10="Void"),"",IF($K10="","",$K10-TODAY()))) | O10: =IF($A10="","",IF(OR($B10="",$D10="",$E10="",$F10="",$G10="",$H10="",$I10="",$J10="",$K10=""),"Review missing required field",IF(COUNTIF($A$4:$A$203,$A10)>1,"Review duplicate bill ID",IF(COUNTIFS($D$4:$D$203,$D10,$F$4:$F$203,$F10)>1,"Review possible duplicate invoice",IF(AND($J10="Paid",$L10=""),"Review missing paid date",IF(AND($J10<>"Paid",$L10<>""),"Review payment status",IF(AND($J10="Paid",$I10<>"Approved"),"Review paid approval status",IF(AND($J10="Scheduled",$I10<>"Approved"),"Review approval before scheduling",IF(AND($I10="Rejected",$J10<>"Void"),"Review rejected bill status",IF(AND($J10<>"Paid",$J10<>"Void",$K10<TODAY()),"Past due",IF(AND($J10<>"Paid",$J10<>"Void",$K10<=TODAY()+IF(Assumptions!$J$4="",7,Assumptions!$J$4)),"Due within review window",IF(AND(Assumptions!$J$5<>"",$G10>Assumptions!$J$5),"Review amount above threshold",IF($I10="Pending Review","Approval pending",""))))))))))))) | Q10: ="" | R10: ="" | S10: ="" | T10: ="" | U10: =""
A11: AP-EX-26008 | B11: Bluebird Lockup (Fictional) | C11: Drive Aisle | D11: Imaginary Paving Works | E11: 46265 | F11: IPW-26815 | G11: 15800 | H11: Casey Sample (Fictional) | I11: Pending Review | J11: On Hold | K11: 46285 | M11: Large fictional repair bill; verify scope and allocation. | N11: =IF($A11="","",IF(OR($J11="Paid",$J11="Void"),"",IF($K11="","",$K11-TODAY()))) | O11: =IF($A11="","",IF(OR($B11="",$D11="",$E11="",$F11="",$G11="",$H11="",$I11="",$J11="",$K11=""),"Review missing required field",IF(COUNTIF($A$4:$A$203,$A11)>1,"Review duplicate bill ID",IF(COUNTIFS($D$4:$D$203,$D11,$F$4:$F$203,$F11)>1,"Review possible duplicate invoice",IF(AND($J11="Paid",$L11=""),"Review missing paid date",IF(AND($J11<>"Paid",$L11<>""),"Review payment status",IF(AND($J11="Paid",$I11<>"Approved"),"Review paid approval status",IF(AND($J11="Scheduled",$I11<>"Approved"),"Review approval before scheduling",IF(AND($I11="Rejected",$J11<>"Void"),"Review rejected bill status",IF(AND($J11<>"Paid",$J11<>"Void",$K11<TODAY()),"Past due",IF(AND($J11<>"Paid",$J11<>"Void",$K11<=TODAY()+IF(Assumptions!$J$4="",7,Assumptions!$J$4)),"Due within review window",IF(AND(Assumptions!$J$5<>"",$G11>Assumptions!$J$5),"Review amount above threshold",IF($I11="Pending Review","Approval pending",""))))))))))))) | Q11: ="" | R11: ="" | S11: ="" | T11: ="" | U11: =""
A12: AP-EX-26009 | B12: Cedar Harbor Storage (Fictional) | C12: Gate Area | D12: Sample Gate Parts Shop | E12: 46265 | F12: SGPS-26935 | G12: 935 | H12: Riley Placeholder (Fictional) | I12: Rejected | J12: Void | K12: 46275 | M12: Voided after human review; no payment action. | N12: =IF($A12="","",IF(OR($J12="Paid",$J12="Void"),"",IF($K12="","",$K12-TODAY()))) | O12: =IF($A12="","",IF(OR($B12="",$D12="",$E12="",$F12="",$G12="",$H12="",$I12="",$J12="",$K12=""),"Review missing required field",IF(COUNTIF($A$4:$A$203,$A12)>1,"Review duplicate bill ID",IF(COUNTIFS($D$4:$D$203,$D12,$F$4:$F$203,$F12)>1,"Review possible duplicate invoice",IF(AND($J12="Paid",$L12=""),"Review missing paid date",IF(AND($J12<>"Paid",$L12<>""),"Review payment status",IF(AND($J12="Paid",$I12<>"Approved"),"Review paid approval status",IF(AND($J12="Scheduled",$I12<>"Approved"),"Review approval before scheduling",IF(AND($I12="Rejected",$J12<>"Void"),"Review rejected bill status",IF(AND($J12<>"Paid",$J12<>"Void",$K12<TODAY()),"Past due",IF(AND($J12<>"Paid",$J12<>"Void",$K12<=TODAY()+IF(Assumptions!$J$4="",7,Assumptions!$J$4)),"Due within review window",IF(AND(Assumptions!$J$5<>"",$G12>Assumptions!$J$5),"Review amount above threshold",IF($I12="Pending Review","Approval pending",""))))))))))))) | Q12: ="" | R12: ="" | S12: ="" | T12: ="" | U12: =""
A13: AP-EX-26010 | B13: Mesa Lantern Storage (Fictional) | C13: Office | D13: Fictional Water Utility | E13: 46265 | F13: FWU-26612 | G13: 612.48 | H13: Jordan Example (Fictional) | I13: Approved | J13: Unpaid | K13: 46277 | M13: Fictional water service bill due today. | N13: =IF($A13="","",IF(OR($J13="Paid",$J13="Void"),"",IF($K13="","",$K13-TODAY()))) | O13: =IF($A13="","",IF(OR($B13="",$D13="",$E13="",$F13="",$G13="",$H13="",$I13="",$J13="",$K13=""),"Review missing required field",IF(COUNTIF($A$4:$A$203,$A13)>1,"Review duplicate bill ID",IF(COUNTIFS($D$4:$D$203,$D13,$F$4:$F$203,$F13)>1,"Review possible duplicate invoice",IF(AND($J13="Paid",$L13=""),"Review missing paid date",IF(AND($J13<>"Paid",$L13<>""),"Review payment status",IF(AND($J13="Paid",$I13<>"Approved"),"Review paid approval status",IF(AND($J13="Scheduled",$I13<>"Approved"),"Review approval before scheduling",IF(AND($I13="Rejected",$J13<>"Void"),"Review rejected bill status",IF(AND($J13<>"Paid",$J13<>"Void",$K13<TODAY()),"Past due",IF(AND($J13<>"Paid",$J13<>"Void",$K13<=TODAY()+IF(Assumptions!$J$4="",7,Assumptions!$J$4)),"Due within review window",IF(AND(Assumptions!$J$5<>"",$G13>Assumptions!$J$5),"Review amount above threshold",IF($I13="Pending Review","Approval pending",""))))))))))))) | Q13: ="" | R13: ="" | S13: ="" | T13: ="" | U13: =""
N14: =IF($A14="","",IF(OR($J14="Paid",$J14="Void"),"",IF($K14="","",$K14-TODAY()))) | O14: =IF($A14="","",IF(OR($B14="",$D14="",$E14="",$F14="",$G14="",$H14="",$I14="",$J14="",$K14=""),"Review missing required field",IF(COUNTIF($A$4:$A$203,$A14)>1,"Review duplicate bill ID",IF(COUNTIFS($D$4:$D$203,$D14,$F$4:$F$203,$F14)>1,"Review possible duplicate invoice",IF(AND($J14="Paid",$L14=""),"Review missing paid date",IF(AND($J14<>"Paid",$L14<>""),"Review payment status",IF(AND($J14="Paid",$I14<>"Approved"),"Review paid approval status",IF(AND($J14="Scheduled",$I14<>"Approved"),"Review approval before scheduling",IF(AND($I14="Rejected",$J14<>"Void"),"Review rejected bill status",IF(AND($J14<>"Paid",$J14<>"Void",$K14<TODAY()),"Past due",IF(AND($J14<>"Paid",$J14<>"Void",$K14<=TODAY()+IF(Assumptions!$J$4="",7,Assumptions!$J$4)),"Due within review window",IF(AND(Assumptions!$J$5<>"",$G14>Assumptions!$J$5),"Review amount above threshold",IF($I14="Pending Review","Approval pending",""))))))))))))) | Q14: ="" | R14: ="" | S14: ="" | T14: ="" | U14: =""
N15: =IF($A15="","",IF(OR($J15="Paid",$J15="Void"),"",IF($K15="","",$K15-TODAY()))) | O15: =IF($A15="","",IF(OR($B15="",$D15="",$E15="",$F15="",$G15="",$H15="",$I15="",$J15="",$K15=""),"Review missing required field",IF(COUNTIF($A$4:$A$203,$A15)>1,"Review duplicate bill ID",IF(COUNTIFS($D$4:$D$203,$D15,$F$4:$F$203,$F15)>1,"Review possible duplicate invoice",IF(AND($J15="Paid",$L15=""),"Review missing paid date",IF(AND($J15<>"Paid",$L15<>""),"Review payment status",IF(AND($J15="Paid",$I15<>"Approved"),"Review paid approval status",IF(AND($J15="Scheduled",$I15<>"Approved"),"Review approval before scheduling",IF(AND($I15="Rejected",$J15<>"Void"),"Review rejected bill status",IF(AND($J15<>"Paid",$J15<>"Void",$K15<TODAY()),"Past due",IF(AND($J15<>"Paid",$J15<>"Void",$K15<=TODAY()+IF(Assumptions!$J$4="",7,Assumptions!$J$4)),"Due within review window",IF(AND(Assumptions!$J$5<>"",$G15>Assumptions!$J$5),"Review amount above threshold",IF($I15="Pending Review","Approval pending",""))))))))))))) | Q15: ="" | R15: ="" | S15: ="" | T15: ="" | U15: =""
N16: =IF($A16="","",IF(OR($J16="Paid",$J16="Void"),"",IF($K16="","",$K16-TODAY()))) | O16: =IF($A16="","",IF(OR($B16="",$D16="",$E16="",$F16="",$G16="",$H16="",$I16="",$J16="",$K16=""),"Review missing required field",IF(COUNTIF($A$4:$A$203,$A16)>1,"Review duplicate bill ID",IF(COUNTIFS($D$4:$D$203,$D16,$F$4:$F$203,$F16)>1,"Review possible duplicate invoice",IF(AND($J16="Paid",$L16=""),"Review missing paid date",IF(AND($J16<>"Paid",$L16<>""),"Review payment status",IF(AND($J16="Paid",$I16<>"Approved"),"Review paid approval status",IF(AND($J16="Scheduled",$I16<>"Approved"),"Review approval before scheduling",IF(AND($I16="Rejected",$J16<>"Void"),"Review rejected bill status",IF(AND($J16<>"Paid",$J16<>"Void",$K16<TODAY()),"Past due",IF(AND($J16<>"Paid",$J16<>"Void",$K16<=TODAY()+IF(Assumptions!$J$4="",7,Assumptions!$J$4)),"Due within review window",IF(AND(Assumptions!$J$5<>"",$G16>Assumptions!$J$5),"Review amount above threshold",IF($I16="Pending Review","Approval pending",""))))))))))))) | Q16: ="" | R16: ="" | S16: ="" | T16: ="" | U16: =""
N17: =IF($A17="","",IF(OR($J17="Paid",$J17="Void"),"",IF($K17="","",$K17-TODAY()))) | O17: =IF($A17="","",IF(OR($B17="",$D17="",$E17="",$F17="",$G17="",$H17="",$I17="",$J17="",$K17=""),"Review missing required field",IF(COUNTIF($A$4:$A$203,$A17)>1,"Review duplicate bill ID",IF(COUNTIFS($D$4:$D$203,$D17,$F$4:$F$203,$F17)>1,"Review possible duplicate invoice",IF(AND($J17="Paid",$L17=""),"Review missing paid date",IF(AND($J17<>"Paid",$L17<>""),"Review payment status",IF(AND($J17="Paid",$I17<>"Approved"),"Review paid approval status",IF(AND($J17="Scheduled",$I17<>"Approved"),"Review approval before scheduling",IF(AND($I17="Rejected",$J17<>"Void"),"Review rejected bill status",IF(AND($J17<>"Paid",$J17<>"Void",$K17<TODAY()),"Past due",IF(AND($J17<>"Paid",$J17<>"Void",$K17<=TODAY()+IF(Assumptions!$J$4="",7,Assumptions!$J$4)),"Due within review window",IF(AND(Assumptions!$J$5<>"",$G17>Assumptions!$J$5),"Review amount above threshold",IF($I17="Pending Review","Approval pending",""))))))))))))) | Q17: ="" | R17: ="" | S17: ="" | T17: ="" | U17: =""
N18: =IF($A18="","",IF(OR($J18="Paid",$J18="Void"),"",IF($K18="","",$K18-TODAY()))) | O18: =IF($A18="","",IF(OR($B18="",$D18="",$E18="",$F18="",$G18="",$H18="",$I18="",$J18="",$K18=""),"Review missing required field",IF(COUNTIF($A$4:$A$203,$A18)>1,"Review duplicate bill ID",IF(COUNTIFS($D$4:$D$203,$D18,$F$4:$F$203,$F18)>1,"Review possible duplicate invoice",IF(AND($J18="Paid",$L18=""),"Review missing paid date",IF(AND($J18<>"Paid",$L18<>""),"Review payment status",IF(AND($J18="Paid",$I18<>"Approved"),"Review paid approval status",IF(AND($J18="Scheduled",$I18<>"Approved"),"Review approval before scheduling",IF(AND($I18="Rejected",$J18<>"Void"),"Review rejected bill status",IF(AND($J18<>"Paid",$J18<>"Void",$K18<TODAY()),"Past due",IF(AND($J18<>"Paid",$J18<>"Void",$K18<=TODAY()+IF(Assumptions!$J$4="",7,Assumptions!$J$4)),"Due within review window",IF(AND(Assumptions!$J$5<>"",$G18>Assumptions!$J$5),"Review amount above threshold",IF($I18="Pending Review","Approval pending",""))))))))))))) | Q18: ="" | R18: ="" | S18: ="" | T18: ="" | U18: =""
N19: =IF($A19="","",IF(OR($J19="Paid",$J19="Void"),"",IF($K19="","",$K19-TODAY()))) | O19: =IF($A19="","",IF(OR($B19="",$D19="",$E19="",$F19="",$G19="",$H19="",$I19="",$J19="",$K19=""),"Review missing required field",IF(COUNTIF($A$4:$A$203,$A19)>1,"Review duplicate bill ID",IF(COUNTIFS($D$4:$D$203,$D19,$F$4:$F$203,$F19)>1,"Review possible duplicate invoice",IF(AND($J19="Paid",$L19=""),"Review missing paid date",IF(AND($J19<>"Paid",$L19<>""),"Review payment status",IF(AND($J19="Paid",$I19<>"Approved"),"Review paid approval status",IF(AND($J19="Scheduled",$I19<>"Approved"),"Review approval before scheduling",IF(AND($I19="Rejected",$J19<>"Void"),"Review rejected bill status",IF(AND($J19<>"Paid",$J19<>"Void",$K19<TODAY()),"Past due",IF(AND($J19<>"Paid",$J19<>"Void",$K19<=TODAY()+IF(Assumptions!$J$4="",7,Assumptions!$J$4)),"Due within review window",IF(AND(Assumptions!$J$5<>"",$G19>Assumptions!$J$5),"Review amount above threshold",IF($I19="Pending Review","Approval pending",""))))))))))))) | Q19: ="" | R19: ="" | S19: ="" | T19: ="" | U19: =""
N20: =IF($A20="","",IF(OR($J20="Paid",$J20="Void"),"",IF($K20="","",$K20-TODAY()))) | O20: =IF($A20="","",IF(OR($B20="",$D20="",$E20="",$F20="",$G20="",$H20="",$I20="",$J20="",$K20=""),"Review missing required field",IF(COUNTIF($A$4:$A$203,$A20)>1,"Review duplicate bill ID",IF(COUNTIFS($D$4:$D$203,$D20,$F$4:$F$203,$F20)>1,"Review possible duplicate invoice",IF(AND($J20="Paid",$L20=""),"Review missing paid date",IF(AND($J20<>"Paid",$L20<>""),"Review payment status",IF(AND($J20="Paid",$I20<>"Approved"),"Review paid approval status",IF(AND($J20="Scheduled",$I20<>"Approved"),"Review approval before scheduling",IF(AND($I20="Rejected",$J20<>"Void"),"Review rejected bill status",IF(AND($J20<>"Paid",$J20<>"Void",$K20<TODAY()),"Past due",IF(AND($J20<>"Paid",$J20<>"Void",$K20<=TODAY()+IF(Assumptions!$J$4="",7,Assumptions!$J$4)),"Due within review window",IF(AND(Assumptions!$J$5<>"",$G20>Assumptions!$J$5),"Review amount above threshold",IF($I20="Pending Review","Approval pending",""))))))))))))) | Q20: ="" | R20: ="" | S20: ="" | T20: ="" | U20: =""
N21: =IF($A21="","",IF(OR($J21="Paid",$J21="Void"),"",IF($K21="","",$K21-TODAY()))) | O21: =IF($A21="","",IF(OR($B21="",$D21="",$E21="",$F21="",$G21="",$H21="",$I21="",$J21="",$K21=""),"Review missing required field",IF(COUNTIF($A$4:$A$203,$A21)>1,"Review duplicate bill ID",IF(COUNTIFS($D$4:$D$203,$D21,$F$4:$F$203,$F21)>1,"Review possible duplicate invoice",IF(AND($J21="Paid",$L21=""),"Review missing paid date",IF(AND($J21<>"Paid",$L21<>""),"Review payment status",IF(AND($J21="Paid",$I21<>"Approved"),"Review paid approval status",IF(AND($J21="Scheduled",$I21<>"Approved"),"Review approval before scheduling",IF(AND($I21="Rejected",$J21<>"Void"),"Review rejected bill status",IF(AND($J21<>"Paid",$J21<>"Void",$K21<TODAY()),"Past due",IF(AND($J21<>"Paid",$J21<>"Void",$K21<=TODAY()+IF(Assumptions!$J$4="",7,Assumptions!$J$4)),"Due within review window",IF(AND(Assumptions!$J$5<>"",$G21>Assumptions!$J$5),"Review amount above threshold",IF($I21="Pending Review","Approval pending",""))))))))))))) | Q21: ="" | R21: ="" | S21: ="" | T21: ="" | U21: =""
N22: =IF($A22="","",IF(OR($J22="Paid",$J22="Void"),"",IF($K22="","",$K22-TODAY()))) | O22: =IF($A22="","",IF(OR($B22="",$D22="",$E22="",$F22="",$G22="",$H22="",$I22="",$J22="",$K22=""),"Review missing required field",IF(COUNTIF($A$4:$A$203,$A22)>1,"Review duplicate bill ID",IF(COUNTIFS($D$4:$D$203,$D22,$F$4:$F$203,$F22)>1,"Review possible duplicate invoice",IF(AND($J22="Paid",$L22=""),"Review missing paid date",IF(AND($J22<>"Paid",$L22<>""),"Review payment status",IF(AND($J22="Paid",$I22<>"Approved"),"Review paid approval status",IF(AND($J22="Scheduled",$I22<>"Approved"),"Review approval before scheduling",IF(AND($I22="Rejected",$J22<>"Void"),"Review rejected bill status",IF(AND($J22<>"Paid",$J22<>"Void",$K22<TODAY()),"Past due",IF(AND($J22<>"Paid",$J22<>"Void",$K22<=TODAY()+IF(Assumptions!$J$4="",7,Assumptions!$J$4)),"Due within review window",IF(AND(Assumptions!$J$5<>"",$G22>Assumptions!$J$5),"Review amount above threshold",IF($I22="Pending Review","Approval pending",""))))))))))))) | Q22: ="" | R22: ="" | S22: ="" | T22: ="" | U22: =""
N23: =IF($A23="","",IF(OR($J23="Paid",$J23="Void"),"",IF($K23="","",$K23-TODAY()))) | O23: =IF($A23="","",IF(OR($B23="",$D23="",$E23="",$F23="",$G23="",$H23="",$I23="",$J23="",$K23=""),"Review missing required field",IF(COUNTIF($A$4:$A$203,$A23)>1,"Review duplicate bill ID",IF(COUNTIFS($D$4:$D$203,$D23,$F$4:$F$203,$F23)>1,"Review possible duplicate invoice",IF(AND($J23="Paid",$L23=""),"Review missing paid date",IF(AND($J23<>"Paid",$L23<>""),"Review payment status",IF(AND($J23="Paid",$I23<>"Approved"),"Review paid approval status",IF(AND($J23="Scheduled",$I23<>"Approved"),"Review approval before scheduling",IF(AND($I23="Rejected",$J23<>"Void"),"Review rejected bill status",IF(AND($J23<>"Paid",$J23<>"Void",$K23<TODAY()),"Past due",IF(AND($J23<>"Paid",$J23<>"Void",$K23<=TODAY()+IF(Assumptions!$J$4="",7,Assumptions!$J$4)),"Due within review window",IF(AND(Assumptions!$J$5<>"",$G23>Assumptions!$J$5),"Review amount above threshold",IF($I23="Pending Review","Approval pending",""))))))))))))) | Q23: ="" | R23: ="" | S23: ="" | T23: ="" | U23: =""
N24: =IF($A24="","",IF(OR($J24="Paid",$J24="Void"),"",IF($K24="","",$K24-TODAY()))) | O24: =IF($A24="","",IF(OR($B24="",$D24="",$E24="",$F24="",$G24="",$H24="",$I24="",$J24="",$K24=""),"Review missing required field",IF(COUNTIF($A$4:$A$203,$A24)>1,"Review duplicate bill ID",IF(COUNTIFS($D$4:$D$203,$D24,$F$4:$F$203,$F24)>1,"Review possible duplicate invoice",IF(AND($J24="Paid",$L24=""),"Review missing paid date",IF(AND($J24<>"Paid",$L24<>""),"Review payment status",IF(AND($J24="Paid",$I24<>"Approved"),"Review paid approval status",IF(AND($J24="Scheduled",$I24<>"Approved"),"Review approval before scheduling",IF(AND($I24="Rejected",$J24<>"Void"),"Review rejected bill status",IF(AND($J24<>"Paid",$J24<>"Void",$K24<TODAY()),"Past due",IF(AND($J24<>"Paid",$J24<>"Void",$K24<=TODAY()+IF(Assumptions!$J$4="",7,Assumptions!$J$4)),"Due within review window",IF(AND(Assumptions!$J$5<>"",$G24>Assumptions!$J$5),"Review amount above threshold",IF($I24="Pending Review","Approval pending",""))))))))))))) | Q24: ="" | R24: ="" | S24: ="" | T24: ="" | U24: =""
N25: =IF($A25="","",IF(OR($J25="Paid",$J25="Void"),"",IF($K25="","",$K25-TODAY()))) | O25: =IF($A25="","",IF(OR($B25="",$D25="",$E25="",$F25="",$G25="",$H25="",$I25="",$J25="",$K25=""),"Review missing required field",IF(COUNTIF($A$4:$A$203,$A25)>1,"Review duplicate bill ID",IF(COUNTIFS($D$4:$D$203,$D25,$F$4:$F$203,$F25)>1,"Review possible duplicate invoice",IF(AND($J25="Paid",$L25=""),"Review missing paid date",IF(AND($J25<>"Paid",$L25<>""),"Review payment status",IF(AND($J25="Paid",$I25<>"Approved"),"Review paid approval status",IF(AND($J25="Scheduled",$I25<>"Approved"),"Review approval before scheduling",IF(AND($I25="Rejected",$J25<>"Void"),"Review rejected bill status",IF(AND($J25<>"Paid",$J25<>"Void",$K25<TODAY()),"Past due",IF(AND($J25<>"Paid",$J25<>"Void",$K25<=TODAY()+IF(Assumptions!$J$4="",7,Assumptions!$J$4)),"Due within review window",IF(AND(Assumptions!$J$5<>"",$G25>Assumptions!$J$5),"Review amount above threshold",IF($I25="Pending Review","Approval pending",""))))))))))))) | Q25: ="" | R25: ="" | S25: ="" | T25: ="" | U25: =""
... N203: =IF($A203="","",IF(OR($J203="Paid",$J203="Void"),"",IF($K203="","",$K203-TODAY()))) | O203: =IF($A203="","",IF(OR($B203="",$D203="",$E203="",$F203="",$G203="",$H203="",$I203="",$J203="",$K203=""),"Review missing required field",IF(COUNTIF($A$4:$A$203,$A203)>1,"Review duplicate bill ID",IF(COUNTIFS($D$4:$D$203,$D203,$F$4:$F$203,$F203)>1,"Review possible duplicate invoice",IF(AND($J203="Paid",$L203=""),"Review missing paid date",IF(AND($J203<>"Paid",$L203<>""),"Review payment status",IF(AND($J203="Paid",$I203<>"Approved"),"Review paid approval status",IF(AND($J203="Scheduled",$I203<>"Approved"),"Review approval before scheduling",IF(AND($I203="Rejected",$J203<>"Void"),"Review rejected bill status",IF(AND($J203<>"Paid",$J203<>"Void",$K203<TODAY()),"Past due",IF(AND($J203<>"Paid",$J203<>"Void",$K203<=TODAY()+IF(Assumptions!$J$4="",7,Assumptions!$J$4)),"Due within review window",IF(AND(Assumptions!$J$5<>"",$G203>Assumptions!$J$5),"Review amount above threshold",IF($I203="Pending Review","Approval pending",""))))))))))))) | Q203: ="" | R203: ="" | S203: ="" | T203: ="" | U203: =""

Sheet Assumptions
A1: Accounts Payable Assumptions
A2: Edit yellow cells to maintain facility, owner, status, and review options used by the Bills sheet.
A3: Facility Options | C3: Approval Owner Options | E3: Approval Status Options | G3: Payment Status Options | I3: Review Limit | J3: Value
A4: Cedar Harbor Storage (Fictional) | C4: Jordan Example (Fictional) | E4: Pending Review | G4: Unpaid | I4: Upcoming due review window (days) | J4: 7
A5: Mesa Lantern Storage (Fictional) | C5: Casey Sample (Fictional) | E5: Approved | G5: Scheduled | I5: Large bill review amount | J5: 5000
A6: Pine Kite Storage (Fictional) | C6: Morgan Demo (Fictional) | E6: Rejected | G6: On Hold | I6: Maximum allowed amount entry | J6: 1000000
A7: Bluebird Lockup (Fictional) | C7: Riley Placeholder (Fictional) | G7: Paid | I7: Earliest allowed record date | J7: 36526
G8: Void | I8: Latest allowed record date | J8: 48213
A11: Use Note
A12: All facilities, vendors, units, owners, and bill records in this workbook are fictional examples.
A13: Warnings request human review only. This workbook does not issue payments, notices, or approvals.
